Uber Exif Photo
By-line : Jay Seeley
Keywords : Glacier National Park
Copyright Notice : (C) JAY R SEELEY
Make : NIKON CORPORATION
Camera Model Name : NIKON D300
Orientation : Horizontal (normal)
Software : Adobe Photoshop Elements 8.0 Macintosh
Modify Date : 2011:07:21 11:19:39
Artist : Jay Seeley
Copyright : (C) JAY R SEELEY
F Number : 8.0
Exposure Program : Manual
ISO : 200
Date/Time Original : 2011:06:13 05:38:08
Aperture Value : 8.0
Max Aperture Value : 2.8
Subject Distance : 4294967295 m
Metering Mode : Multi-segment
Light Source : Unknown
Focal Length : 21.0 mm
Color Space : Uncalibrated
Exif Image Width : 2500
Exif Image Height : 1587
Sensing Method : One-chip color area
Exposure Mode : Manual
White Balance : Auto
Digital Zoom Ratio : 1
Focal Length In 35mm Format : 31 mm
Scene Capture Type : Standard
Gain Control : None
Contrast : Normal
Saturation : Normal
Sharpness : Hard
Subject Distance Range : Unknown
Profile Description : Adobe RGB (1998)
Approximate Focus Distance : 4294967295
Lens : 14.0-24.0 mm f/2.8
Lens Info : 14-24mm f/2.8
Serial Number : 3171419
Creator Tool : Adobe Photoshop Lightroom 3.4.1
Create Date : 2011:06:13 05:38:08-04:00
Date Created : 2011:06:13
Color Mode : RGB
ICC Profile Name : Adobe RGB (1998)
Version : 6.4.1
Process Version : 5.7
Incremental Temperature : 0
Incremental Tint : 0
Exposure : +0.10
Shadows : 0
Brightness : 0
Luminance Smoothing : 28
Color Noise Reduction : 0
Chromatic Aberration R : 0
Chromatic Aberration B : 0
Vignette Amount : 0
Shadow Tint : 0
Red Hue : 0
Red Saturation : 0
Green Hue : 0
Green Saturation : 0
Blue Hue : 0
Blue Saturation : 0
Fill Light : 0
Vibrance : +30
Highlight Recovery : 0
Clarity : +25
Defringe : 0
Hue Adjustment Red : 0
Hue Adjustment Orange : 0
Hue Adjustment Yellow : 0
Hue Adjustment Green : 0
Hue Adjustment Aqua : 0
Hue Adjustment Blue : 0
Hue Adjustment Purple : 0
Hue Adjustment Magenta : 0
Saturation Adjustment Red : 0
Saturation Adjustment Orange : 0
Saturation Adjustment Yellow : 0
Saturation Adjustment Green : 0
Saturation Adjustment Aqua : 0
Saturation Adjustment Blue : 0
Saturation Adjustment Purple : 0
Saturation Adjustment Magenta : 0
Luminance Adjustment Red : 0
Luminance Adjustment Orange : 0
Luminance Adjustment Yellow : 0
Luminance Adjustment Green : 0
Luminance Adjustment Aqua : 0
Luminance Adjustment Blue : 0
Luminance Adjustment Purple : 0
Luminance Adjustment Magenta : 0
Split Toning Shadow Hue : 0
Split Toning Shadow Saturation : 0
Split Toning Highlight Hue : 0
Split Toning Highlight Saturation : 0
Split Toning Balance : 0
Parametric Shadows : 0
Parametric Darks : 0
Parametric Lights : 0
Parametric Highlights : 0
Parametric Shadow Split : 25
Parametric Midtone Split : 50
Parametric Highlight Split : 75
Sharpen Radius : +1.0
Sharpen Detail : 25
Sharpen Edge Masking : 0
Post Crop Vignette Amount : 0
Grain Amount : 0
Luminance Noise Reduction Detail : 50
Luminance Noise Reduction Contrast : 0
Lens Profile Enable : 0
Lens Manual Distortion Amount : 0
Perspective Vertical : 0
Perspective Horizontal : 0
Perspective Rotate : 0.0
Perspective Scale : 100
Convert To Grayscale : False
Tone Curve Name : Custom
Camera Profile : Embedded
Lens Profile Setup : LensDefaults
Has Settings : True
Crop Top : 0.020037
Crop Left : 0.025795
Crop Bottom : 0.980616
Crop Right : 0.986374
Crop Angle : 0
Crop Constrain To Warp : 0
Has Crop : True
Already Applied : False
Raw File Name : JRS_8664_HDR.jpg
Format : image/jpeg
Tone Curve : 0, 0, 81, 86, 168, 193, 255, 255
Creator City : Imperial
Creator Country : USA
Creator Address : 302 Pappan Dr
Creator Postal Code : 15126
Creator Region : Pa
Creator Work Email : [email protected]
Creator Work Telephone : 480-577-6623
Creator Work URL : A-J IMAGES
Creator : Jay Seeley
Rights : (C) JAY R SEELEY
Subject : Glacier National Park
Hierarchical Subject : Glacier National Park
Flash Fired : False
Flash Return : No return detection
Flash Mode : Unknown
Flash Function : False
Flash Red Eye Mode : False
Image Width : 300
Image Height : 191
Bits Per Sample : 8
Color Components : 3
Aperture : 8.0
Image Size : 300x191
Megapixels : 0.057
Scale Factor To 35 mm Equivalent : 1.5
Flash : No Flash
Circle Of Confusion : 0.020 mm
Depth Of Field : inf (2.71 m - inf)
Field Of View : 60.3 deg
Focal Length : 21.0 mm (35 mm equivalent: 31.0 mm)
Hyperfocal Distance : 2.71 m
Lens ID : AF-S Zoom-Nikkor 14-24mm f/2.8G ED