Uber Exif Photo
Photometric Interpretation : RGB
Make : FUJIFILM
Camera Model Name : X-H1
Orientation : Horizontal (normal)
Samples Per Pixel : 3
Software : Adobe Photoshop 24.4 (Windows)
Modify Date : 2023:05:09 21:53:52
Artist : JOHN ANGARONI
Copyright : JOHN ANGARONI
Exposure Time : 1/13
F Number : 1.0
Exposure Program : Aperture-priority AE
ISO : 6400
Sensitivity Type : Standard Output Sensitivity
Date/Time Original : 2023:05:09 20:23:15
Create Date : 2023:05:09 20:23:15
Shutter Speed Value : 1/13
Aperture Value : 1.0
Brightness Value : -8.48
Exposure Compensation : -2.33
Metering Mode : Multi-segment
Light Source : Unknown
Flash : No Flash
Focal Length : 58.0 mm
Color Space : Uncalibrated
Exif Image Width : 1200
Exif Image Height : 1800
Sensing Method : One-chip color area
Scene Type : Directly photographed
Custom Rendered : Normal
Exposure Mode : Auto
White Balance : Auto
Focal Length In 35mm Format : 87 mm
Scene Capture Type : Standard
Sharpness : Soft
Subject Distance Range : Unknown
Serial Number : 82A52229
Lens Info : 58mm f/?
Lens Model : 58.0 mm
By-line : JOHN ANGARONI
Copyright Notice : JOHN ANGARONI
Creator Tool : Adobe Photoshop Lightroom Classic 12.3 (Windows)
Fuji Rating Already Applied : True
Lens : 58.0 mm
Lateral Chromatic Aberration Correction Already Applied : True
Format : image/jpeg
Date Created : 2023:05:09 20:23:15
Color Mode : RGB
ICC Profile Name : Adobe RGB (1998)
Preserved File Name : JRA16575.RAF
Raw File Name : JRA16575.RAF
Version : 15.3
Process Version : 11.0
Color Temperature : 4200
Tint : +46
Exposure 2012 : 0.00
Contrast 2012 : 0
Highlights 2012 : -9
Shadows 2012 : +30
Whites 2012 : -32
Blacks 2012 : +33
Texture : 0
Clarity 2012 : +5
Dehaze : 0
Parametric Shadows : 0
Parametric Darks : 0
Parametric Lights : 0
Parametric Highlights : 0
Parametric Shadow Split : 25
Parametric Midtone Split : 50
Parametric Highlight Split : 75
Sharpen Radius : +1.0
Sharpen Detail : 25
Sharpen Edge Masking : 0
Luminance Smoothing : 0
Color Noise Reduction : 25
Color Noise Reduction Detail : 50
Color Noise Reduction Smoothness : 50
Split Toning Shadow Hue : 0
Split Toning Shadow Saturation : 0
Split Toning Highlight Hue : 0
Split Toning Highlight Saturation : 0
Split Toning Balance : 0
Color Grade Midtone Hue : 0
Color Grade Midtone Sat : 0
Color Grade Shadow Lum : 0
Color Grade Midtone Lum : 0
Color Grade Highlight Lum : 0
Color Grade Blending : 50
Color Grade Global Hue : 0
Color Grade Global Sat : 0
Color Grade Global Lum : 0
Auto Lateral CA : 1
Lens Profile Enable : 0
Lens Manual Distortion Amount : 0
Vignette Amount : 0
Perspective Upright : Off
Perspective Vertical : 0
Perspective Horizontal : 0
Perspective Rotate : 0.0
Perspective Aspect : 0
Perspective Scale : 100
Perspective X : 0.00
Perspective Y : 0.00
Grain Amount : 0
Post Crop Vignette Amount : 0
Shadow Tint : 0
Red Hue : 0
Red Saturation : 0
Green Hue : 0
Green Saturation : 0
Blue Hue : 0
Blue Saturation : 0
Convert To Grayscale : True
Override Look Vignette : False
Tone Curve Name 2012 : Linear
Camera Profile : Camera ACROS+R FILTER
Has Settings : True
Crop Top : 0
Crop Left : 0
Crop Bottom : 1
Crop Right : 1
Crop Angle : 0
Crop Constrain To Warp : 0
Has Crop : False
Already Applied : True
Creator : JOHN ANGARONI
Rights : JOHN ANGARONI
Tone Curve PV2012 : 0, 0, 255, 255
Tone Curve PV2012 Red : 0, 0, 255, 255
Tone Curve PV2012 Green : 0, 0, 255, 255
Tone Curve PV2012 Blue : 0, 0, 255, 255
Profile Description : Adobe RGB (1998)
Image Width : 267
Image Height : 400
Bits Per Sample : 8
Color Components : 3
Aperture : 1.0
Image Size : 267x400
Megapixels : 0.107
Scale Factor To 35 mm Equivalent : 1.5
Shutter Speed : 1/13
Modify Date : 2023:05:09 21:53:52-04:00
Circle Of Confusion : 0.020 mm
Field Of View : 23.4 deg
Focal Length : 58.0 mm (35 mm equivalent: 87.0 mm)
Hyperfocal Distance : 167.94 m
Light Value : -2.3
Lens ID : 58.0mm