Uber Exif Photo
Make : SONY
Camera Model Name : ILCE-7RM3
Software : Adobe Photoshop Lightroom Classic 10.1.1 (Windows)
Modify Date : 2021:01:27 19:00:08
Exposure Time : 1/3200
F Number : 2.8
Exposure Program : Aperture-priority AE
ISO : 100
Sensitivity Type : Recommended Exposure Index
Recommended Exposure Index : 100
Date/Time Original : 2021:01:27 11:27:25
Create Date : 2021:01:27 11:27:25
Shutter Speed Value : 1/3200
Aperture Value : 2.8
Brightness Value : 10.8765625
Exposure Compensation : 0
Max Aperture Value : 2.8
Metering Mode : Multi-segment
Light Source : Daylight
Flash : Off, Did not fire
Focal Length : 135.0 mm
Color Space : sRGB
Scene Type : Directly photographed
Custom Rendered : Normal
Exposure Mode : Auto
White Balance : Manual
Digital Zoom Ratio : 1
Focal Length In 35mm Format : 135 mm
Scene Capture Type : Standard
Contrast : Normal
Saturation : Normal
Sharpness : Normal
Lens Info : 135mm f/2.8
Lens Model : ZEISS Batis 2.8/135
Profile Description : sRGB IEC61966-2.1
Creator Tool : Adobe Photoshop Lightroom Classic 10.1.1 (Windows)
Lens : ZEISS Batis 2.8/135
Lens Distort Info : 1054561936/1073741824 24629644/1073741824 -4049179/1073741824 -1433999/1073741824
Lateral Chromatic Aberration Correction Already Applied : True
Date Created : 2021:01:27 11:27:25+03:00
Preserved File Name : DSC06454.ARW
Format : image/jpeg
Raw File Name : DSC06454.ARW
Version : 13.1
Process Version : 11.0
Color Temperature : 5050
Tint : +10
Exposure 2012 : 0.00
Contrast 2012 : -8
Highlights 2012 : -56
Shadows 2012 : +35
Whites 2012 : +45
Blacks 2012 : -41
Texture : +18
Clarity 2012 : +23
Dehaze : +25
Parametric Shadows : 0
Parametric Darks : 0
Parametric Lights : 0
Parametric Highlights : 0
Parametric Shadow Split : 25
Parametric Midtone Split : 50
Parametric Highlight Split : 75
Sharpen Radius : +1.0
Sharpen Detail : 25
Sharpen Edge Masking : 0
Luminance Smoothing : 0
Color Noise Reduction : 25
Color Noise Reduction Detail : 50
Color Noise Reduction Smoothness : 50
Gray Mixer Red : -12
Gray Mixer Orange : -21
Gray Mixer Yellow : -25
Gray Mixer Green : -28
Gray Mixer Aqua : -15
Gray Mixer Blue : +14
Gray Mixer Purple : +18
Gray Mixer Magenta : +3
Split Toning Shadow Hue : 0
Split Toning Shadow Saturation : 0
Split Toning Highlight Hue : 218
Split Toning Highlight Saturation : 18
Split Toning Balance : 0
Color Grade Midtone Hue : 0
Color Grade Midtone Sat : 0
Color Grade Shadow Lum : 0
Color Grade Midtone Lum : 0
Color Grade Highlight Lum : 0
Color Grade Blending : 100
Color Grade Global Hue : 0
Color Grade Global Sat : 0
Color Grade Global Lum : 0
Auto Lateral CA : 0
Lens Profile Enable : 0
Lens Manual Distortion Amount : 0
Vignette Amount : 0
Perspective Upright : Off
Perspective Vertical : 0
Perspective Horizontal : 0
Perspective Rotate : 0.0
Perspective Aspect : 0
Perspective Scale : 100
Perspective X : 0.00
Perspective Y : 0.00
Grain Amount : 0
Post Crop Vignette Amount : 0
Shadow Tint : 0
Red Hue : 0
Red Saturation : 0
Green Hue : 0
Green Saturation : 0
Blue Hue : 0
Blue Saturation : 0
Convert To Grayscale : True
Override Look Vignette : False
Tone Curve Name 2012 : Linear
Camera Profile : Adobe Standard
Has Settings : True
Crop Top : 0.096773
Crop Left : 0.120557
Crop Bottom : 0.923925
Crop Right : 0.989556
Crop Angle : -1.29262
Crop Constrain To Warp : 0
Has Crop : True
Already Applied : True
Tone Curve PV2012 : 0, 0, 255, 255
Tone Curve PV2012 Red : 0, 0, 255, 255
Tone Curve PV2012 Green : 0, 0, 255, 255
Tone Curve PV2012 Blue : 0, 0, 255, 255
Image Width : 400
Image Height : 267
Bits Per Sample : 8
Color Components : 3
Aperture : 2.8
Image Size : 400x267
Megapixels : 0.107
Scale Factor To 35 mm Equivalent : 1.0
Shutter Speed : 1/3200
Create Date : 2021:01:27 11:27:25+03:00
Date/Time Original : 2021:01:27 11:27:25+03:00
Modify Date : 2021:01:27 19:00:08+02:00
Circle Of Confusion : 0.030 mm
Field Of View : 15.2 deg
Focal Length : 135.0 mm (35 mm equivalent: 135.0 mm)
Hyperfocal Distance : 216.63 m
Light Value : 14.6