Uber Exif Photo
Make : NIKON CORPORATION
Camera Model Name : NIKON D3S
Software : Ver.1.01
Modify Date : 2010:09:30 20:59:55
Exposure Time : 1/160
F Number : 2.8
Exposure Program : Aperture-priority AE
ISO : 200
Sensitivity Type : Unknown
Date/Time Original : 2010:09:30 12:41:20
Create Date : 2010:09:30 12:41:20
Shutter Speed Value : 1/160
Aperture Value : 2.8
Exposure Compensation : 0
Max Aperture Value : 1.4
Subject Distance : 2.37 m
Metering Mode : Multi-segment
Light Source : Unknown
Focal Length : 85.0 mm
Sensing Method : One-chip color area
Scene Type : Directly photographed
CFA Pattern : [Red,Green][Green,Blue]
Custom Rendered : Normal
Exposure Mode : Auto
White Balance : Auto
Digital Zoom Ratio : 1
Focal Length In 35mm Format : 85 mm
Scene Capture Type : Standard
Gain Control : None
Contrast : Normal
Saturation : Normal
Sharpness : Normal
Subject Distance Range : Unknown
Serial Number : 2028950
Lens Info : 85mm f/1.4
Lens Model : 85.0 mm f/1.4
Date/Time Digitized : 2010:09:30 12:41:20.38-07:00
Exif Image Width : 1500
Exif Image Height : 1020
Creator Tool : Adobe Photoshop Lightroom
Lens : 85.0 mm f/1.4
Image Number : 627
Approximate Focus Distance : 2.37
Version : 6.2
Process Version : 5.7
Color Temperature : 5000
Tint : +36
Exposure : +0.10
Shadows : 11
Brightness : +90
Luminance Smoothing : 0
Color Noise Reduction : 25
Chromatic Aberration R : 0
Chromatic Aberration B : 0
Vignette Amount : 0
Shadow Tint : 0
Red Hue : 0
Red Saturation : 0
Green Hue : 0
Green Saturation : 0
Blue Hue : 0
Blue Saturation : 0
Fill Light : 15
Highlight Recovery : 100
Clarity : +42
Defringe : 0
Gray Mixer Red : -14
Gray Mixer Orange : -17
Gray Mixer Yellow : -18
Gray Mixer Green : -18
Gray Mixer Aqua : -8
Gray Mixer Blue : +9
Gray Mixer Purple : +8
Gray Mixer Magenta : -5
Split Toning Shadow Hue : 0
Split Toning Shadow Saturation : 0
Split Toning Highlight Hue : 0
Split Toning Highlight Saturation : 0
Split Toning Balance : 0
Parametric Shadows : 0
Parametric Darks : 0
Parametric Lights : 0
Parametric Highlights : 0
Parametric Shadow Split : 25
Parametric Midtone Split : 50
Parametric Highlight Split : 75
Sharpen Radius : +1.0
Sharpen Detail : 25
Sharpen Edge Masking : 0
Post Crop Vignette Amount : -49
Post Crop Vignette Midpoint : 42
Post Crop Vignette Feather : 50
Post Crop Vignette Roundness : 0
Post Crop Vignette Style : Highlight Priority
Post Crop Vignette Highlight Contrast : 0
Grain Amount : 29
Grain Size : 28
Grain Frequency : 49
Color Noise Reduction Detail : 50
Lens Profile Enable : 0
Lens Manual Distortion Amount : 0
Perspective Vertical : 0
Perspective Horizontal : 0
Perspective Rotate : 0.0
Perspective Scale : 100
Convert To Grayscale : True
Tone Curve Name : Medium Contrast
Camera Profile : Adobe Standard
Lens Profile Setup : LensDefaults
Has Settings : True
Crop Top : 0
Crop Left : 0
Crop Bottom : 1
Crop Right : 0.978163
Crop Angle : 0
Crop Constrain To Warp : 0
Crop Width : 1500
Crop Height : 1020
Crop Unit : pixels
Has Crop : True
Already Applied : True
Flash Fired : False
Flash Return : No return detection
Flash Mode : Unknown
Flash Function : False
Flash Red Eye Mode : False
Tone Curve : 0, 0, 32, 22, 64, 56, 128, 128, 192, 196, 255, 255
Paint Correction What : Correction
Paint Correction Amount : 1.000000
Paint Correction Active : true
Paint Correction Exposure : -0.274510
Paint Correction Saturation : 0.000000
Paint Correction Contrast : 0.000000
Paint Correction Clarity : 0.000000
Paint Correction Sharpness : 0.000000
Paint Correction Brightness : 0.000000
Paint Correction Toning Hue : 358.000000
Paint Correction Toning Saturation : 0.000000
Paint Correction Mask What : Mask/Paint
Paint Correction Mask Value : 0.682171
Paint Correction Mask Radius : 0.121334
Paint Correction Mask Flow : 0.701544
Paint Correction Mask Center Weight : 0.000000
Image Width : 300
Image Height : 204
Bits Per Sample : 8
Color Components : 1
Aperture : 2.8
Image Size : 300x204
Megapixels : 0.061
Scale Factor To 35 mm Equivalent : 1.0
Shutter Speed : 1/160
Create Date : 2010:09:30 12:41:20.38
Date/Time Original : 2010:09:30 12:41:20.38
Flash : No Flash
Circle Of Confusion : 0.030 mm
Depth Of Field : 0.13 m (2.31 - 2.43 m)
Field Of View : 23.9 deg
Focal Length : 85.0 mm (35 mm equivalent: 85.0 mm)
Hyperfocal Distance : 85.88 m
Light Value : 9.3
Lens ID : AF-S Nikkor 85mm f/1.4G