Uber Exif Photo
By-line : Rodolfo Gouveia
Copyright Notice : RodolfoGouveia|2010
Copyright Flag : True
Make : NIKON CORPORATION
Camera Model Name : NIKON D300
Software : Ver.1.10
Modify Date : 2010:06:03 22:26:08
Artist : Rodolfo Gouveia
Copyright : RodolfoGouveia|2010
Exposure Time : 1/1600
F Number : 1.8
Exposure Program : Aperture-priority AE
ISO : 200
Date/Time Original : 2010:06:01 18:45:40
Create Date : 2010:06:01 18:45:40
Shutter Speed Value : 1/1600
Aperture Value : 1.8
Exposure Compensation : 0
Max Aperture Value : 1.7
Subject Distance : 0.3 m
Metering Mode : Spot
Light Source : Unknown
Focal Length : 35.0 mm
Sensing Method : One-chip color area
Scene Type : Directly photographed
CFA Pattern : [Red,Green][Green,Blue]
Custom Rendered : Normal
Exposure Mode : Auto
White Balance : Auto
Digital Zoom Ratio : 1
Focal Length In 35mm Format : 52 mm
Scene Capture Type : Landscape
Gain Control : None
Contrast : Normal
Saturation : Normal
Sharpness : Normal
Subject Distance Range : Unknown
Profile Description : sRGB IEC61966-2.1
Date/Time Digitized : 2010:06:01 18:45:40.00+01:00
Exif Image Width : 800
Exif Image Height : 531
Creator Tool : Adobe Photoshop Lightroom
Serial Number : 4093414
Lens Info : 35mm f/1.8
Lens : 35.0 mm f/1.8
Image Number : 39269
Marked : True
Version : 5.7
Color Temperature : 4500
Tint : +4
Exposure : 0.00
Shadows : 5
Brightness : +50
Luminance Smoothing : 0
Color Noise Reduction : 25
Chromatic Aberration R : 0
Chromatic Aberration B : 0
Vignette Amount : 0
Shadow Tint : 0
Red Hue : 0
Red Saturation : 0
Green Hue : 0
Green Saturation : 0
Blue Hue : 0
Blue Saturation : 0
Fill Light : 0
Vibrance : 0
Highlight Recovery : 0
Clarity : +100
Defringe : 0
Hue Adjustment Red : 0
Hue Adjustment Orange : 0
Hue Adjustment Yellow : 0
Hue Adjustment Green : 0
Hue Adjustment Aqua : 0
Hue Adjustment Blue : 0
Hue Adjustment Purple : 0
Hue Adjustment Magenta : 0
Saturation Adjustment Red : 0
Saturation Adjustment Orange : 0
Saturation Adjustment Yellow : 0
Saturation Adjustment Green : 0
Saturation Adjustment Aqua : 0
Saturation Adjustment Blue : 0
Saturation Adjustment Purple : 0
Saturation Adjustment Magenta : 0
Luminance Adjustment Red : 0
Luminance Adjustment Orange : 0
Luminance Adjustment Yellow : 0
Luminance Adjustment Green : 0
Luminance Adjustment Aqua : 0
Luminance Adjustment Blue : 0
Luminance Adjustment Purple : 0
Luminance Adjustment Magenta : 0
Split Toning Shadow Hue : 0
Split Toning Shadow Saturation : 0
Split Toning Highlight Hue : 0
Split Toning Highlight Saturation : 0
Split Toning Balance : 0
Parametric Shadows : -30
Parametric Darks : -15
Parametric Lights : +15
Parametric Highlights : +8
Parametric Shadow Split : 25
Parametric Midtone Split : 50
Parametric Highlight Split : 75
Sharpen Radius : +1.0
Sharpen Detail : 25
Sharpen Edge Masking : 0
Post Crop Vignette Amount : -41
Post Crop Vignette Midpoint : 40
Post Crop Vignette Feather : 100
Post Crop Vignette Roundness : +5
Convert To Grayscale : False
Tone Curve Name : Medium Contrast
Camera Profile : Adobe Standard
Has Settings : True
Has Crop : False
Already Applied : True
Flash Fired : False
Flash Return : No return detection
Flash Mode : Unknown
Flash Function : False
Flash Red Eye Mode : False
Creator : Rodolfo Gouveia
Rights : RodolfoGouveia|2010
Tone Curve : 0, 0, 32, 22, 64, 56, 128, 128, 192, 196, 255, 255
Paint Correction What : Correction
Paint Correction Amount : 1.000000
Paint Correction Active : true
Paint Correction Exposure : 0.000000
Paint Correction Saturation : 0.000000
Paint Correction Contrast : 0.000000
Paint Correction Clarity : 0.000000
Paint Correction Sharpness : 0.000000
Paint Correction Brightness : -0.186000
Paint Correction Toning Hue : 0.000000
Paint Correction Toning Saturation : 0.000000
Paint Correction Mask What : Mask/Paint
Paint Correction Mask Value : 1.000000
Paint Correction Mask Radius : 0.143327
Paint Correction Mask Flow : 1.000000
Paint Correction Mask Center Weight : 0.000000
Gradient Based Corr What : Correction
Gradient Based Corr Amount : 1.000000
Gradient Based Corr Active : true
Gradient Based Corr Exposure : 0.000000
Gradient Based Corr Saturation : 0.000000
Gradient Based Corr Contrast : 0.000000
Gradient Based Corr Clarity : 0.000000
Gradient Based Corr Sharpness : 0.250000
Gradient Based Corr Brightness : 0.000000
Gradient Based Corr Toning Hue : 0.000000
Gradient Based Corr Toning Saturation : 0.000000
Gradient Based Corr Mask What : Mask/Gradient
Gradient Based Corr Mask Value : 1.000000
Gradient Based Corr Mask Zero X : 0.540582
Gradient Based Corr Mask Zero Y : 0.912443
Gradient Based Corr Mask Full X : 0.539051
Gradient Based Corr Mask Full Y : 0.101383
Image Width : 300
Image Height : 199
Bits Per Sample : 8
Color Components : 3
Aperture : 1.8
Image Size : 300x199
Megapixels : 0.060
Scale Factor To 35 mm Equivalent : 1.5
Shutter Speed : 1/1600
Create Date : 2010:06:01 18:45:40.00
Date/Time Original : 2010:06:01 18:45:40.00
Flash : No Flash
Circle Of Confusion : 0.020 mm
Depth Of Field : 0.005 m (0.298 - 0.302 m)
Field Of View : 38.2 deg
Focal Length : 35.0 mm (35 mm equivalent: 52.0 mm)
Hyperfocal Distance : 33.65 m
Light Value : 11.3
Lens ID : AF-S DX Nikkor 35mm f/1.8G