Uber Exif Photo
Keywords : stad, storm
By-line : RONNY SOLHEIM
Copyright Notice : RONNY SOLHEIM
Copyright Flag : False
Make : NIKON CORPORATION
Camera Model Name : NIKON D300S
Software : Adobe Photoshop Lightroom
Modify Date : 2010:10:31 23:09:07
Artist : RONNY SOLHEIM
Copyright : RONNY SOLHEIM
Exposure Time : 1/1250
F Number : 6.3
Exposure Program : Aperture-priority AE
ISO : 100
Sensitivity Type : Unknown
Date/Time Original : 2010:10:27 14:42:03
Create Date : 2010:10:27 14:42:03
Shutter Speed Value : 1/1250
Aperture Value : 6.3
Exposure Compensation : -1
Max Aperture Value : 2.8
Subject Distance : 4294967295 m
Metering Mode : Multi-segment
Light Source : Unknown
Focal Length : 70.0 mm
Sensing Method : One-chip color area
Scene Type : Directly photographed
CFA Pattern : [Red,Green][Green,Blue]
Custom Rendered : Normal
Exposure Mode : Auto
White Balance : Auto
Digital Zoom Ratio : 1
Focal Length In 35mm Format : 105 mm
Scene Capture Type : Standard
Gain Control : None
Contrast : Normal
Saturation : Normal
Sharpness : Hard
Subject Distance Range : Unknown
Serial Number : 6041131
Lens Info : 70-200mm f/2.8
Lens Model : 70.0-200.0 mm f/2.8
Exif Image Height : 500
Exif Image Width : 354
Date/Time Digitized : 2010:10:27 14:42:03.24+02:00
Creator Tool : Adobe Photoshop Lightroom
Approximate Focus Distance : 4294967295
Image Number : 25410
Lens : 70.0-200.0 mm f/2.8
Already Applied : True
Has Crop : True
Crop Unit : pixels
Crop Height : 354
Crop Width : 500
Crop Constrain To Warp : 0
Crop Angle : -1.60319
Crop Right : 0.983358
Crop Bottom : 0.954032
Crop Left : 0.075421
Crop Top : 0.042454
Has Settings : True
Lens Profile Setup : LensDefaults
Camera Profile : Adobe Standard
Tone Curve Name : Medium Contrast
Convert To Grayscale : True
Perspective Scale : 100
Perspective Rotate : 0.0
Perspective Horizontal : 0
Perspective Vertical : 0
Lens Manual Distortion Amount : 0
Lens Profile Enable : 0
Color Noise Reduction Detail : 50
Grain Amount : 0
Post Crop Vignette Highlight Contrast : 0
Post Crop Vignette Style : Highlight Priority
Post Crop Vignette Roundness : 0
Post Crop Vignette Feather : 50
Post Crop Vignette Midpoint : 50
Post Crop Vignette Amount : -17
Sharpen Edge Masking : 0
Sharpen Detail : 25
Sharpen Radius : +1.0
Parametric Highlight Split : 75
Parametric Midtone Split : 50
Parametric Shadow Split : 25
Parametric Highlights : +20
Parametric Lights : +5
Parametric Darks : -7
Parametric Shadows : -20
Split Toning Balance : 0
Split Toning Highlight Saturation : 0
Split Toning Highlight Hue : 0
Split Toning Shadow Saturation : 0
Split Toning Shadow Hue : 0
Gray Mixer Magenta : +4
Gray Mixer Purple : +14
Gray Mixer Blue : +7
Gray Mixer Aqua : -19
Gray Mixer Green : -26
Gray Mixer Yellow : -21
Gray Mixer Orange : -17
Gray Mixer Red : -8
Defringe : 0
Clarity : +33
Highlight Recovery : 0
Fill Light : 0
Blue Saturation : 0
Blue Hue : 0
Green Saturation : 0
Green Hue : 0
Red Saturation : 0
Red Hue : 0
Shadow Tint : 0
Vignette Amount : 0
Chromatic Aberration B : 0
Chromatic Aberration R : 0
Color Noise Reduction : 25
Luminance Smoothing : 0
Brightness : +50
Shadows : 10
Exposure : -0.05
Tint : +10
Color Temperature : 4950
Process Version : 5.7
Version : 6.2
Video Pixel Aspect Ratio : 1
Video Field Order : Progressive
Video Alpha Mode : Straight
Video Frame Rate : 0.000000
CFA Pattern Columns : 2
CFA Pattern Rows : 2
CFA Pattern Values : 0, 1, 1, 2
Flash Fired : False
Flash Return : No return detection
Flash Mode : Unknown
Flash Function : False
Flash Red Eye Mode : False
Tone Curve : 0, 0, 32, 22, 64, 56, 128, 128, 192, 196, 255, 255
Subject : stad, storm
Rights : RONNY SOLHEIM
Creator : RONNY SOLHEIM
Hierarchical Subject : stad, storm
Video Frame Size W : 354
Video Frame Size H : 500
Video Frame Size Unit : pixel
Image Width : 212
Image Height : 300
Bits Per Sample : 8
Color Components : 1
Aperture : 6.3
Image Size : 212x300
Megapixels : 0.064
Scale Factor To 35 mm Equivalent : 1.5
Shutter Speed : 1/1250
Create Date : 2010:10:27 14:42:03.24
Date/Time Original : 2010:10:27 14:42:03.24
Flash : No Flash
Circle Of Confusion : 0.020 mm
Depth Of Field : inf (38.83 m - inf)
Field Of View : 19.5 deg
Focal Length : 70.0 mm (35 mm equivalent: 105.0 mm)
Hyperfocal Distance : 38.83 m
Light Value : 15.6
Lens ID : Sigma 70-200mm F2.8 EX APO DG Macro HSM II