Uber Exif Photo
Keywords : .People I Know, Den Sorte Diamant, Female, Kikki Rosenkilde Schüsler, Models
By-line : Michael Nielsen
By-line Title : Photographer
Copyright Notice : Michael Nielsen, Photofolio.dk
Copyright Flag : True
URL : http://www.photofolio.dk/copyright/
Make : NIKON CORPORATION
Camera Model Name : NIKON D700
Software : Ver.1.02
Modify Date : 2010:11:09 00:48:41
Artist : Michael Nielsen
Copyright : Michael Nielsen, Photofolio.dk
Exposure Time : 1/160
F Number : 5.6
Exposure Program : Manual
ISO : 200
Sensitivity Type : Unknown
Date/Time Original : 2010:10:30 12:22:40
Create Date : 2010:10:30 12:22:40
Shutter Speed Value : 1/160
Aperture Value : 5.6
Exposure Compensation : +1
Max Aperture Value : 5.7
Subject Distance : 1.12 m
Metering Mode : Multi-segment
Light Source : Unknown
Focal Length : 110.0 mm
Sensing Method : One-chip color area
Scene Type : Directly photographed
CFA Pattern : [Red,Green][Green,Blue]
Custom Rendered : Normal
Exposure Mode : Manual
White Balance : Auto
Digital Zoom Ratio : 1
Focal Length In 35mm Format : 110 mm
Scene Capture Type : Standard
Gain Control : None
Contrast : Normal
Saturation : Normal
Sharpness : Normal
Subject Distance Range : Unknown
Serial Number : 2181973
Lens Info : 28-300mm f/3.5-6.3
Lens Model : 28.0-300.0 mm f/3.5-6.3
Profile Description : sRGB IEC61966-2.1
Date/Time Digitized : 2010:10:30 12:22:40.33+02:00
Exif Image Width : 619
Exif Image Height : 930
Creator Tool : Adobe Photoshop Lightroom
Label : Blue
Rating : 3
Lens : 28.0-300.0 mm f/3.5-6.3
Image Number : 52763
Approximate Focus Distance : 1.12
Marked : True
Web Statement : http://www.photofolio.dk/copyright/
Authors Position : Photographer
Version : 6.2
Process Version : 5.7
Color Temperature : 5500
Tint : +10
Exposure : -0.51
Shadows : 5
Brightness : +50
Luminance Smoothing : 5
Color Noise Reduction : 25
Chromatic Aberration R : 0
Chromatic Aberration B : 0
Vignette Amount : 0
Shadow Tint : 0
Red Hue : 0
Red Saturation : 0
Green Hue : 0
Green Saturation : 0
Blue Hue : 0
Blue Saturation : 0
Fill Light : 31
Vibrance : -20
Highlight Recovery : 0
Clarity : 0
Defringe : 0
Hue Adjustment Red : 0
Hue Adjustment Orange : 0
Hue Adjustment Yellow : 0
Hue Adjustment Green : 0
Hue Adjustment Aqua : 0
Hue Adjustment Blue : 0
Hue Adjustment Purple : 0
Hue Adjustment Magenta : 0
Saturation Adjustment Red : 0
Saturation Adjustment Orange : 0
Saturation Adjustment Yellow : 0
Saturation Adjustment Green : 0
Saturation Adjustment Aqua : 0
Saturation Adjustment Blue : 0
Saturation Adjustment Purple : 0
Saturation Adjustment Magenta : 0
Luminance Adjustment Red : 0
Luminance Adjustment Orange : 0
Luminance Adjustment Yellow : 0
Luminance Adjustment Green : 0
Luminance Adjustment Aqua : 0
Luminance Adjustment Blue : 0
Luminance Adjustment Purple : 0
Luminance Adjustment Magenta : 0
Split Toning Shadow Hue : 0
Split Toning Shadow Saturation : 0
Split Toning Highlight Hue : 0
Split Toning Highlight Saturation : 0
Split Toning Balance : 0
Parametric Shadows : 0
Parametric Darks : 0
Parametric Lights : 0
Parametric Highlights : 0
Parametric Shadow Split : 25
Parametric Midtone Split : 50
Parametric Highlight Split : 75
Sharpen Radius : +1.0
Sharpen Detail : 25
Sharpen Edge Masking : 0
Post Crop Vignette Amount : 0
Grain Amount : 0
Luminance Noise Reduction Detail : 50
Color Noise Reduction Detail : 50
Luminance Noise Reduction Contrast : 0
Lens Profile Enable : 1
Lens Manual Distortion Amount : 0
Perspective Vertical : 0
Perspective Horizontal : 0
Perspective Rotate : 0.0
Perspective Scale : 100
Convert To Grayscale : False
Tone Curve Name : Medium Contrast
Camera Profile : Camera Vivid
Lens Profile Setup : Custom
Lens Profile Name : Adobe (TAMRON 28-300mm F/3.5-6.3 Di A061N, NIKON CORPORATION)
Lens Profile Filename : NIKON CORPORATION (TAMRON 28-300mm F3.5-6.3 Di A061N) - RAW.lcp
Lens Profile Distortion Scale : 100
Lens Profile Chromatic Aberration Scale : 100
Lens Profile Vignetting Scale : 100
Has Settings : True
Has Crop : False
Already Applied : True
Flash Fired : False
Flash Return : No return detection
Flash Mode : Unknown
Flash Function : False
Flash Red Eye Mode : False
Creator : Michael Nielsen
Rights : Michael Nielsen, Photofolio.dk
Subject : .People I Know, Den Sorte Diamant, Female, Kikki Rosenkilde Schüsler, Models
Creator Postal Code : 2500
Creator Work Telephone : +45 27142387
Creator Region : Copenhagen
Creator City : Valby
Creator Country : Denmark
Creator Address : Lundsfrydvej 7
Creator Work Email : michael@photofolio.dk
Creator Work URL : http://www.photofolio.dk
Hierarchical Subject : .People I Know|Models|Female|Kikki Rosenkilde Schüsler, Den Sorte Diamant
Tone Curve : 0, 0, 32, 22, 64, 56, 128, 128, 192, 196, 255, 255
Image Width : 200
Image Height : 300
Bits Per Sample : 8
Color Components : 3
Aperture : 5.6
Image Size : 200x300
Megapixels : 0.060
Scale Factor To 35 mm Equivalent : 1.0
Shutter Speed : 1/160
Create Date : 2010:10:30 12:22:40.33
Date/Time Original : 2010:10:30 12:22:40.33
Flash : No Flash
Circle Of Confusion : 0.030 mm
Depth Of Field : 0.03 m (1.10 - 1.14 m)
Field Of View : 18.6 deg
Focal Length : 110.0 mm (35 mm equivalent: 110.0 mm)
Hyperfocal Distance : 71.91 m
Light Value : 11.3
Lens ID : Tamron AF 28-300mm f/3.5-6.3 XR Di VC LD Aspherical (IF) Macro (A20)