Uber Exif Photo
By-line : MICHAEL KIDMOSE
Copyright Notice : MICHAEL KIDMOSE
Copyright Flag : False
Make : NIKON CORPORATION
Camera Model Name : NIKON D300
Orientation : Horizontal (normal)
Software : Adobe Photoshop CS3 Windows
Modify Date : 2010:06:02 13:48:23
Artist : MICHAEL KIDMOSE
Copyright : MICHAEL KIDMOSE
Exposure Time : 1/125
F Number : 6.3
Exposure Program : Manual
ISO : 200
Date/Time Original : 2010:06:02 11:41:02
Create Date : 2010:06:02 11:41:02
Shutter Speed Value : 1/125
Aperture Value : 6.3
Exposure Compensation : -2/3
Max Aperture Value : 2.8
Metering Mode : Multi-segment
Light Source : Unknown
Focal Length : 105.0 mm
Color Space : Uncalibrated
Exif Image Width : 864
Exif Image Height : 1024
Sensing Method : One-chip color area
Scene Type : Directly photographed
CFA Pattern : [Red,Green][Green,Blue]
Custom Rendered : Normal
Exposure Mode : Manual
White Balance : Auto
Digital Zoom Ratio : 1
Focal Length In 35mm Format : 157 mm
Scene Capture Type : Standard
Gain Control : None
Contrast : Normal
Saturation : High
Sharpness : Hard
Subject Distance Range : Unknown
Date/Time Digitized : 2010:06:02 11:41:02.00+02:00
Creator Tool : Adobe Photoshop CS3 Windows
Serial Number : 4007166
Lens Info : 105mm f/2.8
Lens : 105.0 mm f/2.8
Image Number : 16039
Raw File Name : DSC_5674.NEF
Version : 4.6
Color Temperature : 5000
Tint : -8
Exposure : 0.00
Shadows : 5
Brightness : +50
Luminance Smoothing : 0
Color Noise Reduction : 25
Chromatic Aberration R : 0
Chromatic Aberration B : 0
Vignette Amount : 0
Shadow Tint : 0
Red Hue : 0
Red Saturation : 0
Green Hue : 0
Green Saturation : 0
Blue Hue : 0
Blue Saturation : 0
Fill Light : 0
Vibrance : 0
Highlight Recovery : 24
Clarity : 0
Defringe : 0
Hue Adjustment Red : 0
Hue Adjustment Orange : 0
Hue Adjustment Yellow : 0
Hue Adjustment Green : 0
Hue Adjustment Aqua : 0
Hue Adjustment Blue : 0
Hue Adjustment Purple : 0
Hue Adjustment Magenta : 0
Saturation Adjustment Red : 0
Saturation Adjustment Orange : 0
Saturation Adjustment Yellow : 0
Saturation Adjustment Green : 0
Saturation Adjustment Aqua : 0
Saturation Adjustment Blue : 0
Saturation Adjustment Purple : 0
Saturation Adjustment Magenta : 0
Luminance Adjustment Red : 0
Luminance Adjustment Orange : 0
Luminance Adjustment Yellow : 0
Luminance Adjustment Green : 0
Luminance Adjustment Aqua : 0
Luminance Adjustment Blue : 0
Luminance Adjustment Purple : 0
Luminance Adjustment Magenta : 0
Split Toning Shadow Hue : 0
Split Toning Shadow Saturation : 0
Split Toning Highlight Hue : 0
Split Toning Highlight Saturation : 0
Split Toning Balance : 0
Parametric Shadows : 0
Parametric Darks : 0
Parametric Lights : 0
Parametric Highlights : 0
Parametric Shadow Split : 25
Parametric Midtone Split : 50
Parametric Highlight Split : 75
Sharpen Radius : +1.0
Sharpen Detail : 25
Sharpen Edge Masking : 0
Post Crop Vignette Amount : 0
Convert To Grayscale : False
Tone Curve Name : Medium Contrast
Camera Profile : ACR 4.4
Has Settings : True
Has Crop : False
Already Applied : True
Color Mode : RGB
ICC Profile Name : Adobe RGB (1998)
Format : image/jpeg
Flash Fired : True
Flash Return : Return not detected
Flash Mode : On
Flash Function : False
Flash Red Eye Mode : False
Tone Curve : 0, 0, 32, 22, 64, 56, 128, 128, 192, 196, 255, 255
Creator : MICHAEL KIDMOSE
Rights : MICHAEL KIDMOSE
Image Width : 253
Image Height : 300
Bits Per Sample : 8
Color Components : 1
Aperture : 6.3
Image Size : 253x300
Megapixels : 0.076
Scale Factor To 35 mm Equivalent : 1.5
Shutter Speed : 1/125
Create Date : 2010:06:02 11:41:02.00
Date/Time Original : 2010:06:02 11:41:02.00
Flash : On, Return not detected
Circle Of Confusion : 0.020 mm
Field Of View : 13.1 deg
Focal Length : 105.0 mm (35 mm equivalent: 157.0 mm)
Hyperfocal Distance : 87.09 m
Light Value : 11.3
Lens ID : 105.0mm f/2.8