Uber Exif Photo
By-line : MICHAEL KIDMOSE
Copyright Notice : MICHAEL KIDMOSE
Copyright Flag : False
Make : NIKON CORPORATION
Camera Model Name : NIKON D300
Orientation : Horizontal (normal)
Software : Adobe Photoshop CS3 Windows
Modify Date : 2010:08:12 19:05:16
Artist : MICHAEL KIDMOSE
Copyright : MICHAEL KIDMOSE
Exposure Time : 1/1600
F Number : 5.0
Exposure Program : Aperture-priority AE
ISO : 200
Date/Time Original : 2010:08:07 12:58:20
Create Date : 2010:08:07 12:58:20
Shutter Speed Value : 1/1600
Aperture Value : 5.0
Exposure Compensation : -2/3
Max Aperture Value : 3.6
Metering Mode : Multi-segment
Light Source : Unknown
Focal Length : 105.0 mm
Color Space : Uncalibrated
Exif Image Width : 1024
Exif Image Height : 690
Sensing Method : One-chip color area
Scene Type : Directly photographed
CFA Pattern : [Red,Green][Green,Blue]
Custom Rendered : Normal
Exposure Mode : Auto
White Balance : Auto
Digital Zoom Ratio : 1
Focal Length In 35mm Format : 157 mm
Scene Capture Type : Standard
Gain Control : None
Contrast : Normal
Saturation : High
Sharpness : Normal
Subject Distance Range : Unknown
Profile Description : Adobe RGB (1998)
Date/Time Digitized : 2010:08:07 12:58:20.82+02:00
Creator Tool : Adobe Photoshop CS3 Windows
Serial Number : 4007166
Lens Info : 105mm f/2.8
Lens : 105.0 mm f/2.8
Image Number : 16585
Raw File Name : DSC_6220.NEF
Version : 4.6
Color Temperature : 4850
Tint : +9
Exposure : +0.15
Shadows : 5
Brightness : +50
Luminance Smoothing : 0
Color Noise Reduction : 25
Chromatic Aberration R : 0
Chromatic Aberration B : 0
Vignette Amount : 0
Shadow Tint : 0
Red Hue : 0
Red Saturation : 0
Green Hue : 0
Green Saturation : 0
Blue Hue : 0
Blue Saturation : 0
Fill Light : 8
Vibrance : +21
Highlight Recovery : 0
Clarity : 0
Defringe : 0
Hue Adjustment Red : 0
Hue Adjustment Orange : 0
Hue Adjustment Yellow : 0
Hue Adjustment Green : 0
Hue Adjustment Aqua : 0
Hue Adjustment Blue : 0
Hue Adjustment Purple : 0
Hue Adjustment Magenta : 0
Saturation Adjustment Red : 0
Saturation Adjustment Orange : 0
Saturation Adjustment Yellow : 0
Saturation Adjustment Green : 0
Saturation Adjustment Aqua : 0
Saturation Adjustment Blue : 0
Saturation Adjustment Purple : 0
Saturation Adjustment Magenta : 0
Luminance Adjustment Red : 0
Luminance Adjustment Orange : 0
Luminance Adjustment Yellow : 0
Luminance Adjustment Green : 0
Luminance Adjustment Aqua : 0
Luminance Adjustment Blue : 0
Luminance Adjustment Purple : 0
Luminance Adjustment Magenta : 0
Split Toning Shadow Hue : 0
Split Toning Shadow Saturation : 0
Split Toning Highlight Hue : 0
Split Toning Highlight Saturation : 0
Split Toning Balance : 0
Parametric Shadows : 0
Parametric Darks : 0
Parametric Lights : 0
Parametric Highlights : 0
Parametric Shadow Split : 25
Parametric Midtone Split : 50
Parametric Highlight Split : 75
Sharpen Radius : +1.0
Sharpen Detail : 25
Sharpen Edge Masking : 0
Post Crop Vignette Amount : 0
Convert To Grayscale : False
Tone Curve Name : Medium Contrast
Camera Profile : ACR 4.4
Has Settings : True
Crop Top : 0.167558
Crop Left : 0.259479
Crop Bottom : 0.796791
Crop Right : 0.853081
Crop Angle : 0
Has Crop : True
Already Applied : True
Color Mode : RGB
ICC Profile Name : Adobe RGB (1998)
Format : image/jpeg
Flash Fired : False
Flash Return : No return detection
Flash Mode : Unknown
Flash Function : False
Flash Red Eye Mode : False
Tone Curve : 0, 0, 32, 22, 64, 56, 128, 128, 192, 196, 255, 255
Creator : MICHAEL KIDMOSE
Rights : MICHAEL KIDMOSE
Image Width : 300
Image Height : 202
Bits Per Sample : 8
Color Components : 3
Aperture : 5.0
Image Size : 300x202
Megapixels : 0.061
Scale Factor To 35 mm Equivalent : 1.5
Shutter Speed : 1/1600
Create Date : 2010:08:07 12:58:20.82
Date/Time Original : 2010:08:07 12:58:20.82
Flash : No Flash
Circle Of Confusion : 0.020 mm
Field Of View : 13.1 deg
Focal Length : 105.0 mm (35 mm equivalent: 157.0 mm)
Hyperfocal Distance : 109.73 m
Light Value : 14.3
Lens ID : 105.0mm f/2.8