Uber Exif Photo
Make : NIKON CORPORATION
Camera Model Name : NIKON D700
Software : Ver.1.02
Modify Date : 2010:11:20 13:33:51
Exposure Time : 1/200
F Number : 3.2
Exposure Program : Manual
ISO : 200
Sensitivity Type : Unknown
Date/Time Original : 2010:11:14 17:26:03
Create Date : 2010:11:14 17:26:03
Shutter Speed Value : 1/200
Aperture Value : 3.2
Exposure Compensation : 0
Max Aperture Value : 1.4
Subject Distance : 2.66 m
Metering Mode : Multi-segment
Light Source : Unknown
Focal Length : 85.0 mm
Sensing Method : One-chip color area
Scene Type : Directly photographed
CFA Pattern : [Red,Green][Green,Blue]
Custom Rendered : Normal
Exposure Mode : Manual
White Balance : Auto
Digital Zoom Ratio : 1
Focal Length In 35mm Format : 85 mm
Scene Capture Type : Standard
Gain Control : None
Contrast : Normal
Saturation : Normal
Sharpness : Normal
Subject Distance Range : Unknown
Serial Number : 2133700
Lens Info : 85mm f/1.4
Lens Model : 85.0 mm f/1.4
Profile Description : sRGB IEC61966-2.1
Date/Time Digitized : 2010:11:14 17:26:03.69-05:00
Exif Image Width : 2371
Exif Image Height : 1897
Creator Tool : Adobe Photoshop Lightroom
Lens : 85.0 mm f/1.4
Image Number : 19402
Approximate Focus Distance : 2.66
Version : 6.2
Process Version : 5.7
Color Temperature : 5750
Tint : -12
Exposure : +0.50
Shadows : 2
Brightness : +57
Luminance Smoothing : 0
Color Noise Reduction : 26
Chromatic Aberration R : 0
Chromatic Aberration B : 0
Vignette Amount : 0
Shadow Tint : 0
Red Hue : 0
Red Saturation : 0
Green Hue : 0
Green Saturation : 0
Blue Hue : 0
Blue Saturation : 0
Fill Light : 0
Vibrance : 0
Highlight Recovery : 0
Clarity : +52
Defringe : 0
Hue Adjustment Red : 0
Hue Adjustment Orange : 0
Hue Adjustment Yellow : 0
Hue Adjustment Green : 0
Hue Adjustment Aqua : 0
Hue Adjustment Blue : 0
Hue Adjustment Purple : 0
Hue Adjustment Magenta : 0
Saturation Adjustment Red : +16
Saturation Adjustment Orange : 0
Saturation Adjustment Yellow : -45
Saturation Adjustment Green : -54
Saturation Adjustment Aqua : +27
Saturation Adjustment Blue : +29
Saturation Adjustment Purple : 0
Saturation Adjustment Magenta : 0
Luminance Adjustment Red : -19
Luminance Adjustment Orange : 0
Luminance Adjustment Yellow : 0
Luminance Adjustment Green : 0
Luminance Adjustment Aqua : +44
Luminance Adjustment Blue : +37
Luminance Adjustment Purple : 0
Luminance Adjustment Magenta : 0
Split Toning Shadow Hue : 233
Split Toning Shadow Saturation : 78
Split Toning Highlight Hue : 78
Split Toning Highlight Saturation : 58
Split Toning Balance : 0
Parametric Shadows : -25
Parametric Darks : -6
Parametric Lights : 0
Parametric Highlights : 0
Parametric Shadow Split : 25
Parametric Midtone Split : 50
Parametric Highlight Split : 75
Sharpen Radius : +1.0
Sharpen Detail : 25
Sharpen Edge Masking : 0
Post Crop Vignette Amount : 0
Grain Amount : 0
Color Noise Reduction Detail : 50
Lens Profile Enable : 0
Lens Manual Distortion Amount : 0
Perspective Vertical : 0
Perspective Horizontal : 0
Perspective Rotate : 0.0
Perspective Scale : 100
Convert To Grayscale : False
Tone Curve Name : Linear
Camera Profile : Adobe Standard
Lens Profile Setup : LensDefaults
Has Settings : True
Crop Top : 0.079445
Crop Left : 0.23764
Crop Bottom : 0.854981
Crop Right : 0.882705
Crop Angle : 0
Crop Constrain To Warp : 0
Crop Width : 2371
Crop Height : 1897
Crop Unit : pixels
Has Crop : True
Already Applied : True
Flash Fired : False
Flash Return : No return detection
Flash Mode : Unknown
Flash Function : False
Flash Red Eye Mode : False
Tone Curve : 0, 0, 255, 255
Paint Correction What : Correction
Paint Correction Amount : 1.000000
Paint Correction Active : true
Paint Correction Exposure : 0.000000
Paint Correction Saturation : 0.000000
Paint Correction Contrast : 0.000000
Paint Correction Clarity : 0.000000
Paint Correction Sharpness : 0.411765
Paint Correction Brightness : 0.000000
Paint Correction Toning Hue : 240.000000
Paint Correction Toning Saturation : 0.000000
Paint Correction Mask What : Mask/Paint
Paint Correction Mask Value : 0.862069
Paint Correction Mask Radius : 0.005528
Paint Correction Mask Flow : 0.829310
Paint Correction Mask Center Weight : 0.552533
Image Width : 300
Image Height : 240
Bits Per Sample : 8
Color Components : 3
Aperture : 3.2
Image Size : 300x240
Megapixels : 0.072
Scale Factor To 35 mm Equivalent : 1.0
Shutter Speed : 1/200
Create Date : 2010:11:14 17:26:03.69
Date/Time Original : 2010:11:14 17:26:03.69
Flash : No Flash
Circle Of Confusion : 0.030 mm
Depth Of Field : 0.18 m (2.57 - 2.75 m)
Field Of View : 23.9 deg
Focal Length : 85.0 mm (35 mm equivalent: 85.0 mm)
Hyperfocal Distance : 75.14 m
Light Value : 10.0
Lens ID : AF-S Nikkor 85mm f/1.4G