Uber Exif Photo
Make : NIKON CORPORATION
Camera Model Name : NIKON D700
Orientation : Horizontal (normal)
Software : Adobe Photoshop CS4 Windows
Modify Date : 2009:12:29 11:35:49
Exposure Time : 1/100
F Number : 2.2
Exposure Program : Manual
ISO : 3200
Date/Time Original : 2009:12:17 16:02:21
Create Date : 2009:12:17 16:02:21
Shutter Speed Value : 1/100
Aperture Value : 2.2
Exposure Compensation : 0
Max Aperture Value : 2.0
Subject Distance : 0.89 m
Metering Mode : Spot
Light Source : Unknown
Focal Length : 35.0 mm
Color Space : sRGB
Exif Image Width : 930
Exif Image Height : 593
Sensing Method : One-chip color area
Scene Type : Directly photographed
CFA Pattern : [Red,Green][Green,Blue]
Custom Rendered : Normal
Exposure Mode : Manual
White Balance : Auto
Digital Zoom Ratio : 1
Focal Length In 35mm Format : 35 mm
Scene Capture Type : Standard
Gain Control : High gain up
Contrast : Normal
Saturation : Normal
Sharpness : Normal
Subject Distance Range : Unknown
Date/Time Digitized : 2009:12:17 16:02:21.25+01:00
Creator Tool : Ver.1.00
Rating : 0
Serial Number : 2078142
Lens Info : 35mm f/2
Lens : 35.0 mm f/2.0
Image Number : 20010
Raw File Name : DSC_5685.NEF
Version : 5.6
Color Temperature : 5900
Tint : +5
Exposure : +0.80
Shadows : 67
Brightness : +71
Luminance Smoothing : 0
Color Noise Reduction : 25
Chromatic Aberration R : 0
Chromatic Aberration B : 0
Vignette Amount : 0
Shadow Tint : 0
Red Hue : 0
Red Saturation : 0
Green Hue : 0
Green Saturation : 0
Blue Hue : 0
Blue Saturation : 0
Fill Light : 68
Vibrance : +42
Highlight Recovery : 89
Clarity : +65
Defringe : 0
Hue Adjustment Red : 0
Hue Adjustment Orange : 0
Hue Adjustment Yellow : 0
Hue Adjustment Green : 0
Hue Adjustment Aqua : 0
Hue Adjustment Blue : 0
Hue Adjustment Purple : 0
Hue Adjustment Magenta : 0
Saturation Adjustment Red : 0
Saturation Adjustment Orange : 0
Saturation Adjustment Yellow : 0
Saturation Adjustment Green : 0
Saturation Adjustment Aqua : 0
Saturation Adjustment Blue : 0
Saturation Adjustment Purple : 0
Saturation Adjustment Magenta : 0
Luminance Adjustment Red : 0
Luminance Adjustment Orange : 0
Luminance Adjustment Yellow : 0
Luminance Adjustment Green : 0
Luminance Adjustment Aqua : 0
Luminance Adjustment Blue : 0
Luminance Adjustment Purple : 0
Luminance Adjustment Magenta : 0
Split Toning Shadow Hue : 0
Split Toning Shadow Saturation : 0
Split Toning Highlight Hue : 0
Split Toning Highlight Saturation : 0
Split Toning Balance : 0
Parametric Shadows : 0
Parametric Darks : 0
Parametric Lights : 0
Parametric Highlights : 0
Parametric Shadow Split : 25
Parametric Midtone Split : 50
Parametric Highlight Split : 75
Sharpen Radius : +1.0
Sharpen Detail : 25
Sharpen Edge Masking : 0
Post Crop Vignette Amount : 0
Convert To Grayscale : False
Tone Curve Name : Medium Contrast
Camera Profile : ACR 4.6
Has Settings : True
Has Crop : False
Already Applied : True
Sidecar For Extension : NEF
Color Mode : RGB
ICC Profile Name : sRGB IEC61966-2.1
Format : image/jpeg
Flash Fired : False
Flash Return : No return detection
Flash Mode : Unknown
Flash Function : False
Flash Red Eye Mode : False
Tone Curve : 0, 0, 32, 22, 64, 56, 128, 128, 192, 196, 255, 255
Image Width : 300
Image Height : 191
Bits Per Sample : 8
Color Components : 1
Aperture : 2.2
Image Size : 300x191
Megapixels : 0.057
Scale Factor To 35 mm Equivalent : 1.0
Shutter Speed : 1/100
Create Date : 2009:12:17 16:02:21.25
Date/Time Original : 2009:12:17 16:02:21.25
Modify Date : 2009:12:29 11:35:49.25
Flash : No Flash
Circle Of Confusion : 0.030 mm
Depth Of Field : 0.08 m (0.85 - 0.93 m)
Field Of View : 54.4 deg
Focal Length : 35.0 mm (35 mm equivalent: 35.0 mm)
Hyperfocal Distance : 18.53 m
Light Value : 3.9
Lens ID : AF Nikkor 35mm f/2D