Uber Exif Photo
Make : NIKON CORPORATION
Camera Model Name : NIKON D700
Orientation : Horizontal (normal)
Software : Adobe Photoshop CS4 Windows
Modify Date : 2009:12:16 22:10:31
Exposure Time : 1/125
F Number : 2.8
Exposure Program : Manual
ISO : 2500
Date/Time Original : 2009:12:09 18:30:39
Create Date : 2009:12:09 18:30:39
Shutter Speed Value : 1/125
Aperture Value : 2.8
Exposure Compensation : 0
Max Aperture Value : 1.7
Metering Mode : Spot
Light Source : Unknown
Focal Length : 50.0 mm
Color Space : sRGB
Exif Image Width : 930
Exif Image Height : 625
Sensing Method : One-chip color area
Scene Type : Directly photographed
CFA Pattern : [Red,Green][Green,Blue]
Custom Rendered : Normal
Exposure Mode : Manual
White Balance : Auto
Digital Zoom Ratio : 1
Focal Length In 35mm Format : 50 mm
Scene Capture Type : Standard
Gain Control : High gain up
Contrast : Normal
Saturation : Normal
Sharpness : Normal
Subject Distance Range : Unknown
Profile Description : sRGB IEC61966-2.1
Date/Time Digitized : 2009:12:09 18:30:39.31+01:00
Creator Tool : Ver.1.00
Rating : 0
Serial Number : 2078142
Lens Info : 50mm f/1.8
Lens : 50.0 mm f/1.8
Image Number : 19748
Raw File Name : DSC_5423.NEF
Version : 5.0
Color Temperature : 2550
Tint : -5
Exposure : 0.00
Shadows : 10
Brightness : +104
Luminance Smoothing : 0
Color Noise Reduction : 25
Chromatic Aberration R : 0
Chromatic Aberration B : 0
Vignette Amount : -70
Vignette Midpoint : 25
Shadow Tint : 0
Red Hue : +9
Red Saturation : +7
Green Hue : 0
Green Saturation : +6
Blue Hue : 0
Blue Saturation : +23
Fill Light : 18
Vibrance : 0
Highlight Recovery : 10
Clarity : +70
Defringe : 0
Hue Adjustment Red : 0
Hue Adjustment Orange : 0
Hue Adjustment Yellow : 0
Hue Adjustment Green : +6
Hue Adjustment Aqua : 0
Hue Adjustment Blue : 0
Hue Adjustment Purple : 0
Hue Adjustment Magenta : 0
Saturation Adjustment Red : +27
Saturation Adjustment Orange : +8
Saturation Adjustment Yellow : +4
Saturation Adjustment Green : +28
Saturation Adjustment Aqua : +1
Saturation Adjustment Blue : +6
Saturation Adjustment Purple : +4
Saturation Adjustment Magenta : +5
Luminance Adjustment Red : 0
Luminance Adjustment Orange : +70
Luminance Adjustment Yellow : -18
Luminance Adjustment Green : +100
Luminance Adjustment Aqua : 0
Luminance Adjustment Blue : 0
Luminance Adjustment Purple : 0
Luminance Adjustment Magenta : 0
Split Toning Shadow Hue : 0
Split Toning Shadow Saturation : 0
Split Toning Highlight Hue : 0
Split Toning Highlight Saturation : 0
Split Toning Balance : 0
Parametric Shadows : 0
Parametric Darks : 0
Parametric Lights : 0
Parametric Highlights : 0
Parametric Shadow Split : 25
Parametric Midtone Split : 50
Parametric Highlight Split : 75
Sharpen Radius : +1.0
Sharpen Detail : 25
Sharpen Edge Masking : 0
Post Crop Vignette Amount : -3
Post Crop Vignette Midpoint : 50
Post Crop Vignette Feather : 50
Post Crop Vignette Roundness : 0
Convert To Grayscale : False
Tone Curve Name : Medium Contrast
Camera Profile : Beta
Has Settings : True
Has Crop : False
Already Applied : True
Sidecar For Extension : NEF
Color Mode : RGB
ICC Profile Name : sRGB IEC61966-2.1
Format : image/jpeg
Flash Fired : False
Flash Return : No return detection
Flash Mode : Unknown
Flash Function : False
Flash Red Eye Mode : False
Tone Curve : 0, 0, 32, 22, 64, 56, 128, 128, 192, 196, 255, 255
Image Width : 300
Image Height : 202
Bits Per Sample : 8
Color Components : 3
Aperture : 2.8
Image Size : 300x202
Megapixels : 0.061
Scale Factor To 35 mm Equivalent : 1.0
Shutter Speed : 1/125
Create Date : 2009:12:09 18:30:39.31
Date/Time Original : 2009:12:09 18:30:39.31
Modify Date : 2009:12:16 22:10:31.31
Flash : No Flash
Circle Of Confusion : 0.030 mm
Field Of View : 39.6 deg
Focal Length : 50.0 mm (35 mm equivalent: 50.0 mm)
Hyperfocal Distance : 29.72 m
Light Value : 5.3
Lens ID : 50.0mm f/1.8