Uber Exif Photo
Copyright Flag : False
Photometric Interpretation : RGB
Make : NIKON CORPORATION
Camera Model Name : NIKON D200
Orientation : Horizontal (normal)
Samples Per Pixel : 3
Planar Configuration : Chunky
Software : Adobe Photoshop CS3 Macintosh
Modify Date : 2010:11:28 15:45:16
Exposure Time : 1/350
F Number : 10.0
Exposure Program : Program AE
ISO : 160
Date/Time Original : 2008:03:11 09:09:35
Create Date : 2008:03:11 09:09:35
Shutter Speed Value : 1/350
Aperture Value : 10.0
Exposure Compensation : 0
Max Aperture Value : 5.5
Metering Mode : Multi-segment
Light Source : Unknown
Focal Length : 116.0 mm
Color Space : Uncalibrated
Exif Image Width : 3792
Exif Image Height : 2436
Sensing Method : One-chip color area
Scene Type : Directly photographed
CFA Pattern : [Green,Red][Blue,Green]
Custom Rendered : Normal
Exposure Mode : Auto
White Balance : Auto
Digital Zoom Ratio : 1
Focal Length In 35mm Format : 174 mm
Scene Capture Type : Standard
Gain Control : None
Contrast : Normal
Saturation : Normal
Sharpness : Normal
Subject Distance Range : Unknown
Profile Description : Adobe RGB (1998)
Date/Time Digitized : 2008:03:11 09:09:35.32-04:00
Creator Tool : Adobe Photoshop CS3 Macintosh
Rating : 0
Lens Info : 50-500mm f/4-6.3
Lens : 50.0-500.0 mm f/4.0-6.3
Image Number : 940
Version : 4.2
Raw File Name : _DSC0005.NEF
Color Temperature : 5400
Tint : -6
Exposure : 0.00
Shadows : 13
Brightness : +50
Luminance Smoothing : 0
Color Noise Reduction : 25
Chromatic Aberration R : 0
Chromatic Aberration B : 0
Vignette Amount : 0
Shadow Tint : 0
Red Hue : 0
Red Saturation : 0
Green Hue : 0
Green Saturation : 0
Blue Hue : 0
Blue Saturation : 0
Fill Light : 0
Vibrance : +36
Highlight Recovery : 0
Clarity : 48
Defringe : 0
Hue Adjustment Red : 0
Hue Adjustment Orange : 0
Hue Adjustment Yellow : 0
Hue Adjustment Green : 0
Hue Adjustment Aqua : 0
Hue Adjustment Blue : 0
Hue Adjustment Purple : 0
Hue Adjustment Magenta : 0
Saturation Adjustment Red : 0
Saturation Adjustment Orange : 0
Saturation Adjustment Yellow : 0
Saturation Adjustment Green : 0
Saturation Adjustment Aqua : 0
Saturation Adjustment Blue : 0
Saturation Adjustment Purple : 0
Saturation Adjustment Magenta : 0
Luminance Adjustment Red : 0
Luminance Adjustment Orange : 0
Luminance Adjustment Yellow : 0
Luminance Adjustment Green : 0
Luminance Adjustment Aqua : 0
Luminance Adjustment Blue : 0
Luminance Adjustment Purple : 0
Luminance Adjustment Magenta : 0
Split Toning Shadow Hue : 0
Split Toning Shadow Saturation : 0
Split Toning Highlight Hue : 0
Split Toning Highlight Saturation : 0
Split Toning Balance : 0
Parametric Shadows : 0
Parametric Darks : 0
Parametric Lights : 0
Parametric Highlights : 0
Parametric Shadow Split : 25
Parametric Midtone Split : 50
Parametric Highlight Split : 75
Sharpen Radius : +1.0
Sharpen Detail : 25
Sharpen Edge Masking : 0
Convert To Grayscale : False
Tone Curve Name : Medium Contrast
Camera Profile : ACR 3.3
Has Settings : True
Has Crop : False
Already Applied : True
Sidecar For Extension : NEF
Color Mode : RGB
ICC Profile Name : Adobe RGB (1998)
Format : image/jpeg
Flash Fired : False
Flash Return : No return detection
Flash Mode : Unknown
Flash Function : False
Flash Red Eye Mode : False
Tone Curve : 0, 0, 32, 22, 64, 56, 128, 128, 192, 196, 255, 255
Image Width : 300
Image Height : 193
Bits Per Sample : 8
Color Components : 3
Aperture : 10.0
Image Size : 300x193
Megapixels : 0.058
Scale Factor To 35 mm Equivalent : 1.5
Shutter Speed : 1/350
Create Date : 2008:03:11 09:09:35.32
Date/Time Original : 2008:03:11 09:09:35.32
Modify Date : 2010:11:28 15:45:16.32
Flash : No Flash
Circle Of Confusion : 0.020 mm
Field Of View : 11.8 deg
Focal Length : 116.0 mm (35 mm equivalent: 174.0 mm)
Hyperfocal Distance : 67.18 m
Light Value : 14.4
Lens ID : 50.0-500.0mm f/4.0-6.3