Uber Exif Photo
By-line : marino mannarini
By-line Title : photographer
Copyright Notice : ©marino mannarini 2009
Copyright Flag : True
URL : www.mydvaphoto.com
Make : NIKON CORPORATION
Camera Model Name : NIKON D2X
Software : Ver.2.00
Modify Date : 2010:11:30 19:19:04
Artist : marino mannarini
Copyright : (C)marino mannarini 2009
Exposure Time : 1/640
F Number : 4.0
Exposure Program : Manual
ISO : 400
Sensitivity Type : Unknown
Date/Time Original : 2008:06:02 17:25:50
Create Date : 2008:06:02 17:25:50
Shutter Speed Value : 1/640
Aperture Value : 4.0
Exposure Compensation : 0
Max Aperture Value : 2.8
Metering Mode : Spot
Light Source : Unknown
Focal Length : 16.0 mm
Sensing Method : One-chip color area
Scene Type : Directly photographed
CFA Pattern : [Red,Green][Green,Blue]
Custom Rendered : Normal
Exposure Mode : Manual
White Balance : Auto
Digital Zoom Ratio : 1
Focal Length In 35mm Format : 24 mm
Scene Capture Type : Standard
Gain Control : Low gain up
Contrast : Normal
Saturation : Normal
Sharpness : Soft
Subject Distance Range : Unknown
Serial Number : 5064611
Lens Info : 16-50mm f/2.8
Lens Model : 16.0-50.0 mm f/2.8
Profile Description : sRGB IEC61966-2.1
Date/Time Digitized : 2008:06:02 17:25:50.70+02:00
Exif Image Width : 531
Exif Image Height : 800
Creator Tool : Adobe Photoshop Lightroom
Lens : 16.0-50.0 mm f/2.8
Image Number : 2607
Marked : True
Web Statement : www.mydvaphoto.com
Authors Position : photographer
Version : 6.2
Process Version : 5.7
Color Temperature : 4400
Tint : -3
Exposure : 0.00
Shadows : 5
Brightness : +63
Luminance Smoothing : 0
Color Noise Reduction : 25
Chromatic Aberration R : 0
Chromatic Aberration B : 0
Vignette Amount : -70
Vignette Midpoint : 12
Shadow Tint : 0
Red Hue : 0
Red Saturation : 0
Green Hue : 0
Green Saturation : 0
Blue Hue : 0
Blue Saturation : 0
Fill Light : 0
Highlight Recovery : 0
Clarity : 0
Defringe : 2
Gray Mixer Red : -21
Gray Mixer Orange : -29
Gray Mixer Yellow : -38
Gray Mixer Green : -28
Gray Mixer Aqua : -17
Gray Mixer Blue : +4
Gray Mixer Purple : +29
Gray Mixer Magenta : +4
Split Toning Shadow Hue : 37
Split Toning Shadow Saturation : 22
Split Toning Highlight Hue : 0
Split Toning Highlight Saturation : 0
Split Toning Balance : 0
Parametric Shadows : +44
Parametric Darks : -37
Parametric Lights : -19
Parametric Highlights : -30
Parametric Shadow Split : 25
Parametric Midtone Split : 50
Parametric Highlight Split : 75
Sharpen Radius : +1.0
Sharpen Detail : 25
Sharpen Edge Masking : 0
Post Crop Vignette Amount : -45
Post Crop Vignette Midpoint : 14
Post Crop Vignette Feather : 80
Post Crop Vignette Roundness : -90
Post Crop Vignette Style : Highlight Priority
Post Crop Vignette Highlight Contrast : 0
Grain Amount : 0
Color Noise Reduction Detail : 50
Lens Profile Enable : 0
Lens Manual Distortion Amount : 0
Perspective Vertical : 0
Perspective Horizontal : 0
Perspective Rotate : 0.0
Perspective Scale : 100
Convert To Grayscale : True
Tone Curve Name : Medium Contrast
Camera Profile : Adobe Standard
Lens Profile Setup : LensDefaults
Has Settings : True
Has Crop : False
Already Applied : True
Flash Fired : False
Flash Return : No return detection
Flash Mode : Unknown
Flash Function : False
Flash Red Eye Mode : False
Usage Terms : all rights reserved
Creator Work Email : marinomannarini@gmail.com
Creator City : LECCE
Creator Country : ITALY
Creator Work URL : www.mydvaphoto.com
Creator Postal Code : I 73100
Creator Work Telephone : +393338562061
Creator Region : LE
Creator Address : piazza libertini, 10
Creator : marino mannarini
Rights : ©marino mannarini 2009
Tone Curve : 0, 0, 32, 22, 64, 56, 128, 128, 192, 196, 255, 255
Image Width : 199
Image Height : 300
Bits Per Sample : 8
Color Components : 3
Aperture : 4.0
Image Size : 199x300
Megapixels : 0.060
Scale Factor To 35 mm Equivalent : 1.5
Shutter Speed : 1/640
Create Date : 2008:06:02 17:25:50.70
Date/Time Original : 2008:06:02 17:25:50.70
Flash : No Flash
Circle Of Confusion : 0.020 mm
Field Of View : 73.7 deg
Focal Length : 16.0 mm (35 mm equivalent: 24.0 mm)
Hyperfocal Distance : 3.20 m
Light Value : 11.3
Lens ID : 16.0-50.0mm f/2.8