Uber Exif Photo
By-line : Liu
Copyright Flag : True
Make : Canon
Camera Model Name : Canon EOS 400D DIGITAL
Orientation : Horizontal (normal)
Software : Adobe Photoshop CS5 (12.0x20100115 [20100115.m.998 2010/01/15:02:00:00 cutoff; m branch]) Windows
Modify Date : 2010:12:04 23:49:55
Artist : Liu
Exposure Time : 1/200
F Number : 5.0
Exposure Program : Manual
ISO : 1600
Date/Time Original : 2010:11:28 22:50:09
Create Date : 2010:11:28 22:50:09
Shutter Speed Value : 1/200
Aperture Value : 5.0
Exposure Compensation : 0
Max Aperture Value : 4.0
Metering Mode : Multi-segment
Flash : Off, Did not fire
Focal Length : 131.0 mm
Color Space : Uncalibrated
Exif Image Width : 1333
Exif Image Height : 2000
Custom Rendered : Normal
Exposure Mode : Manual
White Balance : Auto
Scene Capture Type : Standard
Profile Description : Adobe RGB (1998)
Rating : 3
Creator Tool : Adobe Photoshop CS4 Windows
Format : image/jpeg
Serial Number : 1931104161
Lens Info : 70-200mm f/?
Lens : EF70-200mm f/4L USM
Image Number : 0
Flash Compensation : 0
Owner Name : unknown
Firmware : 1.1.1
Raw File Name : _MG_0112.CR2
Version : 5.6
Color Temperature : 3150
Tint : +1
Exposure : +0.95
Shadows : 10
Brightness : +30
Contrast : +30
Saturation : 0
Sharpness : 0
Luminance Smoothing : 17
Color Noise Reduction : 28
Chromatic Aberration R : 0
Chromatic Aberration B : 0
Vignette Amount : -33
Vignette Midpoint : 50
Shadow Tint : 0
Red Hue : 0
Red Saturation : 0
Green Hue : 0
Green Saturation : 0
Blue Hue : 0
Blue Saturation : 0
Fill Light : 19
Vibrance : +28
Highlight Recovery : 49
Clarity : -14
Defringe : 0
Hue Adjustment Red : +11
Hue Adjustment Orange : -5
Hue Adjustment Yellow : -3
Hue Adjustment Green : 0
Hue Adjustment Aqua : 0
Hue Adjustment Blue : 0
Hue Adjustment Purple : 0
Hue Adjustment Magenta : 0
Saturation Adjustment Red : +22
Saturation Adjustment Orange : +24
Saturation Adjustment Yellow : +1
Saturation Adjustment Green : +13
Saturation Adjustment Aqua : +1
Saturation Adjustment Blue : 0
Saturation Adjustment Purple : 0
Saturation Adjustment Magenta : +1
Luminance Adjustment Red : -10
Luminance Adjustment Orange : +12
Luminance Adjustment Yellow : 0
Luminance Adjustment Green : -29
Luminance Adjustment Aqua : 0
Luminance Adjustment Blue : 0
Luminance Adjustment Purple : 0
Luminance Adjustment Magenta : 0
Split Toning Shadow Hue : 11
Split Toning Shadow Saturation : 0
Split Toning Highlight Hue : 0
Split Toning Highlight Saturation : 0
Split Toning Balance : 0
Parametric Shadows : -15
Parametric Darks : 0
Parametric Lights : +10
Parametric Highlights : +12
Parametric Shadow Split : 25
Parametric Midtone Split : 50
Parametric Highlight Split : 75
Sharpen Radius : +1.2
Sharpen Detail : 38
Sharpen Edge Masking : 78
Post Crop Vignette Amount : -73
Post Crop Vignette Midpoint : 50
Post Crop Vignette Feather : 63
Post Crop Vignette Roundness : 0
Convert To Grayscale : False
Tone Curve Name : Medium Contrast
Camera Profile : Adobe Standard
Has Settings : True
Has Crop : False
Already Applied : True
Color Mode : RGB
ICC Profile Name : Adobe RGB (1998)
Date Created : 2010:01:01
Marked : True
Creator : Liu
Tone Curve : 0, 0, 32, 22, 64, 56, 128, 128, 192, 196, 255, 255
Image Width : 200
Image Height : 300
Bits Per Sample : 8
Color Components : 3
Aperture : 5.0
Image Size : 200x300
Megapixels : 0.060
Scale Factor To 35 mm Equivalent : 1.6
Shutter Speed : 1/200
Circle Of Confusion : 0.019 mm
Field Of View : 9.7 deg
Focal Length : 131.0 mm (35 mm equivalent: 212.0 mm)
Hyperfocal Distance : 184.87 m
Light Value : 8.3
Lens ID : Canon EF 70-200mm f/4L USM