Uber Exif Photo
By-line : MOEQRIE
Copyright Notice : MOEQRIE 2010
Photometric Interpretation : RGB
Make : NIKON CORPORATION
Camera Model Name : NIKON D700
Orientation : Horizontal (normal)
Samples Per Pixel : 3
Software : Adobe Photoshop CS5 Windows
Modify Date : 2010:12:17 13:31:52
Artist : MOEQRIE
Copyright : MOEQRIE 2010
Exposure Time : 1/40
F Number : 3.5
Exposure Program : Manual
ISO : 800
Date/Time Original : 2010:12:17 10:59:22
Create Date : 2010:12:17 10:59:22
Shutter Speed Value : 1/40
Aperture Value : 3.5
Exposure Compensation : 0
Max Aperture Value : 1.4
Subject Distance : 0.89 m
Metering Mode : Center-weighted average
Light Source : Unknown
Flash : No Flash
Focal Length : 50.0 mm
Color Space : sRGB
Exif Image Width : 680
Exif Image Height : 1021
Sensing Method : One-chip color area
Scene Type : Directly photographed
CFA Pattern : [Red,Green][Green,Blue]
Custom Rendered : Normal
Exposure Mode : Manual
White Balance : Auto
Digital Zoom Ratio : 1
Focal Length In 35mm Format : 50 mm
Scene Capture Type : Standard
Gain Control : Low gain up
Contrast : Normal
Saturation : Normal
Sharpness : Normal
Subject Distance Range : Unknown
Creator Tool : Adobe Photoshop CS5 Windows
Serial Number : 2152929
Lens Info : 50mm f/1.4
Lens : 50.0 mm f/1.4
Image Number : 19007
Approximate Focus Distance : 0.89
Version : 6.1
Process Version : 5.7
Incremental Temperature : +54
Incremental Tint : 0
Exposure : 0.00
Shadows : 8
Brightness : 0
Luminance Smoothing : 0
Color Noise Reduction : 0
Chromatic Aberration R : 0
Chromatic Aberration B : 0
Vignette Amount : 0
Shadow Tint : 0
Red Hue : 0
Red Saturation : 0
Green Hue : 0
Green Saturation : 0
Blue Hue : 0
Blue Saturation : 0
Fill Light : 48
Highlight Recovery : 0
Clarity : -16
Defringe : 0
Gray Mixer Red : -6
Gray Mixer Orange : -14
Gray Mixer Yellow : -17
Gray Mixer Green : -23
Gray Mixer Aqua : -18
Gray Mixer Blue : +7
Gray Mixer Purple : +13
Gray Mixer Magenta : +4
Split Toning Shadow Hue : 0
Split Toning Shadow Saturation : 0
Split Toning Highlight Hue : 0
Split Toning Highlight Saturation : 0
Split Toning Balance : 0
Parametric Shadows : 0
Parametric Darks : 0
Parametric Lights : 0
Parametric Highlights : 0
Parametric Shadow Split : 25
Parametric Midtone Split : 50
Parametric Highlight Split : 75
Sharpen Radius : +1.0
Sharpen Detail : 25
Sharpen Edge Masking : 0
Post Crop Vignette Amount : 0
Grain Amount : 0
Lens Profile Enable : 0
Lens Manual Distortion Amount : 0
Perspective Vertical : 0
Perspective Horizontal : 0
Perspective Rotate : 0.0
Perspective Scale : 100
Convert To Grayscale : True
Tone Curve Name : Linear
Camera Profile : Embedded
Lens Profile Setup : LensDefaults
Has Settings : True
Has Crop : False
Already Applied : True
Date Created : 2010:12:17 10:59:22.058
Color Mode : RGB
ICC Profile Name : sRGB IEC61966-2.1
Format : image/jpeg
Tone Curve : 0, 0, 255, 255
Creator : MOEQRIE
Rights : MOEQRIE 2010
Image Width : 200
Image Height : 300
Bits Per Sample : 8
Color Components : 1
Aperture : 3.5
Image Size : 200x300
Megapixels : 0.060
Scale Factor To 35 mm Equivalent : 1.0
Shutter Speed : 1/40
Create Date : 2010:12:17 10:59:22.58
Date/Time Original : 2010:12:17 10:59:22.58
Circle Of Confusion : 0.030 mm
Depth Of Field : 0.06 m (0.86 - 0.92 m)
Field Of View : 39.6 deg
Focal Length : 50.0 mm (35 mm equivalent: 50.0 mm)
Hyperfocal Distance : 23.77 m
Light Value : 5.9
Lens ID : AF Nikkor 50mm f/1.4D