Uber Exif Photo
By-line : Konrad Skiba
Copyright Notice : skibek.pl
Make : NIKON CORPORATION
Camera Model Name : NIKON D3S
Orientation : Horizontal (normal)
Software : Adobe Photoshop CS4 Windows
Modify Date : 2010:06:13 22:28:00
Artist : Konrad Skiba
Copyright : skibek.pl
Exposure Time : 1/1000
F Number : 5.6
Exposure Program : Shutter speed priority AE
ISO : 400
Date/Time Original : 2010:06:13 12:38:55
Create Date : 2010:06:13 12:38:55
Shutter Speed Value : 1/1000
Aperture Value : 5.6
Exposure Compensation : +2/3
Max Aperture Value : 5.7
Subject Distance : 4294967295 m
Metering Mode : Spot
Light Source : Fine Weather
Focal Length : 300.0 mm
User Comment : www.skibek.pl
Color Space : Uncalibrated
Exif Image Width : 900
Exif Image Height : 600
Sensing Method : One-chip color area
Scene Type : Directly photographed
CFA Pattern : [Red,Green][Green,Blue]
Custom Rendered : Normal
Exposure Mode : Auto
White Balance : Manual
Digital Zoom Ratio : 1
Focal Length In 35mm Format : 300 mm
Scene Capture Type : Standard
Gain Control : Low gain up
Contrast : Normal
Saturation : Normal
Sharpness : Normal
Subject Distance Range : Unknown
Profile Description : Adobe RGB (1998)
Date/Time Digitized : 2010:06:13 12:38:55.54+02:00
Creator Tool : Ver.1.01
Rating : 0
Format : image/jpeg
Serial Number : 2019207
Lens Info : 70-300mm f/4.5-5.6
Lens : 70.0-300.0 mm f/4.5-5.6
Image Number : 14874
Raw File Name : _SKI4705.NEF
Version : 5.6
Color Temperature : 6000
Tint : +10
Exposure : -0.30
Shadows : 17
Brightness : +50
Luminance Smoothing : 0
Color Noise Reduction : 25
Chromatic Aberration R : 0
Chromatic Aberration B : 0
Vignette Amount : 0
Shadow Tint : 0
Red Hue : 0
Red Saturation : 0
Green Hue : 0
Green Saturation : 0
Blue Hue : 0
Blue Saturation : 0
Fill Light : 4
Vibrance : +6
Highlight Recovery : 0
Clarity : +8
Defringe : 0
Hue Adjustment Red : 0
Hue Adjustment Orange : 0
Hue Adjustment Yellow : 0
Hue Adjustment Green : 0
Hue Adjustment Aqua : 0
Hue Adjustment Blue : 0
Hue Adjustment Purple : 0
Hue Adjustment Magenta : 0
Saturation Adjustment Red : 0
Saturation Adjustment Orange : 0
Saturation Adjustment Yellow : 0
Saturation Adjustment Green : 0
Saturation Adjustment Aqua : 0
Saturation Adjustment Blue : 0
Saturation Adjustment Purple : 0
Saturation Adjustment Magenta : 0
Luminance Adjustment Red : 0
Luminance Adjustment Orange : 0
Luminance Adjustment Yellow : 0
Luminance Adjustment Green : 0
Luminance Adjustment Aqua : 0
Luminance Adjustment Blue : 0
Luminance Adjustment Purple : 0
Luminance Adjustment Magenta : 0
Split Toning Shadow Hue : 0
Split Toning Shadow Saturation : 0
Split Toning Highlight Hue : 0
Split Toning Highlight Saturation : 0
Split Toning Balance : 0
Parametric Shadows : 0
Parametric Darks : 0
Parametric Lights : 0
Parametric Highlights : 0
Parametric Shadow Split : 25
Parametric Midtone Split : 50
Parametric Highlight Split : 75
Sharpen Radius : +1.0
Sharpen Detail : 25
Sharpen Edge Masking : 0
Post Crop Vignette Amount : 0
Convert To Grayscale : False
Tone Curve Name : Medium Contrast
Camera Profile : Adobe Standard
Has Settings : True
Crop Top : 0.337815
Crop Left : 0.16913
Crop Bottom : 0.645186
Crop Right : 0.722927
Crop Angle : -13.419827
Crop Width : 2
Crop Height : 3
Crop Unit : Unknown (3)
Has Crop : True
Already Applied : True
Color Mode : RGB
ICC Profile Name : Adobe RGB (1998)
Flash Fired : False
Flash Return : No return detection
Flash Mode : Unknown
Flash Function : False
Flash Red Eye Mode : False
Creator : Konrad Skiba
Rights : skibek.pl
Tone Curve : 0, 0, 32, 22, 64, 56, 128, 128, 192, 196, 255, 255
Image Width : 300
Image Height : 200
Bits Per Sample : 8
Color Components : 3
Aperture : 5.6
Image Size : 300x200
Megapixels : 0.060
Scale Factor To 35 mm Equivalent : 1.0
Shutter Speed : 1/1000
Create Date : 2010:06:13 12:38:55.54
Date/Time Original : 2010:06:13 12:38:55.54
Modify Date : 2010:06:13 22:28:00.54
Flash : No Flash
Circle Of Confusion : 0.030 mm
Depth Of Field : inf (534.89 m - inf)
Field Of View : 6.9 deg
Focal Length : 300.0 mm (35 mm equivalent: 300.0 mm)
Hyperfocal Distance : 534.89 m
Light Value : 12.9
Lens ID : AF-S VR Zoom-Nikkor 70-300mm f/4.5-5.6G IF-ED