Uber Exif Photo
Make : NIKON CORPORATION
Camera Model Name : NIKON D3
Orientation : Horizontal (normal)
Software : Capture NX 2.0.0 W
Modify Date : 2010:12:14 20:44:06
Exposure Time : 1/250
F Number : 7.1
Exposure Program : Manual
ISO : 1600
Sensitivity Type : Unknown
Date/Time Original : 2010:11:06 16:35:36
Create Date : 2010:11:06 16:35:36
Shutter Speed Value : 3.4
Aperture Value : 7.1
Exposure Compensation : -2/3
Max Aperture Value : 2.8
Subject Distance : 1.78 m
Metering Mode : Center-weighted average
Light Source : Unknown
Focal Length : 135.0 mm
Maker Note Version : 2.10
Image Data Size : 443078
Nikon Capture Version : Capture NX 2.0.0 W
IFD0 Offset : 1198
Preview IFD Offset : 1098
NEF Bit Depth : n/a (JPEG)
Color Space : Uncalibrated
Exif Image Width : 809
Exif Image Height : 1050
Sensing Method : One-chip color area
Scene Type : Directly photographed
CFA Pattern : [Red,Green][Green,Blue]
Custom Rendered : Normal
Exposure Mode : Manual
White Balance : Auto
Digital Zoom Ratio : 1
Focal Length In 35mm Format : 135 mm
Scene Capture Type : Standard
Gain Control : High gain up
Contrast : Normal
Saturation : Normal
Sharpness : Hard
Subject Distance Range : Unknown
Serial Number : 2072804
Lens Info : 70-200mm f/2.8
Lens Model : 70.0-200.0 mm f/2.8
Profile Description : Adobe RGB (1998)
Date/Time Digitized : 2010:11:06 16:35:36.08-04:00
Flash Fired : True
Flash Return : Return detected
Flash Mode : On
Flash Function : False
Flash Red Eye Mode : False
Creator Tool : Adobe Photoshop Lightroom
Rating : 0
Lens : 70.0-200.0 mm f/2.8
Image Number : 27810
Approximate Focus Distance : 1.78
Version : 6.2
Process Version : 5.7
Color Temperature : 4800
Tint : +8
Exposure : +2.30
Shadows : 1
Brightness : 0
Luminance Smoothing : 33
Color Noise Reduction : 25
Chromatic Aberration R : 0
Chromatic Aberration B : 0
Vignette Amount : 0
Shadow Tint : 0
Red Hue : 0
Red Saturation : 0
Green Hue : 0
Green Saturation : 0
Blue Hue : 0
Blue Saturation : 0
Fill Light : 0
Vibrance : 0
Highlight Recovery : 18
Clarity : +100
Defringe : 0
Hue Adjustment Red : 0
Hue Adjustment Orange : 0
Hue Adjustment Yellow : 0
Hue Adjustment Green : 0
Hue Adjustment Aqua : 0
Hue Adjustment Blue : 0
Hue Adjustment Purple : 0
Hue Adjustment Magenta : 0
Saturation Adjustment Red : 0
Saturation Adjustment Orange : 0
Saturation Adjustment Yellow : 0
Saturation Adjustment Green : 0
Saturation Adjustment Aqua : 0
Saturation Adjustment Blue : 0
Saturation Adjustment Purple : 0
Saturation Adjustment Magenta : 0
Luminance Adjustment Red : 0
Luminance Adjustment Orange : 0
Luminance Adjustment Yellow : 0
Luminance Adjustment Green : 0
Luminance Adjustment Aqua : 0
Luminance Adjustment Blue : 0
Luminance Adjustment Purple : 0
Luminance Adjustment Magenta : 0
Split Toning Shadow Hue : 0
Split Toning Shadow Saturation : 0
Split Toning Highlight Hue : 0
Split Toning Highlight Saturation : 0
Split Toning Balance : 0
Parametric Shadows : 0
Parametric Darks : 0
Parametric Lights : 0
Parametric Highlights : 0
Parametric Shadow Split : 25
Parametric Midtone Split : 50
Parametric Highlight Split : 75
Sharpen Radius : +1.0
Sharpen Detail : 25
Sharpen Edge Masking : 0
Post Crop Vignette Amount : 0
Grain Amount : 0
Luminance Noise Reduction Detail : 50
Color Noise Reduction Detail : 50
Luminance Noise Reduction Contrast : 0
Lens Profile Enable : 0
Lens Manual Distortion Amount : 0
Perspective Vertical : 0
Perspective Horizontal : 0
Perspective Rotate : 0.0
Perspective Scale : 100
Convert To Grayscale : False
Tone Curve Name : Medium Contrast
Camera Profile : ACR 4.4
Lens Profile Setup : LensDefaults
Has Settings : True
Crop Top : 0
Crop Left : 0.136471
Crop Bottom : 1
Crop Right : 1
Crop Angle : 0
Crop Constrain To Warp : 0
Crop Width : 3675
Crop Height : 2832
Crop Unit : pixels
Has Crop : True
Already Applied : True
Tone Curve : 0, 0, 32, 22, 64, 56, 128, 128, 192, 196, 255, 255
Rating Percent : 0
Image Width : 231
Image Height : 300
Bits Per Sample : 8
Color Components : 3
Aperture : 7.1
Image Size : 231x300
Megapixels : 0.069
Scale Factor To 35 mm Equivalent : 1.0
Shutter Speed : 1/250
Create Date : 2010:11:06 16:35:36.08
Date/Time Original : 2010:11:06 16:35:36.08
Flash : On, Return detected
Circle Of Confusion : 0.030 mm
Depth Of Field : 0.07 m (1.75 - 1.81 m)
Field Of View : 15.2 deg
Focal Length : 135.0 mm (35 mm equivalent: 135.0 mm)
Hyperfocal Distance : 85.43 m
Light Value : 9.6
Lens ID : AF-S VR Zoom-Nikkor 70-200mm f/2.8G IF-ED