Uber Exif Photo
Caption-Abstract : Kentile Floors sign seen back lit at sunset in Gowanus, Brooklyn, NY; Gowanus, an industrial district surrounding the Gowanus Canal, was a crucial link to Red Hook's port, with industry thriving on its banks up until the mid twentieth century. .
By-line : Jackie Weisberg
By-line Title : Photographer
Object Name : Kentile Floors sign seen back lit at sunset in Gowanus, Brooklyn
Sub-location : Gowanus Canal
Province-State : New York
Country-Primary Location Name : USA
Keywords : 718, American, architecture, barge, barges, Brooklyn, canal, cities, city, contaminated, dump, floor, floors, Gowanus, Gowanus Canal, industrial, industrial district, Jackie Weisberg, Kentile, Kings County, neighborhood, neighborhoods, New York, New York City, New York State, northeast, NY, NYC, NYS, photograph, port, Red Hook, sewage, shipping, sign, signage, signs, sunset, the big apple, tile, tiles, Urban, Vertical, water
Copyright Notice : Cannot be reproduced without the permission of Jackie Weisberg
Copyright Flag : True
URL : Jackieweisberg.com
Image Description : Kentile Floors sign seen back lit at sunset in Gowanus, Brooklyn, NY; Gowanus, an industrial district surrounding the Gowanus Canal, was a crucial link to Red Hook's port, with industry thriving on its banks up until the mid twentieth century. .
Make : NIKON CORPORATION
Camera Model Name : NIKON D200
Orientation : Horizontal (normal)
Software : Adobe Photoshop CS5 Macintosh
Modify Date : 2010:12:02 18:12:36
Artist : Jackie Weisberg
Copyright : Cannot be reproduced without the permission of Jackie Weisberg
Exposure Time : 1/250
F Number : 8.0
Exposure Program : Manual
ISO : 200
Date/Time Original : 2009:11:09 06:25:56
Create Date : 2009:11:09 06:25:56
Shutter Speed Value : 1/250
Aperture Value : 8.0
Exposure Compensation : 0
Max Aperture Value : 4.0
Metering Mode : Multi-segment
Light Source : Fine Weather
Flash : No Flash
Focal Length : 34.0 mm
User Comment : COPYRIGHT JACKIE WEISBERG 2009
Color Space : Uncalibrated
Exif Image Width : 402
Exif Image Height : 600
Sensing Method : One-chip color area
Scene Type : Directly photographed
CFA Pattern : [Green,Red][Blue,Green]
Custom Rendered : Normal
Exposure Mode : Manual
White Balance : Manual
Digital Zoom Ratio : 1
Focal Length In 35mm Format : 51 mm
Scene Capture Type : Standard
Gain Control : None
Contrast : Low
Saturation : Normal
Sharpness : Normal
Subject Distance Range : Unknown
Profile Description : Adobe RGB (1998)
Rating : 0
Creator Tool : Adobe Photoshop CS4 Macintosh
Label : Red
Image Number : 48107
Lens : 18.0-70.0 mm f/3.5-4.5
Lens Info : 18-70mm f/3.5-4.5
ICC Profile Name : Adobe RGB (1998)
Color Mode : RGB
Authors Position : Photographer
City : Brooklyn
State : New York
Country : USA
Date Created : 2009:11:09 06:25:56.082
Web Statement : Jackieweisberg.com
Marked : True
Startup Profile : Print
Format : image/jpeg
Already Applied : True
Has Crop : False
Has Settings : True
Camera Profile : ACR 4.4
Tone Curve Name : Medium Contrast
Convert To Grayscale : False
Post Crop Vignette Amount : 0
Sharpen Edge Masking : 0
Sharpen Detail : 25
Sharpen Radius : +1.0
Parametric Highlight Split : 75
Parametric Midtone Split : 50
Parametric Shadow Split : 25
Parametric Highlights : 0
Parametric Lights : 0
Parametric Darks : 0
Parametric Shadows : 0
Split Toning Balance : 0
Split Toning Highlight Saturation : 0
Split Toning Highlight Hue : 0
Split Toning Shadow Saturation : 0
Split Toning Shadow Hue : 0
Luminance Adjustment Magenta : 0
Luminance Adjustment Purple : 0
Luminance Adjustment Blue : -31
Luminance Adjustment Aqua : 0
Luminance Adjustment Green : 0
Luminance Adjustment Yellow : -3
Luminance Adjustment Orange : -26
Luminance Adjustment Red : -1
Saturation Adjustment Magenta : 0
Saturation Adjustment Purple : 0
Saturation Adjustment Blue : 0
Saturation Adjustment Aqua : 0
Saturation Adjustment Green : 0
Saturation Adjustment Yellow : 0
Saturation Adjustment Orange : 0
Saturation Adjustment Red : 0
Hue Adjustment Magenta : 0
Hue Adjustment Purple : 0
Hue Adjustment Blue : 0
Hue Adjustment Aqua : 0
Hue Adjustment Green : 0
Hue Adjustment Yellow : 0
Hue Adjustment Orange : 0
Hue Adjustment Red : 0
Defringe : 0
Clarity : -53
Highlight Recovery : 0
Vibrance : +28
Fill Light : 0
Blue Saturation : 0
Blue Hue : 0
Green Saturation : 0
Green Hue : 0
Red Saturation : 0
Red Hue : 0
Shadow Tint : 0
Vignette Amount : 0
Chromatic Aberration B : 0
Chromatic Aberration R : 0
Color Noise Reduction : 25
Luminance Smoothing : 0
Brightness : +50
Shadows : 5
Exposure : -4.00
Tint : -3
Color Temperature : 4950
Version : 5.1
Raw File Name : Gowanus Brooklyn_125.NEF
Location : Gowanus Canal
Rights : Cannot be reproduced without the permission of Jackie Weisberg
Creator : Jackie Weisberg
Description : Kentile Floors sign seen back lit at sunset in Gowanus, Brooklyn, NY; Gowanus, an industrial district surrounding the Gowanus Canal, was a crucial link to Red Hook's port, with industry thriving on its banks up until the mid twentieth century. .
Subject : 718, American, architecture, barge, barges, Brooklyn, canal, cities, city, contaminated, dump, floor, floors, Gowanus, Gowanus Canal, industrial, industrial district, Jackie Weisberg, Kentile, Kings County, neighborhood, neighborhoods, New York, New York City, New York State, northeast, NY, NYC, NYS, photograph, port, Red Hook, sewage, shipping, sign, signage, signs, sunset, the big apple, tile, tiles, Urban, Vertical, water
Title : Kentile Floors sign seen back lit at sunset in Gowanus, Brooklyn, NY
Tone Curve : 0, 0, 32, 22, 64, 56, 128, 128, 192, 196, 255, 255
Hierarchical Subject : Ambient Keywords|New York, New York City, New York State, NY, NYC, NYS, Urban, city, cities, northeast, the big apple, Ambient Keywords|photograph, American, architecture, Places|Brooklyn, Places|Kings County, Other Keywords|neighborhoods, Other Keywords|Vertical, Other Keywords|718, Other Keywords|Jackie Weisberg
Image Width : 201
Image Height : 300
Bits Per Sample : 8
Color Components : 3
Aperture : 8.0
Image Size : 201x300
Megapixels : 0.060
Scale Factor To 35 mm Equivalent : 1.5
Shutter Speed : 1/250
Create Date : 2009:11:09 06:25:56.82
Date/Time Original : 2009:11:09 06:25:56.82
Modify Date : 2010:12:02 18:12:36.82
Circle Of Confusion : 0.020 mm
Field Of View : 38.9 deg
Focal Length : 34.0 mm (35 mm equivalent: 51.0 mm)
Hyperfocal Distance : 7.21 m
Light Value : 13.0
Lens ID : 18.0-70.0mm f/3.5-4.5