Uber Exif Photo
Caption-Abstract : Graffiti and demolished building in Gowanus, Brooklyn, New York; Gowanus, an industrial district surrounding the Gowanus Canal, was a crucial link to Red Hook's port, with industry thriving on its banks up until the mid twentieth century. .
By-line : Jackie Weisberg
By-line Title : Photographer
Object Name : Graffiti and demolished building in Gowanus, Brooklyn, New York
Sub-location : Gowanus Canal
Province-State : New York
Country-Primary Location Name : USA
Keywords : 3rd avenue, 718, American, architecture, barge, barges, blue skies, blue sky, Brooklyn, building, buildings, canal, cities, city, contaminated, demolished, demolition, dump, empty lot, empty lots, Gowanus, Gowanus Canal, graffiti, graffito, Horizontal, industrial, industrial district, Jackie Weisberg, Kings County, neighborhood, neighborhoods, New York, New York City, New York State, northeast, NY, NYC, NYS, photograph, port, Red Hook, sewage, shipping, the big apple, Third Avenue, Union Street, Urban, water
Copyright Notice : Cannot be reproduced without the permission of Jackie Weisberg
Copyright Flag : True
URL : Jackieweisberg.com
Image Description : Graffiti and demolished building in Gowanus, Brooklyn, New York; Gowanus, an industrial district surrounding the Gowanus Canal, was a crucial link to Red Hook's port, with industry thriving on its banks up until the mid twentieth century. .
Make : NIKON CORPORATION
Camera Model Name : NIKON D200
Orientation : Horizontal (normal)
Software : Adobe Photoshop CS5 Macintosh
Modify Date : 2010:12:02 18:14:37
Artist : Jackie Weisberg
Copyright : Cannot be reproduced without the permission of Jackie Weisberg
Exposure Time : 1/50
F Number : 11.0
Exposure Program : Manual
ISO : 200
Date/Time Original : 2009:11:09 06:31:13
Create Date : 2009:11:09 06:31:13
Shutter Speed Value : 1/50
Aperture Value : 11.0
Exposure Compensation : 0
Max Aperture Value : 4.0
Metering Mode : Multi-segment
Light Source : Fine Weather
Flash : No Flash
Focal Length : 34.0 mm
User Comment : COPYRIGHT JACKIE WEISBERG 2009
Color Space : Uncalibrated
Exif Image Width : 600
Exif Image Height : 402
Sensing Method : One-chip color area
Scene Type : Directly photographed
CFA Pattern : [Green,Red][Blue,Green]
Custom Rendered : Normal
Exposure Mode : Manual
White Balance : Manual
Digital Zoom Ratio : 1
Focal Length In 35mm Format : 51 mm
Scene Capture Type : Standard
Gain Control : None
Contrast : Normal
Saturation : Normal
Sharpness : Normal
Subject Distance Range : Unknown
Profile Description : Adobe RGB (1998)
Creator Tool : Ver.1.00
Rating : 0
Label : Purple
Lens Info : 18-70mm f/3.5-4.5
Lens : 18.0-70.0 mm f/3.5-4.5
Image Number : 48118
Country : USA
State : New York
City : Brooklyn
Authors Position : Photographer
Color Mode : RGB
ICC Profile Name : Adobe RGB (1998)
Date Created : 2009:11:09 06:31:13.049
Marked : True
Web Statement : Jackieweisberg.com
Startup Profile : Print
Format : image/jpeg
Raw File Name : Gowanus Brooklyn_134.NEF
Version : 5.1
Color Temperature : 3600
Tint : 0
Exposure : +0.50
Shadows : 8
Brightness : +50
Luminance Smoothing : 0
Color Noise Reduction : 25
Chromatic Aberration R : 0
Chromatic Aberration B : 0
Vignette Amount : 0
Shadow Tint : 0
Red Hue : 0
Red Saturation : 0
Green Hue : 0
Green Saturation : 0
Blue Hue : 0
Blue Saturation : 0
Fill Light : 0
Vibrance : +8
Highlight Recovery : 0
Clarity : -54
Defringe : 0
Hue Adjustment Red : 0
Hue Adjustment Orange : 0
Hue Adjustment Yellow : 0
Hue Adjustment Green : 0
Hue Adjustment Aqua : 0
Hue Adjustment Blue : 0
Hue Adjustment Purple : 0
Hue Adjustment Magenta : 0
Saturation Adjustment Red : 0
Saturation Adjustment Orange : 0
Saturation Adjustment Yellow : 0
Saturation Adjustment Green : 0
Saturation Adjustment Aqua : 0
Saturation Adjustment Blue : 0
Saturation Adjustment Purple : 0
Saturation Adjustment Magenta : 0
Luminance Adjustment Red : -14
Luminance Adjustment Orange : +7
Luminance Adjustment Yellow : +3
Luminance Adjustment Green : +30
Luminance Adjustment Aqua : 0
Luminance Adjustment Blue : 0
Luminance Adjustment Purple : 0
Luminance Adjustment Magenta : 0
Split Toning Shadow Hue : 0
Split Toning Shadow Saturation : 0
Split Toning Highlight Hue : 0
Split Toning Highlight Saturation : 0
Split Toning Balance : 0
Parametric Shadows : 0
Parametric Darks : 0
Parametric Lights : 0
Parametric Highlights : 0
Parametric Shadow Split : 25
Parametric Midtone Split : 50
Parametric Highlight Split : 75
Sharpen Radius : +1.0
Sharpen Detail : 25
Sharpen Edge Masking : 0
Post Crop Vignette Amount : 0
Convert To Grayscale : False
Tone Curve Name : Medium Contrast
Camera Profile : ACR 4.4
Has Settings : True
Has Crop : False
Already Applied : True
Location : Gowanus Canal
Title : Graffiti and demolished building in Gowanus, Brooklyn, New York
Subject : 3rd avenue, 718, American, architecture, barge, barges, blue skies, blue sky, Brooklyn, building, buildings, canal, cities, city, contaminated, demolished, demolition, dump, empty lot, empty lots, Gowanus, Gowanus Canal, graffiti, graffito, Horizontal, industrial, industrial district, Jackie Weisberg, Kings County, neighborhood, neighborhoods, New York, New York City, New York State, northeast, NY, NYC, NYS, photograph, port, Red Hook, sewage, shipping, the big apple, Third Avenue, Union Street, Urban, water
Description : Graffiti and demolished building in Gowanus, Brooklyn, New York; Gowanus, an industrial district surrounding the Gowanus Canal, was a crucial link to Red Hook's port, with industry thriving on its banks up until the mid twentieth century. .
Creator : Jackie Weisberg
Rights : Cannot be reproduced without the permission of Jackie Weisberg
Tone Curve : 0, 0, 32, 22, 64, 56, 128, 128, 192, 196, 255, 255
Hierarchical Subject : Ambient Keywords|New York, New York City, New York State, NY, NYC, NYS, Urban, city, cities, northeast, the big apple, Ambient Keywords|photograph, American, architecture, Places|Brooklyn, Places|Kings County, Other Keywords|neighborhoods, Other Keywords|Horizontal, Other Keywords|blue skies, Other Keywords|blue sky, Other Keywords|building, Other Keywords|buildings, Other Keywords|718, Other Keywords|Jackie Weisberg
Image Width : 300
Image Height : 201
Bits Per Sample : 8
Color Components : 3
Aperture : 11.0
Image Size : 300x201
Megapixels : 0.060
Scale Factor To 35 mm Equivalent : 1.5
Shutter Speed : 1/50
Create Date : 2009:11:09 06:31:13.49
Date/Time Original : 2009:11:09 06:31:13.49
Modify Date : 2010:12:02 18:14:37.49
Circle Of Confusion : 0.020 mm
Field Of View : 38.9 deg
Focal Length : 34.0 mm (35 mm equivalent: 51.0 mm)
Hyperfocal Distance : 5.25 m
Light Value : 11.6
Lens ID : 18.0-70.0mm f/3.5-4.5