Uber Exif Photo
By-line : unknown
Make : Canon
Camera Model Name : Canon EOS 400D DIGITAL
Orientation : Horizontal (normal)
Software : Adobe Photoshop CS5 (12.0x20100115 [20100115.m.998 2010/01/15:02:00:00 cutoff; m branch]) Windows
Modify Date : 2011:01:04 06:02:24
Artist : unknown
Exposure Time : 1/30
F Number : 13.0
Exposure Program : Manual
ISO : 400
Date/Time Original : 2011:01:02 15:18:28
Create Date : 2011:01:02 15:18:28
Shutter Speed Value : 1/30
Aperture Value : 13.0
Exposure Compensation : 0
Max Aperture Value : 2.8
Metering Mode : Multi-segment
Flash : Off, Did not fire
Focal Length : 50.0 mm
Color Space : Uncalibrated
Exif Image Width : 1333
Exif Image Height : 2000
Custom Rendered : Normal
Exposure Mode : Manual
White Balance : Manual
Scene Capture Type : Standard
Profile Description : Adobe RGB (1998)
Rating : 3
Creator Tool : Adobe Photoshop CS5 (12.0x20100115 [20100115.m.998 2010/01/15:02:00:00 cutoff; m branch]) Windows
Format : image/jpeg
Serial Number : 1931104161
Lens Info : 50mm f/?
Lens : EF50mm f/2.5 Compact Macro
Image Number : 96
Flash Compensation : 0
Owner Name : unknown
Firmware : 1.1.1
Raw File Name : _MG_0102.CR2
Version : 6.0
Process Version : 5.7
Color Temperature : 5500
Tint : +10
Exposure : +0.25
Shadows : 15
Brightness : +50
Contrast : +29
Saturation : 0
Sharpness : 0
Luminance Smoothing : 22
Color Noise Reduction : 25
Chromatic Aberration R : 0
Chromatic Aberration B : 0
Vignette Amount : -69
Vignette Midpoint : 50
Shadow Tint : 0
Red Hue : 0
Red Saturation : 0
Green Hue : 0
Green Saturation : 0
Blue Hue : 0
Blue Saturation : 0
Fill Light : 6
Vibrance : +21
Highlight Recovery : 5
Clarity : +48
Defringe : 0
Hue Adjustment Red : 0
Hue Adjustment Orange : 0
Hue Adjustment Yellow : 0
Hue Adjustment Green : 0
Hue Adjustment Aqua : 0
Hue Adjustment Blue : 0
Hue Adjustment Purple : 0
Hue Adjustment Magenta : 0
Saturation Adjustment Red : 0
Saturation Adjustment Orange : 0
Saturation Adjustment Yellow : 0
Saturation Adjustment Green : 0
Saturation Adjustment Aqua : 0
Saturation Adjustment Blue : 0
Saturation Adjustment Purple : 0
Saturation Adjustment Magenta : 0
Luminance Adjustment Red : 0
Luminance Adjustment Orange : 0
Luminance Adjustment Yellow : 0
Luminance Adjustment Green : 0
Luminance Adjustment Aqua : 0
Luminance Adjustment Blue : 0
Luminance Adjustment Purple : 0
Luminance Adjustment Magenta : 0
Split Toning Shadow Hue : 99
Split Toning Shadow Saturation : 29
Split Toning Highlight Hue : 0
Split Toning Highlight Saturation : 5
Split Toning Balance : -27
Parametric Shadows : 0
Parametric Darks : -22
Parametric Lights : +9
Parametric Highlights : 0
Parametric Shadow Split : 25
Parametric Midtone Split : 50
Parametric Highlight Split : 75
Sharpen Radius : +1.7
Sharpen Detail : 54
Sharpen Edge Masking : 65
Post Crop Vignette Amount : -54
Post Crop Vignette Midpoint : 50
Post Crop Vignette Feather : 68
Post Crop Vignette Roundness : 0
Post Crop Vignette Style : Color Priority
Post Crop Vignette Highlight Contrast : 0
Grain Amount : 0
Luminance Noise Reduction Detail : 50
Color Noise Reduction Detail : 50
Luminance Noise Reduction Contrast : 0
Convert To Grayscale : False
Tone Curve Name : Medium Contrast
Camera Profile : Adobe Standard
Has Settings : True
Has Crop : False
Already Applied : True
Color Mode : RGB
ICC Profile Name : Adobe RGB (1998)
Date Created : 2011:01:01
Creator : unknown
Tone Curve : 0, 0, 32, 22, 64, 56, 128, 128, 192, 196, 255, 255
Paint Correction What : Correction
Paint Correction Amount : 1.000000
Paint Correction Active : true
Paint Correction Exposure : 0.062500
Paint Correction Saturation : 0.160000
Paint Correction Contrast : 0.070000
Paint Correction Clarity : 0.520000
Paint Correction Sharpness : -0.020000
Paint Correction Brightness : 0.070000
Paint Correction Toning Hue : 60.000000
Paint Correction Toning Saturation : 0.450000
Paint Correction Mask What : Mask/Paint
Paint Correction Mask Value : 1.000000
Paint Correction Mask Radius : 0.023149
Paint Correction Mask Flow : 0.910569
Paint Correction Mask Center Weight : 0.162140
Image Width : 200
Image Height : 300
Bits Per Sample : 8
Color Components : 3
Aperture : 13.0
Image Size : 200x300
Megapixels : 0.060
Scale Factor To 35 mm Equivalent : 1.6
Shutter Speed : 1/30
Circle Of Confusion : 0.019 mm
Field Of View : 25.1 deg
Focal Length : 50.0 mm (35 mm equivalent: 80.9 mm)
Hyperfocal Distance : 10.36 m
Light Value : 10.3
Lens ID : Sigma 50mm f/2.8 EX