Uber Exif Photo
Make : NIKON CORPORATION
Camera Model Name : NIKON D2X
Orientation : Horizontal (normal)
Software : Adobe Photoshop CS4 Macintosh
Modify Date : 2011:01:04 16:58:29
Time Zone Offset : -7 -7
Exposure Time : 1/80
F Number : 16.0
Exposure Program : Manual
ISO : 400
Date/Time Original : 2007:08:06 12:04:52
Create Date : 2007:08:06 12:04:52
Shutter Speed Value : 1/80
Aperture Value : 16.0
Exposure Compensation : -2/3
Max Aperture Value : 4.0
Metering Mode : Multi-segment
Light Source : Fine Weather
Focal Length : 12.0 mm
Color Space : Uncalibrated
Exif Image Width : 1200
Exif Image Height : 797
Sensing Method : One-chip color area
Scene Type : Directly photographed
CFA Pattern : [Red,Green][Green,Blue]
Custom Rendered : Normal
Exposure Mode : Manual
White Balance : Manual
Digital Zoom Ratio : 1
Focal Length In 35mm Format : 18 mm
Scene Capture Type : Standard
Gain Control : Low gain up
Contrast : Normal
Saturation : Normal
Sharpness : Hard
Subject Distance Range : Unknown
Profile Description : Adobe RGB (1998)
Date/Time Digitized : 2007:08:06 12:04:52.65-07:00
Rating : 5
Creator Tool : Adobe Photoshop CS3 Macintosh
Image Number : 762
Lens : 12.0-24.0 mm f/4.0
Lens Info : 12-24mm f/4
Serial Number : 5072176
Already Applied : True
Has Crop : False
Has Settings : True
Camera Profile : ACR 3.1
Tone Curve Name : Medium Contrast
Convert To Grayscale : False
Sharpen Edge Masking : 0
Sharpen Detail : 25
Sharpen Radius : +1.0
Parametric Highlight Split : 75
Parametric Midtone Split : 50
Parametric Shadow Split : 25
Parametric Highlights : 0
Parametric Lights : 0
Parametric Darks : 0
Parametric Shadows : 0
Split Toning Balance : 0
Split Toning Highlight Saturation : 0
Split Toning Highlight Hue : 0
Split Toning Shadow Saturation : 0
Split Toning Shadow Hue : 0
Luminance Adjustment Magenta : 0
Luminance Adjustment Purple : 0
Luminance Adjustment Blue : 0
Luminance Adjustment Aqua : 0
Luminance Adjustment Green : 0
Luminance Adjustment Yellow : 0
Luminance Adjustment Orange : 0
Luminance Adjustment Red : 0
Saturation Adjustment Magenta : 0
Saturation Adjustment Purple : 0
Saturation Adjustment Blue : 0
Saturation Adjustment Aqua : 0
Saturation Adjustment Green : 0
Saturation Adjustment Yellow : 0
Saturation Adjustment Orange : 0
Saturation Adjustment Red : 0
Hue Adjustment Magenta : 0
Hue Adjustment Purple : 0
Hue Adjustment Blue : 0
Hue Adjustment Aqua : 0
Hue Adjustment Green : 0
Hue Adjustment Yellow : 0
Hue Adjustment Orange : 0
Hue Adjustment Red : 0
Defringe : 0
Clarity : 0
Highlight Recovery : 0
Vibrance : +56
Fill Light : 25
Blue Saturation : 0
Blue Hue : 0
Green Saturation : 0
Green Hue : 0
Red Saturation : 0
Red Hue : 0
Shadow Tint : 0
Vignette Amount : 0
Chromatic Aberration B : 0
Chromatic Aberration R : 0
Color Noise Reduction : 25
Luminance Smoothing : 0
Brightness : +50
Shadows : 0
Exposure : 0.00
Tint : -1
Color Temperature : 4750
Raw File Name : DSC_0751.NEF
Version : 4.1
ICC Profile Name : Adobe RGB (1998)
Color Mode : RGB
Sidecar For Extension : NEF
Format : image/jpeg
Flash Fired : False
Flash Return : No return detection
Flash Mode : Unknown
Flash Function : False
Flash Red Eye Mode : False
Tone Curve : 0, 0, 32, 22, 64, 56, 128, 128, 192, 196, 255, 255
Image Width : 300
Image Height : 199
Bits Per Sample : 8
Color Components : 3
Aperture : 16.0
Image Size : 300x199
Megapixels : 0.060
Scale Factor To 35 mm Equivalent : 1.5
Shutter Speed : 1/80
Create Date : 2007:08:06 12:04:52.65
Date/Time Original : 2007:08:06 12:04:52.65
Modify Date : 2011:01:04 16:58:29.65
Flash : No Flash
Circle Of Confusion : 0.020 mm
Field Of View : 90.0 deg
Focal Length : 12.0 mm (35 mm equivalent: 18.0 mm)
Hyperfocal Distance : 0.45 m
Light Value : 12.3
Lens ID : 12.0-24.0mm f/4.0