Uber Exif Photo
Caption-Abstract : OLYMPUS DIGITAL CAMERA
By-line : Jason H
Copyright Notice : © JGH 2010
Photometric Interpretation : RGB
Image Description : OLYMPUS DIGITAL CAMERA
Make : OLYMPUS IMAGING CORP.
Camera Model Name : E-520
Orientation : Horizontal (normal)
Samples Per Pixel : 3
Software : Adobe Photoshop CS5 Windows
Modify Date : 2010:12:27 01:23:34
Artist : Jason H
Copyright : © JGH 2010
Exposure Time : 1/180
F Number : 8.0
Exposure Program : Manual
ISO : 200
Date/Time Original : 2010:12:18 15:30:15
Create Date : 2010:12:18 15:30:15
Shutter Speed Value : 1/180
Aperture Value : 8.0
Exposure Compensation : 0
Max Aperture Value : 4.0
Metering Mode : Multi-segment
Light Source : Unknown
Flash : On, Fired
Focal Length : 40.0 mm
Color Space : sRGB
Exif Image Width : 338
Exif Image Height : 440
Custom Rendered : Custom
Exposure Mode : Manual
White Balance : Manual
Digital Zoom Ratio : 1
Scene Capture Type : Standard
Gain Control : Low gain up
Contrast : High
Saturation : High
Sharpness : Hard
Creator Tool : Adobe Photoshop CS5 Windows
Format : image/jpeg
Date Created : 2010:12:18 15:30:15
Color Mode : RGB
ICC Profile Name : sRGB IEC61966-2.1
Version : 5.7
Incremental Temperature : 0
Incremental Tint : 0
Exposure : +0.17
Shadows : 13
Brightness : +10
Luminance Smoothing : 20
Color Noise Reduction : 0
Chromatic Aberration R : 0
Chromatic Aberration B : 0
Vignette Amount : 0
Shadow Tint : 0
Red Hue : 0
Red Saturation : 0
Green Hue : 0
Green Saturation : 0
Blue Hue : 0
Blue Saturation : 0
Fill Light : 15
Highlight Recovery : 0
Clarity : +30
Defringe : 0
Gray Mixer Red : +45
Gray Mixer Orange : +21
Gray Mixer Yellow : +2
Gray Mixer Green : +25
Gray Mixer Aqua : +25
Gray Mixer Blue : +20
Gray Mixer Purple : 0
Gray Mixer Magenta : -40
Split Toning Shadow Hue : 0
Split Toning Shadow Saturation : 0
Split Toning Highlight Hue : 0
Split Toning Highlight Saturation : 0
Split Toning Balance : 0
Parametric Shadows : -50
Parametric Darks : +4
Parametric Lights : -4
Parametric Highlights : +23
Parametric Shadow Split : 25
Parametric Midtone Split : 50
Parametric Highlight Split : 75
Sharpen Radius : +1.0
Sharpen Detail : 25
Sharpen Edge Masking : 0
Post Crop Vignette Amount : 0
Convert To Grayscale : True
Tone Curve Name : Medium Contrast
Camera Profile : Embedded
Has Settings : True
Has Crop : False
Already Applied : True
Creator : Jason H
Description : OLYMPUS DIGITAL CAMERA
Rights : © JGH 2010
Tone Curve : 0, 0, 32, 22, 64, 56, 128, 128, 192, 196, 255, 255
Gradient Based Corr What : Correction
Gradient Based Corr Amount : 1.000000
Gradient Based Corr Active : true
Gradient Based Corr Exposure : 0.000000
Gradient Based Corr Saturation : 0.000000
Gradient Based Corr Contrast : 0.000000
Gradient Based Corr Clarity : -1.000000
Gradient Based Corr Sharpness : 0.250000
Gradient Based Corr Brightness : 0.000000
Gradient Based Corr Toning Hue : 240.000000
Gradient Based Corr Toning Saturation : 0.000000
Gradient Based Corr Mask What : Mask/Gradient
Gradient Based Corr Mask Value : 1.000000
Gradient Based Corr Mask Zero X : 0.387931
Gradient Based Corr Mask Zero Y : 0.579741
Gradient Based Corr Mask Full X : 0.288905
Gradient Based Corr Mask Full Y : 0.945373
Image Width : 230
Image Height : 300
Bits Per Sample : 8
Color Components : 1
Aperture : 8.0
Image Size : 230x300
Megapixels : 0.069
Shutter Speed : 1/180
Light Value : 12.5