Uber Exif Photo
By-line : Konrad Skiba
Copyright Notice : skibek.pl
Make : NIKON CORPORATION
Camera Model Name : NIKON D3S
Orientation : Horizontal (normal)
Software : Adobe Photoshop CS5 Windows
Modify Date : 2010:08:15 18:45:54
Artist : Konrad Skiba
Copyright : skibek.pl
Exposure Time : 1/200
F Number : 3.5
Exposure Program : Manual
ISO : 2000
Date/Time Original : 2010:07:10 21:03:05
Create Date : 2010:07:10 21:03:05
Shutter Speed Value : 1/200
Aperture Value : 3.5
Exposure Compensation : 0
Max Aperture Value : 2.8
Subject Distance : 5.96 m
Metering Mode : Multi-segment
Light Source : Unknown
Focal Length : 92.0 mm
User Comment : www.skibek.pl
Color Space : Uncalibrated
Exif Image Width : 532
Exif Image Height : 800
Sensing Method : One-chip color area
Scene Type : Directly photographed
CFA Pattern : [Red,Green][Green,Blue]
Custom Rendered : Normal
Exposure Mode : Manual
White Balance : Auto
Digital Zoom Ratio : 1
Focal Length In 35mm Format : 92 mm
Scene Capture Type : Standard
Gain Control : High gain up
Contrast : Normal
Saturation : Normal
Sharpness : Hard
Subject Distance Range : Unknown
Profile Description : Adobe RGB (1998)
Creator Tool : Adobe Photoshop CS5 Windows
Rating : 0
Serial Number : 2019207
Lens Info : 70-200mm f/2.8
Lens : 70.0-200.0 mm f/2.8
Image Number : 22522
Format : image/jpeg
Raw File Name : _SKI2323.NEF
Version : 6.0
Process Version : 5.7
Color Temperature : 5850
Tint : +10
Exposure : 0.00
Shadows : 5
Brightness : +50
Luminance Smoothing : 0
Color Noise Reduction : 25
Chromatic Aberration R : 0
Chromatic Aberration B : 0
Vignette Amount : 0
Shadow Tint : 0
Red Hue : 0
Red Saturation : 0
Green Hue : 0
Green Saturation : 0
Blue Hue : 0
Blue Saturation : 0
Fill Light : 18
Vibrance : 0
Highlight Recovery : 0
Clarity : 0
Defringe : 0
Hue Adjustment Red : 0
Hue Adjustment Orange : 0
Hue Adjustment Yellow : 0
Hue Adjustment Green : 0
Hue Adjustment Aqua : 0
Hue Adjustment Blue : 0
Hue Adjustment Purple : 0
Hue Adjustment Magenta : 0
Saturation Adjustment Red : 0
Saturation Adjustment Orange : 0
Saturation Adjustment Yellow : 0
Saturation Adjustment Green : 0
Saturation Adjustment Aqua : 0
Saturation Adjustment Blue : 0
Saturation Adjustment Purple : 0
Saturation Adjustment Magenta : 0
Luminance Adjustment Red : 0
Luminance Adjustment Orange : 0
Luminance Adjustment Yellow : 0
Luminance Adjustment Green : 0
Luminance Adjustment Aqua : 0
Luminance Adjustment Blue : 0
Luminance Adjustment Purple : 0
Luminance Adjustment Magenta : 0
Split Toning Shadow Hue : 0
Split Toning Shadow Saturation : 0
Split Toning Highlight Hue : 0
Split Toning Highlight Saturation : 0
Split Toning Balance : 0
Parametric Shadows : 0
Parametric Darks : 0
Parametric Lights : 0
Parametric Highlights : 0
Parametric Shadow Split : 25
Parametric Midtone Split : 50
Parametric Highlight Split : 75
Sharpen Radius : +1.0
Sharpen Detail : 25
Sharpen Edge Masking : 0
Post Crop Vignette Amount : 0
Grain Amount : 0
Color Noise Reduction Detail : 50
Convert To Grayscale : False
Tone Curve Name : Medium Contrast
Camera Profile : Adobe Standard
Has Settings : True
Has Crop : False
Already Applied : True
Sidecar For Extension : NEF
Date Created : 2010:07:10 21:03:05.02
Color Mode : RGB
ICC Profile Name : Adobe RGB (1998)
Photometric Interpretation : RGB
Samples Per Pixel : 3
Date/Time Digitized : 2010:07:10 21:03:05.20+02:00
Creator : Konrad Skiba
Rights : skibek.pl
Tone Curve : 0, 0, 32, 22, 64, 56, 128, 128, 192, 196, 255, 255
Flash Fired : False
Flash Return : No return detection
Flash Mode : Unknown
Flash Function : False
Flash Red Eye Mode : False
Image Width : 200
Image Height : 300
Bits Per Sample : 8
Color Components : 3
Aperture : 3.5
Image Size : 200x300
Megapixels : 0.060
Scale Factor To 35 mm Equivalent : 1.0
Shutter Speed : 1/200
Create Date : 2010:07:10 21:03:05.20
Date/Time Original : 2010:07:10 21:03:05.20
Modify Date : 2010:08:15 18:45:54.20
Flash : No Flash
Circle Of Confusion : 0.030 mm
Depth Of Field : 0.87 m (5.55 - 6.43 m)
Field Of View : 22.1 deg
Focal Length : 92.0 mm (35 mm equivalent: 92.0 mm)
Hyperfocal Distance : 80.49 m
Light Value : 6.9
Lens ID : Tamron SP AF 70-200mm f/2.8 Di LD (IF) Macro (A001)