Uber Exif Photo
By-line : ARTURO SALCIDO HERNANDEZ
Copyright Notice : 2010
Photometric Interpretation : RGB
Make : NIKON CORPORATION
Camera Model Name : NIKON D300S
Orientation : Horizontal (normal)
Samples Per Pixel : 3
Software : Adobe Photoshop CS5 Windows
Modify Date : 2011:01:13 00:04:39
Artist : ARTURO SALCIDO HERNANDEZ
Copyright : 2010
Exposure Time : 1/1250
F Number : 5.6
Exposure Program : Manual
ISO : 200
Date/Time Original : 2010:11:26 17:18:09
Create Date : 2010:11:26 17:18:09
Shutter Speed Value : 1/1250
Aperture Value : 5.6
Exposure Compensation : 0
Max Aperture Value : 5.7
Subject Distance : 4.22 m
Metering Mode : Multi-segment
Light Source : Unknown
Flash : No Flash
Focal Length : 90.0 mm
Color Space : sRGB
Exif Image Width : 960
Exif Image Height : 1200
Sensing Method : One-chip color area
Scene Type : Directly photographed
CFA Pattern : [Red,Green][Green,Blue]
Custom Rendered : Normal
Exposure Mode : Manual
White Balance : Auto
Digital Zoom Ratio : 1
Focal Length In 35mm Format : 135 mm
Scene Capture Type : Standard
Gain Control : None
Contrast : Normal
Saturation : Normal
Sharpness : Normal
Subject Distance Range : Unknown
Profile Description : sRGB IEC61966-2.1
Creator Tool : Adobe Photoshop CS5 Windows
Rating : 0
Format : image/jpeg
Serial Number : 3010893
Lens Info : 18-105mm f/3.5-5.6
Lens : 18.0-105.0 mm f/3.5-5.6
Image Number : 35281
Raw File Name : DSC_4625.dng
Version : 6.0
Process Version : 5.7
Color Temperature : 6250
Tint : +15
Exposure : +1.89
Shadows : 0
Brightness : +53
Luminance Smoothing : 17
Color Noise Reduction : 25
Chromatic Aberration R : 0
Chromatic Aberration B : 0
Vignette Amount : 0
Shadow Tint : 0
Red Hue : 0
Red Saturation : 0
Green Hue : 0
Green Saturation : 0
Blue Hue : 0
Blue Saturation : 0
Fill Light : 5
Vibrance : 0
Highlight Recovery : 0
Clarity : 0
Defringe : 0
Hue Adjustment Red : 0
Hue Adjustment Orange : 0
Hue Adjustment Yellow : 0
Hue Adjustment Green : 0
Hue Adjustment Aqua : 0
Hue Adjustment Blue : 0
Hue Adjustment Purple : 0
Hue Adjustment Magenta : 0
Saturation Adjustment Red : 0
Saturation Adjustment Orange : 0
Saturation Adjustment Yellow : 0
Saturation Adjustment Green : 0
Saturation Adjustment Aqua : 0
Saturation Adjustment Blue : 0
Saturation Adjustment Purple : 0
Saturation Adjustment Magenta : 0
Luminance Adjustment Red : 0
Luminance Adjustment Orange : 0
Luminance Adjustment Yellow : 0
Luminance Adjustment Green : 0
Luminance Adjustment Aqua : 0
Luminance Adjustment Blue : 0
Luminance Adjustment Purple : 0
Luminance Adjustment Magenta : 0
Split Toning Shadow Hue : 0
Split Toning Shadow Saturation : 0
Split Toning Highlight Hue : 0
Split Toning Highlight Saturation : 0
Split Toning Balance : 0
Parametric Shadows : 0
Parametric Darks : 0
Parametric Lights : 0
Parametric Highlights : 0
Parametric Shadow Split : 25
Parametric Midtone Split : 50
Parametric Highlight Split : 75
Sharpen Radius : +1.0
Sharpen Detail : 25
Sharpen Edge Masking : 0
Post Crop Vignette Amount : 0
Grain Amount : 0
Luminance Noise Reduction Detail : 50
Color Noise Reduction Detail : 50
Luminance Noise Reduction Contrast : 0
Convert To Grayscale : False
Tone Curve Name : Medium Contrast
Camera Profile : Adobe Standard
Has Settings : True
Crop Top : 0.129772
Crop Left : 0.277515
Crop Bottom : 1
Crop Right : 1
Crop Angle : 0
Has Crop : True
Already Applied : True
Date Created : 2010:11:26 17:18:09.005
Color Mode : RGB
ICC Profile Name : sRGB IEC61966-2.1
Creator : ARTURO SALCIDO HERNANDEZ
Rights : 2010
Tone Curve : 0, 0, 32, 22, 64, 56, 128, 128, 192, 196, 255, 255
Image Width : 240
Image Height : 300
Bits Per Sample : 8
Color Components : 3
Aperture : 5.6
Image Size : 240x300
Megapixels : 0.072
Scale Factor To 35 mm Equivalent : 1.5
Shutter Speed : 1/1250
Create Date : 2010:11:26 17:18:09.50
Date/Time Original : 2010:11:26 17:18:09.50
Modify Date : 2011:01:13 00:04:39.50
Circle Of Confusion : 0.020 mm
Depth Of Field : 0.48 m (3.99 - 4.48 m)
Field Of View : 15.2 deg
Focal Length : 90.0 mm (35 mm equivalent: 135.0 mm)
Hyperfocal Distance : 72.21 m
Light Value : 14.3
Lens ID : AF-S DX VR Zoom-Nikkor 18-105mm f/3.5-5.6G ED