Uber Exif Photo
By-line : hood eshak
Copyright Notice : (c)hood eshak
Photometric Interpretation : RGB
Make : NIKON CORPORATION
Camera Model Name : NIKON D3
Orientation : Horizontal (normal)
Samples Per Pixel : 3
Software : Adobe Photoshop CS5 Windows
Modify Date : 2011:01:14 22:00:02
Artist : hood eshak
Copyright : (c)hood eshak
Exposure Time : 1/320
F Number : 1.4
Exposure Program : Aperture-priority AE
ISO : 200
Sensitivity Type : Unknown
Date/Time Original : 2011:01:09 16:29:43
Create Date : 2011:01:09 16:29:43
Shutter Speed Value : 1/320
Aperture Value : 1.4
Exposure Compensation : +1
Max Aperture Value : 1.4
Subject Distance : 2.99 m
Metering Mode : Multi-segment
Light Source : Unknown
Flash : No Flash
Focal Length : 35.0 mm
User Comment : (c)hood 2009
Color Space : sRGB
Exif Image Width : 1000
Exif Image Height : 555
Sensing Method : One-chip color area
Scene Type : Directly photographed
CFA Pattern : [Red,Green][Green,Blue]
Custom Rendered : Normal
Exposure Mode : Auto
White Balance : Auto
Digital Zoom Ratio : 1
Focal Length In 35mm Format : 35 mm
Scene Capture Type : Standard
Gain Control : None
Contrast : Normal
Saturation : Normal
Sharpness : Normal
Subject Distance Range : Unknown
Serial Number : 2078315
Lens Info : 35mm f/1.4
Lens Model : 35.0 mm f/1.4
Profile Description : sRGB IEC61966-2.1
Creator Tool : Adobe Photoshop CS5 Windows
Rating : 0
Format : image/jpeg
Lens : 35.0 mm f/1.4
Image Number : 60441
Approximate Focus Distance : 2.99
Raw File Name : _DSC2160.NEF
Version : 6.3
Process Version : 5.7
Color Temperature : 6500
Tint : -8
Exposure : 0.00
Shadows : 10
Brightness : +65
Luminance Smoothing : 0
Color Noise Reduction : 25
Chromatic Aberration R : 0
Chromatic Aberration B : 0
Vignette Amount : 0
Shadow Tint : 0
Red Hue : 0
Red Saturation : 0
Green Hue : 0
Green Saturation : 0
Blue Hue : 0
Blue Saturation : -16
Fill Light : 0
Vibrance : +15
Highlight Recovery : 0
Clarity : +15
Defringe : 0
Hue Adjustment Red : 0
Hue Adjustment Orange : 0
Hue Adjustment Yellow : 0
Hue Adjustment Green : 0
Hue Adjustment Aqua : 0
Hue Adjustment Blue : 0
Hue Adjustment Purple : 0
Hue Adjustment Magenta : 0
Saturation Adjustment Red : 0
Saturation Adjustment Orange : 0
Saturation Adjustment Yellow : 0
Saturation Adjustment Green : 0
Saturation Adjustment Aqua : 0
Saturation Adjustment Blue : 0
Saturation Adjustment Purple : 0
Saturation Adjustment Magenta : 0
Luminance Adjustment Red : 0
Luminance Adjustment Orange : 0
Luminance Adjustment Yellow : 0
Luminance Adjustment Green : 0
Luminance Adjustment Aqua : 0
Luminance Adjustment Blue : 0
Luminance Adjustment Purple : 0
Luminance Adjustment Magenta : 0
Split Toning Shadow Hue : 0
Split Toning Shadow Saturation : 0
Split Toning Highlight Hue : 0
Split Toning Highlight Saturation : 0
Split Toning Balance : 0
Parametric Shadows : 0
Parametric Darks : 0
Parametric Lights : 0
Parametric Highlights : 0
Parametric Shadow Split : 25
Parametric Midtone Split : 50
Parametric Highlight Split : 75
Sharpen Radius : +1.0
Sharpen Detail : 25
Sharpen Edge Masking : 0
Post Crop Vignette Amount : 0
Grain Amount : 0
Color Noise Reduction Detail : 50
Lens Profile Enable : 0
Lens Manual Distortion Amount : 0
Perspective Vertical : 0
Perspective Horizontal : 0
Perspective Rotate : 0.0
Perspective Scale : 100
Convert To Grayscale : False
Tone Curve Name : Medium Contrast
Camera Profile : Camera Neutral
Lens Profile Setup : LensDefaults
Has Settings : True
Crop Top : 0.279092
Crop Left : 0.0233
Crop Bottom : 1
Crop Right : 0.88728
Crop Angle : 0
Crop Constrain To Warp : 0
Has Crop : True
Already Applied : True
Sidecar For Extension : NEF
Date Created : 2011:01:09 16:29:43.089
Color Mode : RGB
ICC Profile Name : sRGB IEC61966-2.1
Creator : hood eshak
Rights : (c)hood eshak
Tone Curve : 0, 0, 32, 22, 64, 56, 128, 128, 192, 196, 255, 255
Paint Correction What : Correction
Paint Correction Amount : 1.000000
Paint Correction Active : true
Paint Correction Exposure : 0.037500
Paint Correction Saturation : 0.150000
Paint Correction Contrast : 0.100000
Paint Correction Clarity : 0.100000
Paint Correction Sharpness : 0.130000
Paint Correction Brightness : 0.050000
Paint Correction Toning Hue : 0.000000
Paint Correction Toning Saturation : 0.000000
Paint Correction Mask What : Mask/Paint
Paint Correction Mask Value : 1.000000
Paint Correction Mask Radius : 0.154965
Paint Correction Mask Flow : 0.916996
Paint Correction Mask Center Weight : 0.000000
Image Width : 300
Image Height : 167
Bits Per Sample : 8
Color Components : 3
Aperture : 1.4
Image Size : 300x167
Megapixels : 0.050
Scale Factor To 35 mm Equivalent : 1.0
Shutter Speed : 1/320
Create Date : 2011:01:09 16:29:43.89
Date/Time Original : 2011:01:09 16:29:43.89
Modify Date : 2011:01:14 22:00:02.89
Circle Of Confusion : 0.030 mm
Depth Of Field : 0.61 m (2.71 - 3.33 m)
Field Of View : 54.4 deg
Focal Length : 35.0 mm (35 mm equivalent: 35.0 mm)
Hyperfocal Distance : 29.12 m
Light Value : 8.3
Lens ID : AF-S Nikkor 35mm f/1.4G