Uber Exif Photo
By-line : unknown
Make : Canon
Camera Model Name : Canon EOS 400D DIGITAL
Orientation : Horizontal (normal)
Software : Adobe Photoshop CS5 (12.0x20100115 [20100115.m.998 2010/01/15:02:00:00 cutoff; m branch]) Windows
Modify Date : 2011:01:16 20:43:20
Artist : unknown
Exposure Time : 1/100
F Number : 9.0
Exposure Program : Manual
ISO : 800
Date/Time Original : 2011:01:02 15:52:12
Create Date : 2011:01:02 15:52:12
Shutter Speed Value : 1/100
Aperture Value : 9.0
Exposure Compensation : 0
Max Aperture Value : 2.8
Metering Mode : Multi-segment
Flash : Off, Did not fire
Focal Length : 90.0 mm
Color Space : Uncalibrated
Exif Image Width : 703
Exif Image Height : 1024
Custom Rendered : Normal
Exposure Mode : Manual
White Balance : Manual
Scene Capture Type : Standard
Profile Description : Adobe RGB (1998)
Rating : 4
Creator Tool : ACD Systems Digital Imaging
Format : image/jpeg
Serial Number : 1931104161
Lens Info : 90mm f/?
Lens : 90.0 mm
Image Number : 144
Flash Compensation : 0
Owner Name : unknown
Firmware : 1.1.1
Raw File Name : _MG_0153.CR2
Version : 6.0
Process Version : 5.7
Color Temperature : 5150
Tint : +8
Exposure : 0.00
Shadows : 5
Brightness : +50
Contrast : +25
Saturation : +12
Sharpness : 0
Luminance Smoothing : 65
Color Noise Reduction : 40
Chromatic Aberration R : 0
Chromatic Aberration B : 0
Vignette Amount : -86
Vignette Midpoint : 50
Shadow Tint : 0
Red Hue : 0
Red Saturation : 0
Green Hue : 0
Green Saturation : 0
Blue Hue : 0
Blue Saturation : 0
Fill Light : 0
Vibrance : +24
Highlight Recovery : 0
Clarity : +54
Defringe : 0
Hue Adjustment Red : 0
Hue Adjustment Orange : 0
Hue Adjustment Yellow : 0
Hue Adjustment Green : 0
Hue Adjustment Aqua : 0
Hue Adjustment Blue : 0
Hue Adjustment Purple : 0
Hue Adjustment Magenta : 0
Saturation Adjustment Red : 0
Saturation Adjustment Orange : 0
Saturation Adjustment Yellow : 0
Saturation Adjustment Green : 0
Saturation Adjustment Aqua : 0
Saturation Adjustment Blue : 0
Saturation Adjustment Purple : 0
Saturation Adjustment Magenta : 0
Luminance Adjustment Red : 0
Luminance Adjustment Orange : 0
Luminance Adjustment Yellow : 0
Luminance Adjustment Green : 0
Luminance Adjustment Aqua : 0
Luminance Adjustment Blue : 0
Luminance Adjustment Purple : 0
Luminance Adjustment Magenta : 0
Split Toning Shadow Hue : 0
Split Toning Shadow Saturation : 0
Split Toning Highlight Hue : 0
Split Toning Highlight Saturation : 0
Split Toning Balance : 0
Parametric Shadows : 0
Parametric Darks : -29
Parametric Lights : 0
Parametric Highlights : +19
Parametric Shadow Split : 25
Parametric Midtone Split : 50
Parametric Highlight Split : 75
Sharpen Radius : +1.2
Sharpen Detail : 55
Sharpen Edge Masking : 73
Post Crop Vignette Amount : -31
Post Crop Vignette Midpoint : 50
Post Crop Vignette Feather : 75
Post Crop Vignette Roundness : 0
Post Crop Vignette Style : Color Priority
Post Crop Vignette Highlight Contrast : 9
Grain Amount : 0
Luminance Noise Reduction Detail : 50
Color Noise Reduction Detail : 62
Luminance Noise Reduction Contrast : 0
Convert To Grayscale : False
Tone Curve Name : Medium Contrast
Camera Profile : Adobe Standard
Has Settings : True
Has Crop : False
Already Applied : True
Date Created : 2011:01:01
Color Mode : RGB
ICC Profile Name : Adobe RGB (1998)
Creator : unknown
Tone Curve : 0, 0, 32, 22, 64, 56, 128, 128, 192, 196, 255, 255
Image Width : 206
Image Height : 300
Bits Per Sample : 8
Color Components : 3
Aperture : 9.0
Image Size : 206x300
Megapixels : 0.062
Scale Factor To 35 mm Equivalent : 1.6
Shutter Speed : 1/100
Modify Date : 2011:01:16 20:43:20.593
Circle Of Confusion : 0.019 mm
Field Of View : 14.1 deg
Focal Length : 90.0 mm (35 mm equivalent: 145.7 mm)
Hyperfocal Distance : 48.48 m
Light Value : 10.0
Lens ID : Tamron 90mm f/2.8