Uber Exif Photo
Keywords : Autumn, Cholmondeley
By-line : Copyright_AlanEJones_2010
Make : NIKON CORPORATION
Camera Model Name : NIKON D300
Software : Ver.1.10
Modify Date : 2011:01:23 21:44:18
Artist : Copyright_AlanEJones_2010
Exposure Time : 1/125
F Number : 8.0
Exposure Program : Shutter speed priority AE
ISO : 200
Date/Time Original : 2010:10:24 16:08:03
Create Date : 2010:10:24 16:08:03
Shutter Speed Value : 1/125
Aperture Value : 8.0
Exposure Compensation : 0
Max Aperture Value : 4.4
Subject Distance : 4294967295 m
Metering Mode : Spot
Light Source : Unknown
Focal Length : 12.0 mm
User Comment : Copyright 2008 Alan E Jones
Sensing Method : One-chip color area
Scene Type : Directly photographed
CFA Pattern : [Red,Green][Green,Blue]
Custom Rendered : Normal
Exposure Mode : Auto
White Balance : Auto
Digital Zoom Ratio : 1
Focal Length In 35mm Format : 18 mm
Scene Capture Type : Standard
Gain Control : None
Contrast : Normal
Saturation : Normal
Sharpness : Normal
Subject Distance Range : Unknown
Profile Description : sRGB IEC61966-2.1
Date/Time Digitized : 2010:10:24 16:08:03.51+01:00
Exif Image Width : 2848
Exif Image Height : 3364
Creator Tool : Adobe Photoshop Lightroom
Serial Number : 8009146
Lens Info : 10-20mm f/4-5.6
Lens : 10.0-20.0 mm f/4.0-5.6
Image Number : 9033
Version : 5.7
Color Temperature : 5400
Tint : +3
Exposure : -0.58
Shadows : 0
Brightness : +50
Luminance Smoothing : 0
Color Noise Reduction : 25
Chromatic Aberration R : 0
Chromatic Aberration B : 0
Vignette Amount : 0
Shadow Tint : 0
Red Hue : 0
Red Saturation : 0
Green Hue : 0
Green Saturation : +12
Blue Hue : 0
Blue Saturation : 0
Fill Light : 0
Vibrance : 0
Highlight Recovery : 83
Clarity : +37
Defringe : 0
Hue Adjustment Red : 0
Hue Adjustment Orange : 0
Hue Adjustment Yellow : 0
Hue Adjustment Green : 0
Hue Adjustment Aqua : 0
Hue Adjustment Blue : 0
Hue Adjustment Purple : 0
Hue Adjustment Magenta : 0
Saturation Adjustment Red : 0
Saturation Adjustment Orange : 0
Saturation Adjustment Yellow : 0
Saturation Adjustment Green : 0
Saturation Adjustment Aqua : 0
Saturation Adjustment Blue : +48
Saturation Adjustment Purple : 0
Saturation Adjustment Magenta : 0
Luminance Adjustment Red : 0
Luminance Adjustment Orange : 0
Luminance Adjustment Yellow : 0
Luminance Adjustment Green : 0
Luminance Adjustment Aqua : 0
Luminance Adjustment Blue : 0
Luminance Adjustment Purple : 0
Luminance Adjustment Magenta : 0
Split Toning Shadow Hue : 0
Split Toning Shadow Saturation : 0
Split Toning Highlight Hue : 0
Split Toning Highlight Saturation : 0
Split Toning Balance : 0
Parametric Shadows : 0
Parametric Darks : 0
Parametric Lights : 0
Parametric Highlights : 0
Parametric Shadow Split : 25
Parametric Midtone Split : 50
Parametric Highlight Split : 75
Sharpen Radius : +1.0
Sharpen Detail : 25
Sharpen Edge Masking : 0
Post Crop Vignette Amount : 0
Convert To Grayscale : False
Tone Curve Name : Strong Contrast
Camera Profile : Camera Vivid
Has Settings : True
Crop Top : 0
Crop Left : 0
Crop Bottom : 1
Crop Right : 0.784431
Crop Angle : 0
Crop Width : 3364
Crop Height : 2848
Crop Unit : pixels
Has Crop : True
Already Applied : True
Flash Fired : False
Flash Return : No return detection
Flash Mode : Unknown
Flash Function : False
Flash Red Eye Mode : False
Creator : Copyright_AlanEJones_2010
Subject : Autumn, Cholmondeley
Tone Curve : 0, 0, 32, 16, 64, 50, 128, 128, 192, 202, 255, 255
Image Width : 254
Image Height : 300
Bits Per Sample : 8
Color Components : 3
Aperture : 8.0
Image Size : 254x300
Megapixels : 0.076
Scale Factor To 35 mm Equivalent : 1.5
Shutter Speed : 1/125
Create Date : 2010:10:24 16:08:03.51
Date/Time Original : 2010:10:24 16:08:03.51
Flash : No Flash
Circle Of Confusion : 0.020 mm
Depth Of Field : inf (0.90 m - inf)
Field Of View : 90.0 deg
Focal Length : 12.0 mm (35 mm equivalent: 18.0 mm)
Hyperfocal Distance : 0.90 m
Light Value : 12.0
Lens ID : Sigma 10-20mm F4-5.6 EX DC HSM