Uber Exif Photo
Caption-Abstract : Interior of the Pantheon in Rome, first dedicated as a temple, later converted as a Christian place of worship
By-line : Jeffrey Banke
By-line Title : Photographer
Keywords : temple, Pantheon, roman, roma, italy, rome, heathen, christian, worship, religious, light, shaft, ancient, historical, millenia, interior, dome, architecture, building, landmark, travel, light, old, ray, tourism, ceiling, inside, italian, vacation, structure, europe, roof, tourist, indoors, history, church, beam, round, european, detail, marble, art, antique, stone, religion, circular, monument, sphere, wall, italia, sun, public, circle, sunbeam, domed, architectural
Copyright Notice : Copyright © 2006 Jeff Banke all right s reserved
Copyright Flag : True
Image Description : Interior of the Pantheon in Rome, first dedicated as a temple, later converted as a Christian place of worship
Make : NIKON CORPORATION
Camera Model Name : NIKON D70s
Orientation : Horizontal (normal)
Software : Adobe Photoshop CS4 Windows
Modify Date : 2010:06:27 15:58:07
Artist : Jeffrey Banke
Copyright : Copyright © 2006 Jeff Banke all right s reserved
Exposure Time : 1/40
F Number : 3.5
Exposure Program : Manual
ISO : 200
Date/Time Original : 2006:07:01 02:12:23
Create Date : 2006:07:01 02:12:23
Shutter Speed Value : 1/40
Aperture Value : 3.5
Exposure Compensation : -4/3
Max Aperture Value : 3.5
Metering Mode : Multi-segment
Light Source : Unknown
Focal Length : 18.0 mm
Color Space : Uncalibrated
Exif Image Width : 3008
Exif Image Height : 2000
Sensing Method : One-chip color area
Scene Type : Directly photographed
CFA Pattern : [Blue,Green][Green,Red]
Custom Rendered : Normal
Exposure Mode : Manual
White Balance : Auto
Digital Zoom Ratio : 1
Focal Length In 35mm Format : 27 mm
Scene Capture Type : Standard
Gain Control : None
Contrast : Normal
Saturation : Normal
Sharpness : Normal
Subject Distance Range : Unknown
Profile Description : Adobe RGB (1998)
Date/Time Digitized : 2006:07:01 02:12:23.90-07:00
Creator Tool : Ver.1.00
Rating : 5
Lens Info : 18-70mm f/3.5-4.5
Lens : 18.0-70.0 mm f/3.5-4.5
Image Number : 5039
Serial Number : 1004ed50
Preserved File Name : DSC_4748.NEF
Raw File Name : 01072006-D70s-Pantheon, Roma, Italy067JBB.NEF
Version : 5.7
Process Version : 5.0
Color Temperature : 5400
Tint : +5
Exposure : +0.10
Shadows : 0
Brightness : +50
Luminance Smoothing : 2
Color Noise Reduction : 25
Chromatic Aberration R : 0
Chromatic Aberration B : 0
Vignette Amount : 0
Shadow Tint : 0
Red Hue : 0
Red Saturation : 0
Green Hue : 0
Green Saturation : 0
Blue Hue : 0
Blue Saturation : 0
Fill Light : 0
Vibrance : +49
Highlight Recovery : 4
Clarity : 0
Defringe : 0
Hue Adjustment Red : 0
Hue Adjustment Orange : 0
Hue Adjustment Yellow : 0
Hue Adjustment Green : 0
Hue Adjustment Aqua : 0
Hue Adjustment Blue : 0
Hue Adjustment Purple : 0
Hue Adjustment Magenta : 0
Saturation Adjustment Red : 0
Saturation Adjustment Orange : 0
Saturation Adjustment Yellow : 0
Saturation Adjustment Green : 0
Saturation Adjustment Aqua : 0
Saturation Adjustment Blue : 0
Saturation Adjustment Purple : 0
Saturation Adjustment Magenta : 0
Luminance Adjustment Red : 0
Luminance Adjustment Orange : 0
Luminance Adjustment Yellow : 0
Luminance Adjustment Green : 0
Luminance Adjustment Aqua : 0
Luminance Adjustment Blue : 0
Luminance Adjustment Purple : 0
Luminance Adjustment Magenta : 0
Split Toning Shadow Hue : 0
Split Toning Shadow Saturation : 0
Split Toning Highlight Hue : 0
Split Toning Highlight Saturation : 0
Split Toning Balance : 0
Parametric Shadows : 0
Parametric Darks : 0
Parametric Lights : 0
Parametric Highlights : 0
Parametric Shadow Split : 25
Parametric Midtone Split : 50
Parametric Highlight Split : 75
Sharpen Radius : +1.0
Sharpen Detail : 24
Sharpen Edge Masking : 0
Post Crop Vignette Amount : 0
Grain Amount : 0
Convert To Grayscale : False
Tone Curve Name : Strong Contrast
Camera Profile : Camera Landscape
Has Settings : True
Has Crop : False
Already Applied : True
Sidecar For Extension : NEF
Color Mode : RGB
ICC Profile Name : Adobe RGB (1998)
Authors Position : Photographer
Format : image/jpeg
Marked : True
Flash Fired : False
Flash Return : No return detection
Flash Mode : Unknown
Flash Function : False
Flash Red Eye Mode : False
Tone Curve : 0, 0, 32, 16, 64, 50, 128, 128, 192, 202, 255, 255
Creator : Jeffrey Banke
Description : Interior of the Pantheon in Rome, first dedicated as a temple, later converted as a Christian place of worship
Subject : temple, Pantheon, roman, roma, italy, rome, heathen, christian, worship, religious, light, shaft, ancient, historical, millenia, interior, dome, architecture, building, landmark, travel, light, old, ray, tourism, ceiling, inside, italian, vacation, structure, europe, roof, tourist, indoors, history, church, beam, round, european, detail, marble, art, antique, stone, religion, circular, monument, sphere, wall, italia, sun, public, circle, sunbeam, domed, architectural
Rights : Copyright © 2006 Jeff Banke all right s reserved
Creator Address : 3499 La Mesa Drive
Creator City : Hayward
Creator Region : California
Creator Postal Code : 94542
Creator Country : USA
Creator Work Telephone : 510-581-0349 office, 510-501-4502 Cell
Creator Work Email : j.banke@comcast.net
Creator Work URL : www.xlr8photo.com
Image Width : 300
Image Height : 200
Bits Per Sample : 8
Color Components : 3
Aperture : 3.5
Image Size : 300x200
Megapixels : 0.060
Scale Factor To 35 mm Equivalent : 1.5
Shutter Speed : 1/40
Create Date : 2006:07:01 02:12:23.90
Date/Time Original : 2006:07:01 02:12:23.90
Modify Date : 2010:06:27 15:58:07.90
Flash : No Flash
Circle Of Confusion : 0.020 mm
Field Of View : 67.4 deg
Focal Length : 18.0 mm (35 mm equivalent: 27.0 mm)
Hyperfocal Distance : 4.62 m
Light Value : 7.9
Lens ID : 18.0-70.0mm f/3.5-4.5