Uber Exif Photo
Photometric Interpretation : RGB
Camera Model Name : NIKON D300
Orientation : Horizontal (normal)
Samples Per Pixel : 3
Software : Adobe Photoshop CS5 Windows
Modify Date : 2011:01:31 20:08:51
Exposure Time : 1/2000
F Number : 5.3
ISO : 1250
Sensitivity Type : Unknown
Date/Time Original : 2011:01:30 16:17:21
Create Date : 2011:01:30 16:17:21
Shutter Speed Value : 1/2000
Aperture Value : 5.3
Focal Length : 105.0 mm
Color Space : Uncalibrated
Exif Image Width : 3889
Exif Image Height : 2668
Profile Description : Adobe RGB (1998)
Method : Details Enhancer
Strength : 100.0
Color Saturation : 61.0
Luminosity : 6.0
White Clip : 0.276350
Black Clip : 0.175400
Smoothing Mode : Light
Smoothing : High
Microcontrast : 9.8
Microsmoothing : 3.0
Gamma : 0.8
Highlights Smoothing : 0.0
Shadows Smoothing : 0.0
Shadows Clipping : 0.0
Color Temperature : 0.0
Saturation Highlights : -1.3
Saturation Shadows : 0.0
Rating : 0
Creator Tool : Adobe Photoshop CS5 Windows
Raw File Name : Winged head.jpg
Version : 6.3
Process Version : 5.7
White Balance : As Shot
Incremental Temperature : 0
Incremental Tint : 0
Exposure : 0.00
Shadows : 0
Brightness : 0
Contrast : 0
Saturation : 0
Sharpness : 29
Luminance Smoothing : 0
Color Noise Reduction : 0
Chromatic Aberration R : 0
Chromatic Aberration B : 0
Vignette Amount : 0
Shadow Tint : 0
Red Hue : 0
Red Saturation : 0
Green Hue : 0
Green Saturation : 0
Blue Hue : 0
Blue Saturation : 0
Fill Light : 33
Vibrance : +13
Highlight Recovery : 0
Clarity : +54
Defringe : 0
Hue Adjustment Red : 0
Hue Adjustment Orange : 0
Hue Adjustment Yellow : 0
Hue Adjustment Green : 0
Hue Adjustment Aqua : 0
Hue Adjustment Blue : 0
Hue Adjustment Purple : 0
Hue Adjustment Magenta : 0
Saturation Adjustment Red : 0
Saturation Adjustment Orange : 0
Saturation Adjustment Yellow : 0
Saturation Adjustment Green : 0
Saturation Adjustment Aqua : 0
Saturation Adjustment Blue : 0
Saturation Adjustment Purple : 0
Saturation Adjustment Magenta : 0
Luminance Adjustment Red : 0
Luminance Adjustment Orange : 0
Luminance Adjustment Yellow : 0
Luminance Adjustment Green : 0
Luminance Adjustment Aqua : 0
Luminance Adjustment Blue : 0
Luminance Adjustment Purple : 0
Luminance Adjustment Magenta : 0
Split Toning Shadow Hue : 0
Split Toning Shadow Saturation : 0
Split Toning Highlight Hue : 0
Split Toning Highlight Saturation : 0
Split Toning Balance : 0
Parametric Shadows : +21
Parametric Darks : +22
Parametric Lights : +29
Parametric Highlights : +36
Parametric Shadow Split : 25
Parametric Midtone Split : 50
Parametric Highlight Split : 75
Sharpen Radius : +1.0
Sharpen Detail : 36
Sharpen Edge Masking : 0
Post Crop Vignette Amount : 0
Grain Amount : 0
Lens Profile Enable : 0
Lens Manual Distortion Amount : 0
Perspective Vertical : 0
Perspective Horizontal : 0
Perspective Rotate : 0.0
Perspective Scale : 100
Convert To Grayscale : False
Tone Curve Name : Linear
Camera Profile : Embedded
Lens Profile Setup : Custom
Lens Profile Name : Adobe (Nikon AF-S NIKKOR 14-24mm f/2.8G ED)
Lens Profile Filename : NIKON D3X (Nikon FX 14-24mm f2.8 G ED).lcp
Lens Profile Distortion Scale : 100
Lens Profile Chromatic Aberration Scale : 100
Lens Profile Vignetting Scale : 100
Has Settings : True
Has Crop : False
Already Applied : True
Format : image/jpeg
Date Created : 2011:01:30 16:17:21
Color Mode : RGB
ICC Profile Name : Adobe RGB (1998)
Tone Curve : 0, 0, 255, 255
Image Width : 300
Image Height : 206
Bits Per Sample : 8
Color Components : 3
Aperture : 5.3
Image Size : 300x206
Megapixels : 0.062
Shutter Speed : 1/2000
Light Value : 12.1