Uber Exif Photo
Keywords : Actions|stalking, Actions|swallowing, Actions|wading, Actions|watching, Birds, Birds|Waterfowl, Birds|Waterfowl|egret, Colors|white, Hunting, Mammals|Rodent, Mammals|Rodent|mouse, Mammals|wild, Mammals|Wildlife, scenic description|marsh, scenic description|wetlands, Waterfowl
Make : NIKON CORPORATION
Camera Model Name : NIKON D300
Orientation : Horizontal (normal)
Software : Adobe Photoshop CS4 Windows
Modify Date : 2010:09:14 09:57:37
Exposure Time : 1/320
F Number : 9.0
Exposure Program : Manual
ISO : 200
Date/Time Original : 2010:01:03 21:02:02
Create Date : 2010:01:03 21:02:02
Shutter Speed Value : 1/320
Aperture Value : 9.0
Exposure Compensation : 0
Max Aperture Value : 4.0
Metering Mode : Multi-segment
Light Source : Cloudy
Focal Length : 300.0 mm
Color Space : Uncalibrated
Exif Image Width : 2674
Exif Image Height : 2005
Sensing Method : One-chip color area
Scene Type : Directly photographed
CFA Pattern : [Red,Green][Green,Blue]
Custom Rendered : Normal
Exposure Mode : Manual
White Balance : Manual
Digital Zoom Ratio : 1
Focal Length In 35mm Format : 450 mm
Scene Capture Type : Standard
Gain Control : None
Contrast : Normal
Saturation : Normal
Sharpness : Soft
Subject Distance Range : Unknown
Profile Description : Adobe RGB (1998)
Photometric Interpretation : RGB
Samples Per Pixel : 3
Date/Time Digitized : 2010:01:03 21:02:02.17-08:00
Creator Tool : Ver.1.00
Rating : 0
Serial Number : 3029064
Lens Info : 300mm f/4
Lens : 300.0 mm f/4.0
Image Number : 9926
Raw File Name : _JBB9772.NEF
Version : 5.3
Color Temperature : 5650
Tint : -1
Exposure : -0.25
Shadows : 5
Brightness : +50
Luminance Smoothing : 0
Color Noise Reduction : 25
Chromatic Aberration R : +34
Chromatic Aberration B : 0
Vignette Amount : 0
Shadow Tint : 0
Red Hue : 0
Red Saturation : 0
Green Hue : 0
Green Saturation : 0
Blue Hue : 0
Blue Saturation : 0
Fill Light : 0
Vibrance : +35
Highlight Recovery : 0
Clarity : 0
Defringe : 1
Hue Adjustment Red : 0
Hue Adjustment Orange : 0
Hue Adjustment Yellow : 0
Hue Adjustment Green : 0
Hue Adjustment Aqua : 0
Hue Adjustment Blue : 0
Hue Adjustment Purple : 0
Hue Adjustment Magenta : 0
Saturation Adjustment Red : 0
Saturation Adjustment Orange : 0
Saturation Adjustment Yellow : 0
Saturation Adjustment Green : 0
Saturation Adjustment Aqua : 0
Saturation Adjustment Blue : 0
Saturation Adjustment Purple : 0
Saturation Adjustment Magenta : 0
Luminance Adjustment Red : 0
Luminance Adjustment Orange : 0
Luminance Adjustment Yellow : 0
Luminance Adjustment Green : 0
Luminance Adjustment Aqua : 0
Luminance Adjustment Blue : 0
Luminance Adjustment Purple : 0
Luminance Adjustment Magenta : 0
Split Toning Shadow Hue : 0
Split Toning Shadow Saturation : 0
Split Toning Highlight Hue : 0
Split Toning Highlight Saturation : 0
Split Toning Balance : 0
Parametric Shadows : 0
Parametric Darks : 0
Parametric Lights : 0
Parametric Highlights : 0
Parametric Shadow Split : 25
Parametric Midtone Split : 50
Parametric Highlight Split : 75
Sharpen Radius : +1.0
Sharpen Detail : 25
Sharpen Edge Masking : 0
Post Crop Vignette Amount : 0
Convert To Grayscale : False
Tone Curve Name : Custom
Camera Profile : Camera Landscape
Has Settings : True
Has Crop : False
Already Applied : True
Sidecar For Extension : NEF
Color Mode : RGB
ICC Profile Name : Adobe RGB (1998)
Format : image/jpeg
Flash Fired : False
Flash Return : No return detection
Flash Mode : Unknown
Flash Function : False
Flash Red Eye Mode : False
Tone Curve : 0, 0, 30, 27, 60, 70, 116, 134, 192, 196, 255, 255
Subject : Actions|stalking, Actions|swallowing, Actions|wading, Actions|watching, Birds, Birds|Waterfowl, Birds|Waterfowl|egret, Colors|white, Hunting, Mammals|Rodent, Mammals|Rodent|mouse, Mammals|wild, Mammals|Wildlife, scenic description|marsh, scenic description|wetlands, Waterfowl
Hierarchical Subject : Birds, Birds|Waterfowl, Birds|Waterfowl|egret, Hunting, Colors|white, Mammals|Rodent|mouse, Mammals|Rodent, Actions|stalking, Mammals|wild, Mammals|Wildlife, Actions|swallowing, Actions|watching, Actions|wading, scenic description|marsh, scenic description|wetlands
Image Width : 300
Image Height : 225
Bits Per Sample : 8
Color Components : 3
Aperture : 9.0
Image Size : 300x225
Megapixels : 0.068
Scale Factor To 35 mm Equivalent : 1.5
Shutter Speed : 1/320
Create Date : 2010:01:03 21:02:02.17
Date/Time Original : 2010:01:03 21:02:02.17
Modify Date : 2010:09:14 09:57:37.17
Flash : No Flash
Circle Of Confusion : 0.020 mm
Field Of View : 4.6 deg
Focal Length : 300.0 mm (35 mm equivalent: 450.0 mm)
Hyperfocal Distance : 499.23 m
Light Value : 13.7
Lens ID : 300.0mm f/4.0