Uber Exif Photo
Caption-Abstract : Closeup of an american bison or buffalo on a ridge, over a blue sky with clouds
By-line : Jeff Banke
By-line Title : Photographer
Object Name : American Bison
Keywords : blue, bison, buffalo, brown, fur, iconic, symbol, male, artiodactyla, bovidae, coat, shaggy, ruminating, herbivore, grazer, browser, american, Yellowstone, park, skylined, ridge
Copyright Notice : Copyright (C) Jeff Banke 2009 all rights reserved.
Copyright Flag : True
Image Description : Closeup of an american bison or buffalo on a ridge, over a blue sky with clouds
Make : NIKON CORPORATION
Camera Model Name : NIKON D300
Orientation : Horizontal (normal)
Software : Adobe Photoshop CS4 Windows
Modify Date : 2010:09:14 10:36:26
Artist : Jeff Banke
Copyright : Copyright (C) Jeff Banke 2009 all rights reserved.
Exposure Time : 1/400
F Number : 7.1
Exposure Program : Manual
ISO : 200
Date/Time Original : 2009:07:17 04:27:19
Create Date : 2009:07:17 04:27:19
Shutter Speed Value : 1/400
Aperture Value : 7.1
Exposure Compensation : 0
Max Aperture Value : 2.8
Metering Mode : Spot
Light Source : Fine Weather
Focal Length : 200.0 mm
Color Space : sRGB
Exif Image Width : 4288
Exif Image Height : 2848
Sensing Method : One-chip color area
Scene Type : Directly photographed
CFA Pattern : [Red,Green][Green,Blue]
Custom Rendered : Normal
Exposure Mode : Manual
White Balance : Manual
Digital Zoom Ratio : 1
Focal Length In 35mm Format : 300 mm
Scene Capture Type : Standard
Gain Control : None
Contrast : Normal
Saturation : Normal
Sharpness : Normal
Subject Distance Range : Unknown
Profile Description : sRGB IEC61966-2.1
Date/Time Digitized : 2009:07:17 04:27:19.60-07:00
Creator Tool : Ver.1.00
Rating : 5
Serial Number : 3029064
Lens Info : 70-200mm f/2.8
Lens : 70.0-200.0 mm f/2.8
Image Number : 8041
Preserved File Name : _JBB7921.NEF
Raw File Name : 170709-D300-Yellowstone -buffalo-035.NEF
Version : 5.3
Color Temperature : 5500
Tint : +1
Exposure : -0.35
Shadows : 5
Brightness : +50
Luminance Smoothing : 0
Color Noise Reduction : 25
Chromatic Aberration R : 0
Chromatic Aberration B : 0
Vignette Amount : 0
Shadow Tint : 0
Red Hue : 0
Red Saturation : 0
Green Hue : 0
Green Saturation : 0
Blue Hue : -1
Blue Saturation : +48
Fill Light : 0
Vibrance : +50
Highlight Recovery : 34
Clarity : 0
Defringe : 0
Hue Adjustment Red : 0
Hue Adjustment Orange : 0
Hue Adjustment Yellow : 0
Hue Adjustment Green : 0
Hue Adjustment Aqua : 0
Hue Adjustment Blue : 0
Hue Adjustment Purple : 0
Hue Adjustment Magenta : 0
Saturation Adjustment Red : 0
Saturation Adjustment Orange : 0
Saturation Adjustment Yellow : 0
Saturation Adjustment Green : 0
Saturation Adjustment Aqua : 0
Saturation Adjustment Blue : +29
Saturation Adjustment Purple : 0
Saturation Adjustment Magenta : 0
Luminance Adjustment Red : 0
Luminance Adjustment Orange : 0
Luminance Adjustment Yellow : 0
Luminance Adjustment Green : 0
Luminance Adjustment Aqua : 0
Luminance Adjustment Blue : 0
Luminance Adjustment Purple : 0
Luminance Adjustment Magenta : 0
Split Toning Shadow Hue : 0
Split Toning Shadow Saturation : 0
Split Toning Highlight Hue : 0
Split Toning Highlight Saturation : 0
Split Toning Balance : 0
Parametric Shadows : 0
Parametric Darks : 0
Parametric Lights : 0
Parametric Highlights : 0
Parametric Shadow Split : 25
Parametric Midtone Split : 50
Parametric Highlight Split : 75
Sharpen Radius : +1.0
Sharpen Detail : 25
Sharpen Edge Masking : 0
Post Crop Vignette Amount : 0
Convert To Grayscale : False
Tone Curve Name : Medium Contrast
Camera Profile : Adobe Standard
Has Settings : True
Has Crop : False
Already Applied : True
Sidecar For Extension : NEF
Color Mode : RGB
ICC Profile Name : sRGB IEC61966-2.1
Authors Position : Photographer
Format : image/jpeg
Marked : True
Flash Fired : False
Flash Return : No return detection
Flash Mode : Unknown
Flash Function : False
Flash Red Eye Mode : False
Tone Curve : 0, 0, 32, 22, 64, 56, 128, 128, 192, 196, 255, 255
Creator : Jeff Banke
Title : American Bison
Description : Closeup of an american bison or buffalo on a ridge, over a blue sky with clouds
Subject : blue, bison, buffalo, brown, fur, iconic, symbol, male, artiodactyla, bovidae, coat, shaggy, ruminating, herbivore, grazer, browser, american, Yellowstone, park, skylined, ridge
Rights : Copyright (C) Jeff Banke 2009 all rights reserved.
Creator Address : 3499 La Mesa drive
Creator City : Hayward
Creator Region : California
Creator Postal Code : 94542
Creator Country : USA
Creator Work Telephone : 510-581-0349 office, 510-501-4502 Cell
Creator Work Email : j.banke@comcast.net
Creator Work URL : www.xlr8photo.com
Image Width : 300
Image Height : 199
Bits Per Sample : 8
Color Components : 3
Aperture : 7.1
Image Size : 300x199
Megapixels : 0.060
Scale Factor To 35 mm Equivalent : 1.5
Shutter Speed : 1/400
Create Date : 2009:07:17 04:27:19.60
Date/Time Original : 2009:07:17 04:27:19.60
Modify Date : 2010:09:14 10:36:26.60
Flash : No Flash
Circle Of Confusion : 0.020 mm
Field Of View : 6.9 deg
Focal Length : 200.0 mm (35 mm equivalent: 300.0 mm)
Hyperfocal Distance : 281.26 m
Light Value : 13.3
Lens ID : 70.0-200.0mm f/2.8