Uber Exif Photo
Caption-Abstract : Family
By-line : M.C.Liu
Keywords : Family photos, Himmi
Copyright Notice : Copyrighted
Copyright Flag : True
Photometric Interpretation : RGB
Image Description : Family
Make : NIKON CORPORATION
Camera Model Name : NIKON D300
Orientation : Horizontal (normal)
Samples Per Pixel : 3
Planar Configuration : Chunky
Software : Adobe Photoshop CS5 (12.0x20100115 [20100115.m.998 2010/01/15:02:00:00 cutoff; m branch]) Windows
Modify Date : 2011:02:26 22:26:00
Artist : M.C.Liu
Copyright : Copyrighted
Exposure Time : 1/60
F Number : 6.3
Exposure Program : Aperture-priority AE
ISO : 400
Date/Time Original : 2011:02:13 04:01:21
Create Date : 2011:02:13 04:01:21
Shutter Speed Value : 1/60
Aperture Value : 6.3
Exposure Compensation : +1/3
Max Aperture Value : 1.7
Metering Mode : Multi-segment
Light Source : Unknown
Flash : On, Return detected
Focal Length : 85.0 mm
Color Space : Uncalibrated
Exif Image Width : 1200
Exif Image Height : 797
Sensing Method : One-chip color area
Scene Type : Directly photographed
CFA Pattern : [Red,Green][Green,Blue]
Custom Rendered : Normal
Exposure Mode : Auto
White Balance : Manual
Digital Zoom Ratio : 1
Focal Length In 35mm Format : 127 mm
Scene Capture Type : Standard
Gain Control : Low gain up
Contrast : Normal
Saturation : Normal
Sharpness : Normal
Subject Distance Range : Unknown
Profile Description : Adobe RGB (1998)
Creator Tool : Adobe Photoshop CS5 (12.0x20100115 [20100115.m.998 2010/01/15:02:00:00 cutoff; m branch]) Windows
Label : Family
Rating : 2
Serial Number : 6050632
Lens Info : 85mm f/1.8
Lens : 85.0 mm f/1.8
Image Number : 10682
Marked : True
Format : image/jpeg
Date Created : 2011:01:01
Color Mode : RGB
ICC Profile Name : Adobe RGB (1998)
Version : 4.5
Color Temperature : 5300
Tint : 0
Exposure : +0.48
Shadows : 7
Brightness : +50
Luminance Smoothing : 17
Color Noise Reduction : 48
Chromatic Aberration R : 0
Chromatic Aberration B : 0
Vignette Amount : +48
Vignette Midpoint : 50
Shadow Tint : 0
Red Hue : 0
Red Saturation : 0
Green Hue : 0
Green Saturation : 0
Blue Hue : 0
Blue Saturation : 0
Fill Light : 15
Highlight Recovery : 20
Clarity : -64
Defringe : 0
Gray Mixer Red : -7
Gray Mixer Orange : -16
Gray Mixer Yellow : -20
Gray Mixer Green : -25
Gray Mixer Aqua : -19
Gray Mixer Blue : +8
Gray Mixer Purple : +15
Gray Mixer Magenta : +5
Split Toning Shadow Hue : 347
Split Toning Shadow Saturation : 9
Split Toning Highlight Hue : 346
Split Toning Highlight Saturation : 2
Split Toning Balance : 0
Parametric Shadows : -10
Parametric Darks : 0
Parametric Lights : +14
Parametric Highlights : +21
Parametric Shadow Split : 25
Parametric Midtone Split : 50
Parametric Highlight Split : 75
Sharpen Radius : +1.3
Sharpen Detail : 51
Sharpen Edge Masking : 87
Post Crop Vignette Amount : +31
Post Crop Vignette Midpoint : 51
Post Crop Vignette Feather : 50
Post Crop Vignette Roundness : 0
Convert To Grayscale : True
Tone Curve Name : Medium Contrast
Camera Profile : ACR 4.4
Has Settings : True
Has Crop : False
Already Applied : True
Usage Terms : Permission reqiured
Creator : M.C.Liu
Rights : Copyrighted
Subject : Family photos, Himmi
Description : Family
Tone Curve : 0, 0, 32, 22, 64, 56, 128, 128, 192, 196, 255, 255
Creator Address : Liu's Dental Cilinc , Bisra Road
Creator City : Rourkela
Creator Region : Orissa
Creator Postal Code : 769001
Creator Country : India
Creator Work Telephone : 9937590100
Creator Work Email : minxliu@live.com
Image Width : 300
Image Height : 199
Bits Per Sample : 8
Color Components : 3
Aperture : 6.3
Image Size : 300x199
Megapixels : 0.060
Scale Factor To 35 mm Equivalent : 1.5
Shutter Speed : 1/60
Create Date : 2011:02:13 04:01:21.43
Date/Time Original : 2011:02:13 04:01:21.43
Circle Of Confusion : 0.020 mm
Field Of View : 16.1 deg
Focal Length : 85.0 mm (35 mm equivalent: 127.0 mm)
Hyperfocal Distance : 57.03 m
Light Value : 9.2
Lens ID : 85.0mm f/1.8