Uber Exif Photo
Make : NIKON CORPORATION
Camera Model Name : NIKON D90
Software : Ver.1.00
Modify Date : 2011:03:05 23:08:45
Exposure Time : 1/800
F Number : 1.8
Exposure Program : Aperture-priority AE
ISO : 200
Date/Time Original : 2011:03:05 22:37:54
Create Date : 2011:03:05 22:37:54
Shutter Speed Value : 1/800
Aperture Value : 1.8
Exposure Compensation : 0
Max Aperture Value : 1.7
Subject Distance : 0.45 m
Metering Mode : Multi-segment
Light Source : Unknown
Focal Length : 50.0 mm
Sensing Method : One-chip color area
Scene Type : Directly photographed
CFA Pattern : [Green,Blue][Red,Green]
Custom Rendered : Normal
Exposure Mode : Auto
White Balance : Auto
Digital Zoom Ratio : 1
Focal Length In 35mm Format : 75 mm
Scene Capture Type : Standard
Gain Control : None
Contrast : Normal
Saturation : Normal
Sharpness : Normal
Subject Distance Range : Unknown
Profile Description : sRGB IEC61966-2.1
Date/Time Digitized : 2011:03:05 22:37:54.00+08:00
Exif Image Width : 2004
Exif Image Height : 1307
Creator Tool : Adobe Photoshop Lightroom
Serial Number : 6567206
Lens Info : 50mm f/1.8
Lens : 50.0 mm f/1.8
Image Number : 9726
Version : 5.7
Incremental Temperature : 0
Incremental Tint : 0
Exposure : 0.00
Shadows : 0
Brightness : 0
Luminance Smoothing : 0
Color Noise Reduction : 0
Chromatic Aberration R : -2
Chromatic Aberration B : 0
Vignette Amount : -60
Vignette Midpoint : 26
Shadow Tint : 0
Red Hue : 0
Red Saturation : 0
Green Hue : 0
Green Saturation : 0
Blue Hue : 0
Blue Saturation : 0
Fill Light : 0
Vibrance : 0
Highlight Recovery : 0
Clarity : 0
Defringe : 0
Hue Adjustment Red : +7
Hue Adjustment Orange : +5
Hue Adjustment Yellow : 0
Hue Adjustment Green : 0
Hue Adjustment Aqua : 0
Hue Adjustment Blue : 0
Hue Adjustment Purple : 0
Hue Adjustment Magenta : 0
Saturation Adjustment Red : +40
Saturation Adjustment Orange : +24
Saturation Adjustment Yellow : 0
Saturation Adjustment Green : 0
Saturation Adjustment Aqua : 0
Saturation Adjustment Blue : 0
Saturation Adjustment Purple : 0
Saturation Adjustment Magenta : 0
Luminance Adjustment Red : +79
Luminance Adjustment Orange : +55
Luminance Adjustment Yellow : +88
Luminance Adjustment Green : 0
Luminance Adjustment Aqua : 0
Luminance Adjustment Blue : 0
Luminance Adjustment Purple : 0
Luminance Adjustment Magenta : 0
Split Toning Shadow Hue : 0
Split Toning Shadow Saturation : 0
Split Toning Highlight Hue : 0
Split Toning Highlight Saturation : 0
Split Toning Balance : 0
Parametric Shadows : -52
Parametric Darks : +36
Parametric Lights : +5
Parametric Highlights : +40
Parametric Shadow Split : 25
Parametric Midtone Split : 50
Parametric Highlight Split : 75
Sharpen Radius : +1.0
Sharpen Detail : 25
Sharpen Edge Masking : 0
Post Crop Vignette Amount : -38
Post Crop Vignette Midpoint : 35
Post Crop Vignette Feather : 98
Post Crop Vignette Roundness : -55
Convert To Grayscale : False
Tone Curve Name : Linear
Camera Profile : Embedded
Has Settings : True
Crop Top : 0.247196
Crop Left : 0.256749
Crop Bottom : 0.853848
Crop Right : 0.882169
Crop Angle : -0.322488
Crop Width : 2004
Crop Height : 1307
Crop Unit : pixels
Has Crop : True
Already Applied : True
Flash Fired : False
Flash Return : No return detection
Flash Mode : Unknown
Flash Function : False
Flash Red Eye Mode : False
Tone Curve : 0, 0, 255, 255
Paint Correction What : Correction
Paint Correction Amount : 1.000000
Paint Correction Active : true
Paint Correction Exposure : 0.000000
Paint Correction Saturation : 0.000000
Paint Correction Contrast : 0.000000
Paint Correction Clarity : -1.000000
Paint Correction Sharpness : 0.250000
Paint Correction Brightness : 0.000000
Paint Correction Toning Hue : 240.000000
Paint Correction Toning Saturation : 0.000000
Paint Correction Mask What : Mask/Paint
Paint Correction Mask Value : 1.000000
Paint Correction Mask Radius : 0.045386
Paint Correction Mask Flow : 1.000000
Paint Correction Mask Center Weight : 0.000000
Image Width : 300
Image Height : 196
Bits Per Sample : 8
Color Components : 3
Aperture : 1.8
Image Size : 300x196
Megapixels : 0.059
Scale Factor To 35 mm Equivalent : 1.5
Shutter Speed : 1/800
Create Date : 2011:03:05 22:37:54.00
Date/Time Original : 2011:03:05 22:37:54.00
Flash : No Flash
Circle Of Confusion : 0.020 mm
Depth Of Field : 0.005 m (0.447 - 0.453 m)
Field Of View : 27.0 deg
Focal Length : 50.0 mm (35 mm equivalent: 75.0 mm)
Hyperfocal Distance : 69.34 m
Light Value : 10.3
Lens ID : AF Nikkor 50mm f/1.8D