Uber Exif Photo
Copyright Flag : False
Photometric Interpretation : BlackIsZero
Make : NIKON CORPORATION
Camera Model Name : NIKON D700
Orientation : Horizontal (normal)
Samples Per Pixel : 1
Software : Adobe Photoshop CS3 Macintosh
Modify Date : 2011:03:05 17:17:00
Exposure Time : 1/100
F Number : 16.0
Exposure Program : Manual
ISO : 200
Date/Time Original : 2011:01:30 12:50:07
Create Date : 2011:01:30 12:50:07
Shutter Speed Value : 1/100
Aperture Value : 16.0
Exposure Compensation : 0
Max Aperture Value : 2.8
Metering Mode : Spot
Light Source : Unknown
Focal Length : 56.0 mm
Color Space : Uncalibrated
Exif Image Width : 3000
Exif Image Height : 1996
Sensing Method : One-chip color area
Scene Type : Directly photographed
CFA Pattern : [Red,Green][Green,Blue]
Custom Rendered : Normal
Exposure Mode : Manual
White Balance : Auto
Digital Zoom Ratio : 1
Focal Length In 35mm Format : 56 mm
Scene Capture Type : Standard
Gain Control : None
Contrast : Normal
Saturation : Normal
Sharpness : Normal
Subject Distance Range : Unknown
Date/Time Digitized : 2011:01:30 12:50:07.23-05:00
Creator Tool : Adobe Photoshop CS3 Macintosh
Rating : 0
Serial Number : 2307852
Lens Info : 24-70mm f/2.8
Lens : 24.0-70.0 mm f/2.8
Image Number : 2718
Raw File Name : D11_006_008.NEF
Version : 4.6
Color Temperature : 6000
Tint : -9
Exposure : -0.50
Shadows : 0
Brightness : +50
Luminance Smoothing : 0
Color Noise Reduction : 25
Chromatic Aberration R : 0
Chromatic Aberration B : 0
Vignette Amount : 0
Shadow Tint : 0
Red Hue : 0
Red Saturation : 0
Green Hue : 0
Green Saturation : 0
Blue Hue : 0
Blue Saturation : 0
Fill Light : 0
Highlight Recovery : 23
Clarity : +33
Defringe : 0
Gray Mixer Red : +3
Gray Mixer Orange : +38
Gray Mixer Yellow : -31
Gray Mixer Green : -11
Gray Mixer Aqua : +8
Gray Mixer Blue : -76
Gray Mixer Purple : +16
Gray Mixer Magenta : +4
Split Toning Shadow Hue : 0
Split Toning Shadow Saturation : 0
Split Toning Highlight Hue : 0
Split Toning Highlight Saturation : 0
Split Toning Balance : 0
Parametric Shadows : 0
Parametric Darks : 0
Parametric Lights : 0
Parametric Highlights : 0
Parametric Shadow Split : 25
Parametric Midtone Split : 50
Parametric Highlight Split : 75
Sharpen Radius : +1.0
Sharpen Detail : 25
Sharpen Edge Masking : 0
Post Crop Vignette Amount : 0
Convert To Grayscale : True
Tone Curve Name : Medium Contrast
Camera Profile : ACR 4.6
Has Settings : True
Has Crop : False
Already Applied : True
Format : image/jpeg
Color Mode : Grayscale
ICC Profile Name : Gray Gamma 2.2
Flash Fired : False
Flash Return : No return detection
Flash Mode : Unknown
Flash Function : False
Flash Red Eye Mode : False
Tone Curve : 0, 0, 32, 22, 64, 56, 128, 128, 192, 196, 255, 255
Image Width : 300
Image Height : 200
Bits Per Sample : 8
Color Components : 1
Aperture : 16.0
Image Size : 300x200
Megapixels : 0.060
Scale Factor To 35 mm Equivalent : 1.0
Shutter Speed : 1/100
Create Date : 2011:01:30 12:50:07.23
Date/Time Original : 2011:01:30 12:50:07.23
Modify Date : 2011:03:05 17:17:00.23
Flash : No Flash
Circle Of Confusion : 0.030 mm
Field Of View : 35.6 deg
Focal Length : 56.0 mm (35 mm equivalent: 56.0 mm)
Hyperfocal Distance : 6.52 m
Light Value : 13.6
Lens ID : 24.0-70.0mm f/2.8