Uber Exif Photo
Copyright Notice : Mofeed's Photo
Make : NIKON CORPORATION
Camera Model Name : NIKON D90
Software : Ver.1.00
Modify Date : 2011:03:06 01:34:54
Copyright : Mofeed's Photo
Exposure Time : 1/250
F Number : 11.0
Exposure Program : Manual
ISO : 160
Date/Time Original : 2011:03:05 15:59:36
Create Date : 2011:03:05 15:59:36
Shutter Speed Value : 1/250
Aperture Value : 11.0
Exposure Compensation : -1
Max Aperture Value : 2.8
Subject Distance : 4294967295 m
Metering Mode : Multi-segment
Light Source : Unknown
Focal Length : 70.0 mm
Sensing Method : One-chip color area
Scene Type : Directly photographed
CFA Pattern : [Green,Blue][Red,Green]
Custom Rendered : Normal
Exposure Mode : Manual
White Balance : Auto
Digital Zoom Ratio : 1
Focal Length In 35mm Format : 105 mm
Scene Capture Type : Landscape
Gain Control : None
Contrast : Normal
Saturation : Normal
Sharpness : Normal
Subject Distance Range : Unknown
Profile Description : sRGB IEC61966-2.1
Date/Time Digitized : 2011:03:05 15:59:36.00+03:00
Exif Image Width : 4175
Exif Image Height : 2773
Creator Tool : Adobe Photoshop Lightroom
Serial Number : 8271991
Lens Info : 24-70mm f/2.8
Lens : 24.0-70.0 mm f/2.8
Image Number : 11960
Version : 6.1
Process Version : 5.7
Color Temperature : 4184
Tint : +3
Exposure : -0.41
Shadows : 0
Brightness : +50
Luminance Smoothing : 0
Color Noise Reduction : 25
Chromatic Aberration R : 0
Chromatic Aberration B : 0
Vignette Amount : 0
Shadow Tint : 0
Red Hue : 0
Red Saturation : 0
Green Hue : 0
Green Saturation : 0
Blue Hue : 0
Blue Saturation : 0
Fill Light : 0
Highlight Recovery : 0
Clarity : 0
Defringe : 0
Gray Mixer Red : -27
Gray Mixer Orange : +100
Gray Mixer Yellow : -29
Gray Mixer Green : +26
Gray Mixer Aqua : -15
Gray Mixer Blue : -45
Gray Mixer Purple : +27
Gray Mixer Magenta : +6
Split Toning Shadow Hue : 0
Split Toning Shadow Saturation : 0
Split Toning Highlight Hue : 46
Split Toning Highlight Saturation : 60
Split Toning Balance : 0
Parametric Shadows : -16
Parametric Darks : 0
Parametric Lights : -33
Parametric Highlights : +45
Parametric Shadow Split : 25
Parametric Midtone Split : 50
Parametric Highlight Split : 75
Sharpen Radius : +1.0
Sharpen Detail : 25
Sharpen Edge Masking : 0
Post Crop Vignette Amount : 0
Grain Amount : 0
Color Noise Reduction Detail : 50
Lens Profile Enable : 0
Lens Manual Distortion Amount : 0
Perspective Vertical : 0
Perspective Horizontal : 0
Perspective Rotate : 0.0
Perspective Scale : 100
Convert To Grayscale : True
Tone Curve Name : Strong Contrast
Camera Profile : Camera Landscape
Lens Profile Setup : LensDefaults
Has Settings : True
Crop Top : 0.026489
Crop Left : 0.026393
Crop Bottom : 0.999999
Crop Right : 1
Crop Angle : 0
Crop Constrain To Warp : 0
Crop Width : 4175
Crop Height : 2773
Crop Unit : pixels
Has Crop : True
Already Applied : True
Flash Fired : False
Flash Return : No return detection
Flash Mode : Unknown
Flash Function : False
Flash Red Eye Mode : False
Rights : Mofeed's Photo
Tone Curve : 0, 0, 32, 16, 64, 50, 128, 128, 192, 202, 255, 255
Image Width : 300
Image Height : 199
Bits Per Sample : 8
Color Components : 3
Aperture : 11.0
Image Size : 300x199
Megapixels : 0.060
Scale Factor To 35 mm Equivalent : 1.5
Shutter Speed : 1/250
Create Date : 2011:03:05 15:59:36.00
Date/Time Original : 2011:03:05 15:59:36.00
Flash : No Flash
Circle Of Confusion : 0.020 mm
Depth Of Field : inf (22.24 m - inf)
Field Of View : 19.5 deg
Focal Length : 70.0 mm (35 mm equivalent: 105.0 mm)
Hyperfocal Distance : 22.24 m
Light Value : 14.2
Lens ID : AF-S Zoom-Nikkor 24-70mm f/2.8G ED