Uber Exif Photo
Copyright Notice : Mofeed's Photo
Make : NIKON CORPORATION
Camera Model Name : NIKON D90
Software : Ver.1.00
Modify Date : 2011:03:20 07:49:18
Copyright : Mofeed's Photo
Exposure Time : 1/100
F Number : 9.0
Exposure Program : Aperture-priority AE
ISO : 200
Date/Time Original : 2011:03:18 15:12:36
Create Date : 2011:03:18 15:12:36
Shutter Speed Value : 1/100
Aperture Value : 9.0
Exposure Compensation : 0
Max Aperture Value : 2.8
Subject Distance : 2 m
Metering Mode : Multi-segment
Light Source : Unknown
Focal Length : 70.0 mm
Sensing Method : One-chip color area
Scene Type : Directly photographed
CFA Pattern : [Green,Blue][Red,Green]
Custom Rendered : Normal
Exposure Mode : Auto
White Balance : Auto
Digital Zoom Ratio : 1
Focal Length In 35mm Format : 105 mm
Scene Capture Type : Standard
Gain Control : None
Contrast : Normal
Saturation : Normal
Sharpness : Normal
Subject Distance Range : Unknown
Profile Description : sRGB IEC61966-2.1
Date/Time Digitized : 2011:03:18 15:12:36.00+03:00
Exif Image Width : 1539
Exif Image Height : 2317
Creator Tool : Adobe Photoshop Lightroom
Label : Green
Serial Number : 8271991
Lens Info : 24-70mm f/2.8
Lens : 24.0-70.0 mm f/2.8
Image Number : 13664
Version : 6.1
Process Version : 5.7
Color Temperature : 5250
Tint : -9
Exposure : -0.51
Shadows : 5
Brightness : +78
Luminance Smoothing : 0
Color Noise Reduction : 25
Chromatic Aberration R : 0
Chromatic Aberration B : 0
Vignette Amount : 0
Shadow Tint : 0
Red Hue : 0
Red Saturation : 0
Green Hue : 0
Green Saturation : 0
Blue Hue : 0
Blue Saturation : 0
Fill Light : 0
Vibrance : 0
Highlight Recovery : 0
Clarity : 0
Defringe : 0
Hue Adjustment Red : 0
Hue Adjustment Orange : 0
Hue Adjustment Yellow : 0
Hue Adjustment Green : 0
Hue Adjustment Aqua : 0
Hue Adjustment Blue : 0
Hue Adjustment Purple : 0
Hue Adjustment Magenta : 0
Saturation Adjustment Red : 0
Saturation Adjustment Orange : 0
Saturation Adjustment Yellow : 0
Saturation Adjustment Green : 0
Saturation Adjustment Aqua : 0
Saturation Adjustment Blue : 0
Saturation Adjustment Purple : 0
Saturation Adjustment Magenta : 0
Luminance Adjustment Red : 0
Luminance Adjustment Orange : 0
Luminance Adjustment Yellow : 0
Luminance Adjustment Green : 0
Luminance Adjustment Aqua : 0
Luminance Adjustment Blue : 0
Luminance Adjustment Purple : 0
Luminance Adjustment Magenta : 0
Split Toning Shadow Hue : 0
Split Toning Shadow Saturation : 0
Split Toning Highlight Hue : 0
Split Toning Highlight Saturation : 0
Split Toning Balance : 0
Parametric Shadows : -83
Parametric Darks : -3
Parametric Lights : -49
Parametric Highlights : +14
Parametric Shadow Split : 25
Parametric Midtone Split : 50
Parametric Highlight Split : 75
Sharpen Radius : +1.0
Sharpen Detail : 25
Sharpen Edge Masking : 0
Post Crop Vignette Amount : 0
Grain Amount : 0
Color Noise Reduction Detail : 50
Lens Profile Enable : 0
Lens Manual Distortion Amount : 0
Perspective Vertical : 0
Perspective Horizontal : 0
Perspective Rotate : 0.0
Perspective Scale : 100
Convert To Grayscale : False
Tone Curve Name : Medium Contrast
Camera Profile : ACR 4.6
Lens Profile Setup : LensDefaults
Has Settings : True
Crop Top : 0.118774
Crop Left : 0.343511
Crop Bottom : 0.659004
Crop Right : 0.883741
Crop Angle : 0
Crop Constrain To Warp : 0
Crop Width : 2317
Crop Height : 1539
Crop Unit : pixels
Has Crop : True
Already Applied : True
Flash Fired : True
Flash Return : Return detected
Flash Mode : On
Flash Function : False
Flash Red Eye Mode : False
Rights : Mofeed's Photo
Tone Curve : 0, 0, 32, 22, 64, 56, 128, 128, 192, 196, 255, 255
Image Width : 199
Image Height : 300
Bits Per Sample : 8
Color Components : 3
Aperture : 9.0
Image Size : 199x300
Megapixels : 0.060
Scale Factor To 35 mm Equivalent : 1.5
Shutter Speed : 1/100
Create Date : 2011:03:18 15:12:36.00
Date/Time Original : 2011:03:18 15:12:36.00
Flash : On, Return detected
Circle Of Confusion : 0.020 mm
Depth Of Field : 0.29 m (1.87 - 2.15 m)
Field Of View : 19.5 deg
Focal Length : 70.0 mm (35 mm equivalent: 105.0 mm)
Hyperfocal Distance : 27.18 m
Light Value : 12.0
Lens ID : AF-S Zoom-Nikkor 24-70mm f/2.8G ED