Uber Exif Photo
Copyright Flag : False
Make : Kodak
Camera Model Name : DCS Pro 14N
Orientation : Horizontal (normal)
Software : Adobe Photoshop CS3 Macintosh
Modify Date : 2011:03:20 09:38:47
Exposure Time : 1/10
F Number : 16.0
Exposure Program : Manual
ISO : 160
Date/Time Original : 2011:03:19 19:11:46
Shutter Speed Value : 1/10
Aperture Value : 16.0
Exposure Compensation : 0
Max Aperture Value : 8.9
Metering Mode : Spot
Light Source : Unknown
Focal Length : 500.0 mm
Color Space : Uncalibrated
Exif Image Width : 2913
Exif Image Height : 2172
Exposure Index : 160
Sensing Method : One-chip color area
Profile Description : Adobe RGB (1998)
Create Date : 2011:03:20 09:38:47-04:00
Creator Tool : Adobe Photoshop CS3 Macintosh
Rating : 0
Serial Number : P14N-15795
Image Number : 4455
Raw File Name : D6ZP4455.DCR
Version : 4.6
White Balance : As Shot
Color Temperature : 4150
Tint : -35
Exposure : -0.15
Shadows : 0
Brightness : 0
Contrast : 0
Saturation : +14
Sharpness : 114
Luminance Smoothing : 0
Color Noise Reduction : 25
Chromatic Aberration R : 0
Chromatic Aberration B : 0
Vignette Amount : 0
Shadow Tint : 0
Red Hue : 0
Red Saturation : 0
Green Hue : 0
Green Saturation : 0
Blue Hue : 0
Blue Saturation : 0
Fill Light : 0
Vibrance : +13
Highlight Recovery : 0
Clarity : +68
Defringe : 0
Hue Adjustment Red : 0
Hue Adjustment Orange : 0
Hue Adjustment Yellow : 0
Hue Adjustment Green : 0
Hue Adjustment Aqua : 0
Hue Adjustment Blue : 0
Hue Adjustment Purple : 0
Hue Adjustment Magenta : 0
Saturation Adjustment Red : 0
Saturation Adjustment Orange : 0
Saturation Adjustment Yellow : 0
Saturation Adjustment Green : 0
Saturation Adjustment Aqua : 0
Saturation Adjustment Blue : 0
Saturation Adjustment Purple : 0
Saturation Adjustment Magenta : 0
Luminance Adjustment Red : 0
Luminance Adjustment Orange : 0
Luminance Adjustment Yellow : 0
Luminance Adjustment Green : 0
Luminance Adjustment Aqua : 0
Luminance Adjustment Blue : 0
Luminance Adjustment Purple : 0
Luminance Adjustment Magenta : 0
Split Toning Shadow Hue : 0
Split Toning Shadow Saturation : 0
Split Toning Highlight Hue : 0
Split Toning Highlight Saturation : 0
Split Toning Balance : 0
Parametric Shadows : 0
Parametric Darks : 0
Parametric Lights : 0
Parametric Highlights : 0
Parametric Shadow Split : 25
Parametric Midtone Split : 50
Parametric Highlight Split : 75
Sharpen Radius : +1.6
Sharpen Detail : 37
Sharpen Edge Masking : 0
Post Crop Vignette Amount : 0
Convert To Grayscale : False
Tone Curve Name : Medium Contrast
Camera Profile : ACR 4.4
Has Settings : True
Has Crop : False
Already Applied : True
Sidecar For Extension : DCR
Color Mode : RGB
ICC Profile Name : Adobe RGB (1998)
Format : image/jpeg
Flash Fired : False
Tone Curve : 0, 0, 32, 22, 64, 56, 128, 128, 192, 196, 255, 255
Derived From :
Image Width : 300
Image Height : 224
Bits Per Sample : 8
Color Components : 3
Aperture : 16.0
Image Size : 300x224
Megapixels : 0.067
Shutter Speed : 1/10
Flash : No Flash
Light Value : 10.6