Uber Exif Photo
Object Name : Imperial Gravity
By-line : Max Deluca
Copyright Notice : Max Deluca
Copyright Flag : True
Make : NIKON CORPORATION
Camera Model Name : NIKON D5000
Software : Adobe Photoshop Lightroom 3.4
Modify Date : 2011:04:27 23:44:20
Artist : Max Deluca
Copyright : Max Deluca
Exposure Time : 1/1000
F Number : 5.6
Exposure Program : Manual
ISO : 160
Date/Time Original : 2011:04:27 18:14:26
Create Date : 2011:04:27 18:14:26
Shutter Speed Value : 1/1000
Aperture Value : 5.6
Exposure Compensation : 0
Max Aperture Value : 5.1
Subject Distance : 1 m
Metering Mode : Multi-segment
Light Source : Unknown
Flash : No Flash
Focal Length : 220.0 mm
Sensing Method : One-chip color area
Scene Type : Directly photographed
CFA Pattern : [Green,Blue][Red,Green]
Custom Rendered : Normal
Exposure Mode : Manual
White Balance : Auto
Digital Zoom Ratio : 1
Focal Length In 35mm Format : 330 mm
Scene Capture Type : Standard
Gain Control : None
Contrast : Normal
Saturation : Normal
Sharpness : Normal
Subject Distance Range : Unknown
Serial Number : 7451212
Lens Info : 70-300mm f/4-5.6
Lens Model : 70.0-300.0 mm f/4.0-5.6
Profile Description : ProPhoto RGB
Creator Tool : Adobe Photoshop Lightroom 3.4
Label : Delucamedia
Rating : 5
Lens : 70.0-300.0 mm f/4.0-5.6
Image Number : 4645
Approximate Focus Distance : 1
Date Created : 2011:04:27 18:14:26.50
Marked : True
Version : 6.4
Process Version : 5.7
Color Temperature : 5500
Tint : +10
Exposure : +0.30
Shadows : 7
Brightness : +18
Luminance Smoothing : 0
Color Noise Reduction : 25
Chromatic Aberration R : 0
Chromatic Aberration B : 0
Vignette Amount : 0
Shadow Tint : 0
Red Hue : 0
Red Saturation : 0
Green Hue : 0
Green Saturation : 0
Blue Hue : 0
Blue Saturation : 0
Fill Light : 8
Vibrance : +100
Highlight Recovery : 2
Clarity : +100
Defringe : 0
Hue Adjustment Red : 0
Hue Adjustment Orange : 0
Hue Adjustment Yellow : 0
Hue Adjustment Green : 0
Hue Adjustment Aqua : 0
Hue Adjustment Blue : 0
Hue Adjustment Purple : 0
Hue Adjustment Magenta : 0
Saturation Adjustment Red : 0
Saturation Adjustment Orange : 0
Saturation Adjustment Yellow : 0
Saturation Adjustment Green : 0
Saturation Adjustment Aqua : 0
Saturation Adjustment Blue : 0
Saturation Adjustment Purple : 0
Saturation Adjustment Magenta : 0
Luminance Adjustment Red : 0
Luminance Adjustment Orange : 0
Luminance Adjustment Yellow : 0
Luminance Adjustment Green : 0
Luminance Adjustment Aqua : 0
Luminance Adjustment Blue : 0
Luminance Adjustment Purple : 0
Luminance Adjustment Magenta : 0
Split Toning Shadow Hue : 327
Split Toning Shadow Saturation : 5
Split Toning Highlight Hue : 0
Split Toning Highlight Saturation : 0
Split Toning Balance : -1
Parametric Shadows : 0
Parametric Darks : 0
Parametric Lights : 0
Parametric Highlights : 0
Parametric Shadow Split : 25
Parametric Midtone Split : 50
Parametric Highlight Split : 75
Sharpen Radius : +1.0
Sharpen Detail : 100
Sharpen Edge Masking : 11
Post Crop Vignette Amount : -15
Post Crop Vignette Midpoint : 50
Post Crop Vignette Feather : 75
Post Crop Vignette Roundness : 0
Post Crop Vignette Style : Highlight Priority
Post Crop Vignette Highlight Contrast : 0
Grain Amount : 0
Color Noise Reduction Detail : 50
Lens Profile Enable : 0
Lens Manual Distortion Amount : 0
Perspective Vertical : 0
Perspective Horizontal : 0
Perspective Rotate : 0.0
Perspective Scale : 100
Convert To Grayscale : False
Tone Curve Name : Medium Contrast
Camera Profile : Adobe Standard
Lens Profile Setup : LensDefaults
Has Settings : True
Has Crop : False
Already Applied : True
Usage Terms : None
Creator Country : UK
Creator Work Email : max.deluca@live.co.uk
Creator : Max Deluca
Title : Imperial Gravity
Rights : Max Deluca
Tone Curve : 0, 0, 32, 22, 64, 56, 128, 128, 192, 196, 255, 255
Image Width : 300
Image Height : 199
Bits Per Sample : 8
Color Components : 3
Aperture : 5.6
Image Size : 300x199
Megapixels : 0.060
Scale Factor To 35 mm Equivalent : 1.5
Shutter Speed : 1/1000
Create Date : 2011:04:27 18:14:26.50
Date/Time Original : 2011:04:27 18:14:26.50
Circle Of Confusion : 0.020 mm
Depth Of Field : 0.004 m (0.998 - 1.002 m)
Field Of View : 6.2 deg
Focal Length : 220.0 mm (35 mm equivalent: 330.0 mm)
Hyperfocal Distance : 431.48 m
Light Value : 14.3
Lens ID : Sigma 70-300mm F4-5.6 APO Macro Super II or AF Zoom-Nikkor 70-300mm f/4-5.6D ED