Uber Exif Photo
Make : NIKON CORPORATION
Camera Model Name : NIKON D5000
Software : Adobe Photoshop Lightroom 3.4
Modify Date : 2011:04:28 10:35:55
Exposure Time : 1/4000
F Number : 6.3
Exposure Program : Manual
ISO : 3200
Date/Time Original : 2011:04:28 10:21:56
Create Date : 2011:04:28 10:21:56
Shutter Speed Value : 1/4000
Aperture Value : 6.3
Exposure Compensation : 0
Max Aperture Value : 5.7
Subject Distance : 1.12 m
Metering Mode : Center-weighted average
Light Source : Unknown
Flash : No Flash
Focal Length : 300.0 mm
Sensing Method : One-chip color area
Scene Type : Directly photographed
CFA Pattern : [Green,Blue][Red,Green]
Custom Rendered : Normal
Exposure Mode : Manual
White Balance : Auto
Digital Zoom Ratio : 1
Focal Length In 35mm Format : 450 mm
Scene Capture Type : Standard
Gain Control : High gain up
Contrast : Normal
Saturation : Normal
Sharpness : Normal
Subject Distance Range : Unknown
Serial Number : 7451212
Lens Info : 70-300mm f/4-5.6
Lens Model : 70.0-300.0 mm f/4.0-5.6
Profile Description : ProPhoto RGB
Creator Tool : Adobe Photoshop Lightroom 3.4
Lens : 70.0-300.0 mm f/4.0-5.6
Image Number : 4656
Approximate Focus Distance : 1.12
Date Created : 2011:04:28 10:21:56.50
Version : 6.4
Process Version : 5.7
Color Temperature : 4300
Tint : -18
Exposure : 0.00
Shadows : 4
Brightness : 0
Luminance Smoothing : 0
Color Noise Reduction : 25
Chromatic Aberration R : 0
Chromatic Aberration B : 0
Vignette Amount : -83
Vignette Midpoint : 21
Shadow Tint : 0
Red Hue : 0
Red Saturation : 0
Green Hue : 0
Green Saturation : 0
Blue Hue : 0
Blue Saturation : 0
Fill Light : 23
Highlight Recovery : 0
Clarity : -40
Defringe : 0
Gray Mixer Red : -4
Gray Mixer Orange : -13
Gray Mixer Yellow : -16
Gray Mixer Green : -23
Gray Mixer Aqua : -19
Gray Mixer Blue : +10
Gray Mixer Purple : +16
Gray Mixer Magenta : +7
Split Toning Shadow Hue : 37
Split Toning Shadow Saturation : 22
Split Toning Highlight Hue : 216
Split Toning Highlight Saturation : 21
Split Toning Balance : 0
Parametric Shadows : -60
Parametric Darks : -17
Parametric Lights : +33
Parametric Highlights : 0
Parametric Shadow Split : 25
Parametric Midtone Split : 50
Parametric Highlight Split : 75
Sharpen Radius : +1.0
Sharpen Detail : 25
Sharpen Edge Masking : 0
Post Crop Vignette Amount : 0
Grain Amount : 0
Color Noise Reduction Detail : 50
Lens Profile Enable : 0
Lens Manual Distortion Amount : 0
Perspective Vertical : 0
Perspective Horizontal : 0
Perspective Rotate : 0.0
Perspective Scale : 100
Convert To Grayscale : True
Tone Curve Name : Linear
Camera Profile : Adobe Standard
Lens Profile Setup : LensDefaults
Has Settings : True
Has Crop : False
Already Applied : True
Tone Curve : 0, 0, 255, 255
Gradient Based Corr What : Correction
Gradient Based Corr Amount : 1.000000
Gradient Based Corr Active : true
Gradient Based Corr Exposure : -0.150000
Gradient Based Corr Saturation : 0.000000
Gradient Based Corr Contrast : 0.200000
Gradient Based Corr Clarity : -0.325000
Gradient Based Corr Sharpness : 0.000000
Gradient Based Corr Brightness : 0.000000
Gradient Based Corr Toning Hue : 40.000000
Gradient Based Corr Toning Saturation : 0.010000
Gradient Based Corr Mask What : Mask/Gradient
Gradient Based Corr Mask Value : 1.000000
Gradient Based Corr Mask Zero X : 0.518428
Gradient Based Corr Mask Zero Y : 0.801105
Gradient Based Corr Mask Full X : 0.515971
Gradient Based Corr Mask Full Y : 1.001840
Image Width : 300
Image Height : 199
Bits Per Sample : 8
Color Components : 3
Aperture : 6.3
Image Size : 300x199
Megapixels : 0.060
Scale Factor To 35 mm Equivalent : 1.5
Shutter Speed : 1/4000
Create Date : 2011:04:28 10:21:56.50
Date/Time Original : 2011:04:28 10:21:56.50
Circle Of Confusion : 0.020 mm
Depth Of Field : 0.003 m (1.119 - 1.121 m)
Field Of View : 4.6 deg
Focal Length : 300.0 mm (35 mm equivalent: 450.0 mm)
Hyperfocal Distance : 713.19 m
Light Value : 12.3
Lens ID : Sigma 70-300mm F4-5.6 APO Macro Super II or AF Zoom-Nikkor 70-300mm f/4-5.6D ED