Uber Exif Photo
Make : NIKON CORPORATION
Camera Model Name : NIKON D300
Orientation : Horizontal (normal)
Software : Adobe Photoshop Elements 8.0 Windows
Modify Date : 2011:05:02 11:47:22
Exposure Time : 1/800
F Number : 5.6
Exposure Program : Aperture-priority AE
ISO : 900
Date/Time Original : 2011:04:23 09:22:05
Create Date : 2011:04:23 09:22:05
Shutter Speed Value : 1/800
Aperture Value : 5.6
Exposure Compensation : 0
Max Aperture Value : 5.5
Metering Mode : Multi-segment
Light Source : Unknown
Focal Length : 330.0 mm
Color Space : Uncalibrated
Exif Image Width : 4080
Exif Image Height : 2640
Sensing Method : One-chip color area
Scene Type : Directly photographed
CFA Pattern : [Red,Green][Green,Blue]
Custom Rendered : Normal
Exposure Mode : Auto
White Balance : Auto
Digital Zoom Ratio : 1
Focal Length In 35mm Format : 495 mm
Scene Capture Type : Standard
Gain Control : High gain up
Contrast : Normal
Saturation : Normal
Sharpness : Hard
Subject Distance Range : Unknown
Profile Description : Adobe RGB (1998)
Rating Percent : 0
Date/Time Digitized : 2011:04:23 09:22:05.57-05:00
Creator Tool : Nikon Transfer 1.5 M
Rating : 0
Serial Number : 6055215
Lens Info : 80-400mm f/4.5-5.6
Lens : 80.0-400.0 mm f/4.5-5.6
Image Number : 12134
Raw File Name : DSC_2064.NEF
Version : 5.5
Color Temperature : 4250
Tint : +6
Exposure : +1.25
Shadows : 10
Brightness : 0
Luminance Smoothing : 81
Color Noise Reduction : 81
Chromatic Aberration R : 0
Chromatic Aberration B : 0
Vignette Amount : 0
Shadow Tint : 0
Red Hue : 0
Red Saturation : 0
Green Hue : 0
Green Saturation : 0
Blue Hue : 0
Blue Saturation : 0
Fill Light : 16
Vibrance : 0
Highlight Recovery : 19
Clarity : 0
Defringe : 0
Hue Adjustment Red : 0
Hue Adjustment Orange : 0
Hue Adjustment Yellow : 0
Hue Adjustment Green : 0
Hue Adjustment Aqua : 0
Hue Adjustment Blue : 0
Hue Adjustment Purple : 0
Hue Adjustment Magenta : 0
Saturation Adjustment Red : 0
Saturation Adjustment Orange : 0
Saturation Adjustment Yellow : 0
Saturation Adjustment Green : 0
Saturation Adjustment Aqua : 0
Saturation Adjustment Blue : 0
Saturation Adjustment Purple : 0
Saturation Adjustment Magenta : 0
Luminance Adjustment Red : 0
Luminance Adjustment Orange : 0
Luminance Adjustment Yellow : 0
Luminance Adjustment Green : 0
Luminance Adjustment Aqua : 0
Luminance Adjustment Blue : 0
Luminance Adjustment Purple : 0
Luminance Adjustment Magenta : 0
Split Toning Shadow Hue : 0
Split Toning Shadow Saturation : 0
Split Toning Highlight Hue : 0
Split Toning Highlight Saturation : 0
Split Toning Balance : 0
Parametric Shadows : 0
Parametric Darks : 0
Parametric Lights : 0
Parametric Highlights : 0
Parametric Shadow Split : 25
Parametric Midtone Split : 50
Parametric Highlight Split : 75
Sharpen Radius : +1.0
Sharpen Detail : 25
Sharpen Edge Masking : 0
Post Crop Vignette Amount : 0
Convert To Grayscale : False
Tone Curve Name : Medium Contrast
Camera Profile : Camera Vivid
Has Settings : True
Has Crop : False
Already Applied : True
Sidecar For Extension : NEF
Color Mode : RGB
ICC Profile Name : Adobe RGB (1998)
Format : image/jpeg
Flash Fired : False
Flash Return : No return detection
Flash Mode : Unknown
Flash Function : False
Flash Red Eye Mode : False
Tone Curve : 0, 0, 32, 22, 64, 56, 128, 128, 192, 196, 255, 255
Image Width : 300
Image Height : 194
Bits Per Sample : 8
Color Components : 3
Aperture : 5.6
Image Size : 300x194
Megapixels : 0.058
Scale Factor To 35 mm Equivalent : 1.5
Shutter Speed : 1/800
Create Date : 2011:04:23 09:22:05.57
Date/Time Original : 2011:04:23 09:22:05.57
Modify Date : 2011:05:02 11:47:22.57
Flash : No Flash
Circle Of Confusion : 0.020 mm
Field Of View : 4.2 deg
Focal Length : 330.0 mm (35 mm equivalent: 495.0 mm)
Hyperfocal Distance : 970.82 m
Light Value : 11.4
Lens ID : 80.0-400.0mm f/4.5-5.6