Uber Exif Photo
By-line : Photographer: Gilles Sanchez
Keywords : In Focus, High Quality
Copyright Notice : Copyright: Gilles Sanchez
Make : Canon
Camera Model Name : Canon EOS 50D
Orientation : Horizontal (normal)
Software : Adobe Photoshop CS5 Windows
Modify Date : 2011:01:15 21:07:22
Artist : Photographer: Gilles Sanchez
Copyright : Copyright: Gilles Sanchez
Exposure Time : 1.3
F Number : 18.0
Exposure Program : Aperture-priority AE
ISO : 100
Sensitivity Type : Unknown
Date/Time Original : 2010:10:30 10:56:24
Create Date : 2010:10:30 10:56:24
Shutter Speed Value : 1.3
Aperture Value : 18.0
Exposure Compensation : +1/3
Max Aperture Value : 4.0
Subject Distance : 4294967295 m
Metering Mode : Partial
Flash : Off, Did not fire
Focal Length : 17.0 mm
Color Space : Uncalibrated
Exif Image Width : 3355
Exif Image Height : 1588
Custom Rendered : Normal
Exposure Mode : Auto
White Balance : Auto
Scene Capture Type : Standard
Owner Name : Gilles Sanchez
Serial Number : 1230502870
Lens Info : 17-85mm f/?
Lens Model : EF-S17-85mm f/4-5.6 IS USM
Profile Description : Adobe RGB (1998)
Rating : 0
Format : image/jpeg
Lens : EF-S17-85mm f/4-5.6 IS USM
Image Number : 0
Approximate Focus Distance : 4294967295
Flash Compensation : 0
Firmware : 1.0.7
Raw File Name : Malenovice_2010_10_30_2594.CR2
Version : 6.3
Process Version : 5.7
Color Temperature : 6500
Tint : +10
Exposure : +0.20
Shadows : 1
Brightness : +61
Contrast : +49
Saturation : 0
Sharpness : 25
Luminance Smoothing : 0
Color Noise Reduction : 25
Chromatic Aberration R : 0
Chromatic Aberration B : 0
Vignette Amount : 0
Shadow Tint : 0
Red Hue : 0
Red Saturation : 0
Green Hue : 0
Green Saturation : 0
Blue Hue : 0
Blue Saturation : 0
Fill Light : 6
Vibrance : +8
Highlight Recovery : 29
Clarity : +5
Defringe : 0
Hue Adjustment Red : 0
Hue Adjustment Orange : 0
Hue Adjustment Yellow : 0
Hue Adjustment Green : 0
Hue Adjustment Aqua : 0
Hue Adjustment Blue : 0
Hue Adjustment Purple : 0
Hue Adjustment Magenta : 0
Saturation Adjustment Red : 0
Saturation Adjustment Orange : 0
Saturation Adjustment Yellow : 0
Saturation Adjustment Green : 0
Saturation Adjustment Aqua : 0
Saturation Adjustment Blue : 0
Saturation Adjustment Purple : 0
Saturation Adjustment Magenta : 0
Luminance Adjustment Red : 0
Luminance Adjustment Orange : 0
Luminance Adjustment Yellow : 0
Luminance Adjustment Green : 0
Luminance Adjustment Aqua : 0
Luminance Adjustment Blue : 0
Luminance Adjustment Purple : 0
Luminance Adjustment Magenta : 0
Split Toning Shadow Hue : 0
Split Toning Shadow Saturation : 0
Split Toning Highlight Hue : 0
Split Toning Highlight Saturation : 0
Split Toning Balance : 0
Parametric Shadows : 0
Parametric Darks : 0
Parametric Lights : 0
Parametric Highlights : 0
Parametric Shadow Split : 25
Parametric Midtone Split : 50
Parametric Highlight Split : 75
Sharpen Radius : +1.0
Sharpen Detail : 25
Sharpen Edge Masking : 0
Post Crop Vignette Amount : 0
Grain Amount : 0
Color Noise Reduction Detail : 50
Lens Profile Enable : 0
Lens Manual Distortion Amount : 0
Perspective Vertical : 0
Perspective Horizontal : 0
Perspective Rotate : 0.0
Perspective Scale : 100
Convert To Grayscale : False
Tone Curve Name : Medium Contrast
Camera Profile : Camera Landscape
Lens Profile Setup : LensDefaults
Has Settings : True
Crop Top : 0.409851
Crop Left : 0.155425
Crop Bottom : 0.956059
Crop Right : 0.846546
Crop Angle : 2.44233
Crop Constrain To Warp : 1
Has Crop : True
Already Applied : True
Sidecar For Extension : CR2
Color Mode : RGB
ICC Profile Name : Adobe RGB (1998)
Date Created : 2010:10:30 10:56:24
Creator : Photographer: Gilles Sanchez
Rights : Copyright: Gilles Sanchez
Subject : In Focus, High Quality
Tone Curve : 0, 0, 32, 22, 64, 56, 128, 128, 192, 196, 255, 255
Image Width : 300
Image Height : 142
Bits Per Sample : 8
Color Components : 3
Aperture : 18.0
Image Size : 300x142
Megapixels : 0.043
Scale Factor To 35 mm Equivalent : 1.6
Shutter Speed : 1.3
Create Date : 2010:10:30 10:56:24.87
Modify Date : 2011:01:15 21:07:22.87
Circle Of Confusion : 0.019 mm
Depth Of Field : inf (0.85 m - inf)
Field Of View : 67.5 deg
Focal Length : 17.0 mm (35 mm equivalent: 26.9 mm)
Hyperfocal Distance : 0.85 m
Light Value : 8.0
Lens ID : Canon EF-S 17-85mm f/4-5.6 IS USM