Uber Exif Photo
Keywords : AF-S NIKKOR 24-70mm f/2.8G ED (2.9x), Flowers, Nikon D3s, Sigma 150-500MM, Sigma 150-500mm F5-6.3 APO DG OS HSM, Switzerland
By-line : DraculRO
Copyright Notice : Copyright 2011 Draculro
Make : NIKON CORPORATION
Camera Model Name : NIKON D3S
Orientation : Horizontal (normal)
Software : Adobe Photoshop Lightroom 3.4
Modify Date : 2011:05:10 15:42:41
Artist : DraculRO
Copyright : Copyright 2011 Draculro
Exposure Time : 1/160
F Number : 4.0
Exposure Program : Manual
ISO : 125
Date/Time Original : 2011:05:10 13:47:09
Create Date : 2011:05:10 13:47:09
Shutter Speed Value : 1/160
Aperture Value : 4.0
Exposure Compensation : +1
Max Aperture Value : 2.8
Subject Distance : 0.5 m
Metering Mode : Multi-segment
Light Source : Unknown
Flash : No Flash
Focal Length : 70.0 mm
Sensing Method : One-chip color area
Scene Type : Directly photographed
CFA Pattern : [Red,Green][Green,Blue]
Custom Rendered : Normal
Exposure Mode : Manual
White Balance : Auto
Digital Zoom Ratio : 1
Focal Length In 35mm Format : 70 mm
Scene Capture Type : Standard
Gain Control : None
Contrast : Normal
Saturation : Normal
Sharpness : Normal
Subject Distance Range : Unknown
Serial Number : 2026054
Lens Info : 24-70mm f/2.8
Lens Model : 24.0-70.0 mm f/2.8
Profile Description : sRGB IEC61966-2.1
Creator Tool : Adobe Photoshop Lightroom 3.4
Rating : 5
Lens : 24.0-70.0 mm f/2.8
Image Number : 11706
Approximate Focus Distance : 0.5
Date Created : 2011:05:10 13:47:09.00
Version : 6.4
Process Version : 5.7
Color Temperature : 4500
Tint : +8
Exposure : 0.00
Shadows : 5
Brightness : +50
Luminance Smoothing : 53
Color Noise Reduction : 25
Chromatic Aberration R : 0
Chromatic Aberration B : 0
Vignette Amount : 0
Shadow Tint : 0
Red Hue : 0
Red Saturation : 0
Green Hue : 0
Green Saturation : 0
Blue Hue : 0
Blue Saturation : 0
Fill Light : 0
Vibrance : 0
Highlight Recovery : 0
Clarity : +36
Defringe : 0
Hue Adjustment Red : 0
Hue Adjustment Orange : 0
Hue Adjustment Yellow : 0
Hue Adjustment Green : +30
Hue Adjustment Aqua : 0
Hue Adjustment Blue : 0
Hue Adjustment Purple : 0
Hue Adjustment Magenta : 0
Saturation Adjustment Red : 0
Saturation Adjustment Orange : 0
Saturation Adjustment Yellow : 0
Saturation Adjustment Green : +43
Saturation Adjustment Aqua : 0
Saturation Adjustment Blue : 0
Saturation Adjustment Purple : 0
Saturation Adjustment Magenta : 0
Luminance Adjustment Red : -14
Luminance Adjustment Orange : 0
Luminance Adjustment Yellow : 0
Luminance Adjustment Green : +25
Luminance Adjustment Aqua : 0
Luminance Adjustment Blue : 0
Luminance Adjustment Purple : 0
Luminance Adjustment Magenta : 0
Split Toning Shadow Hue : 0
Split Toning Shadow Saturation : 0
Split Toning Highlight Hue : 0
Split Toning Highlight Saturation : 0
Split Toning Balance : 0
Parametric Shadows : 0
Parametric Darks : 0
Parametric Lights : -33
Parametric Highlights : 0
Parametric Shadow Split : 25
Parametric Midtone Split : 50
Parametric Highlight Split : 75
Sharpen Radius : +1.0
Sharpen Detail : 25
Sharpen Edge Masking : 0
Post Crop Vignette Amount : 0
Grain Amount : 0
Luminance Noise Reduction Detail : 50
Color Noise Reduction Detail : 50
Luminance Noise Reduction Contrast : 0
Lens Profile Enable : 0
Lens Manual Distortion Amount : 0
Perspective Vertical : 0
Perspective Horizontal : 0
Perspective Rotate : 0.0
Perspective Scale : 100
Convert To Grayscale : False
Tone Curve Name : Medium Contrast
Camera Profile : Adobe Standard
Lens Profile Setup : LensDefaults
Has Settings : True
Crop Top : 0.002399
Crop Left : 0.242617
Crop Bottom : 0.997602
Crop Right : 0.976058
Crop Angle : 0
Crop Constrain To Warp : 0
Crop Width : 3122
Crop Height : 2818
Crop Unit : pixels
Has Crop : True
Already Applied : True
Raw File Name : Cactus.Margarete 05.2011_2.jpg
Tone Curve : 0, 0, 32, 22, 64, 56, 128, 128, 192, 196, 255, 255
Creator : DraculRO
Rights : Copyright 2011 Draculro
Subject : AF-S NIKKOR 24-70mm f/2.8G ED (2.9x), Flowers, Nikon D3s, Sigma 150-500MM, Sigma 150-500mm F5-6.3 APO DG OS HSM, Switzerland
Hierarchical Subject : AF-S NIKKOR 24-70mm f/2.8G ED (2.9x), Flowers, Nikon D3s, Sigma 150-500MM, Sigma 150-500mm F5-6.3 APO DG OS HSM, Switzerland
Image Width : 300
Image Height : 271
Bits Per Sample : 8
Color Components : 3
Aperture : 4.0
Image Size : 300x271
Megapixels : 0.081
Scale Factor To 35 mm Equivalent : 1.0
Shutter Speed : 1/160
Circle Of Confusion : 0.030 mm
Depth Of Field : 0.011 m (0.495 - 0.505 m)
Field Of View : 28.8 deg
Focal Length : 70.0 mm (35 mm equivalent: 70.0 mm)
Hyperfocal Distance : 40.77 m
Light Value : 11.0
Lens ID : AF-S Zoom-Nikkor 24-70mm f/2.8G ED