Uber Exif Photo
By-line : Michael V. Przekop, Michael.prze
Sub-location : Treasure Coast, FL
Copyright Notice : Copyright © 2011 Michael V. Przekop. All rights reserved
Make : NIKON CORPORATION
Camera Model Name : NIKON D70
Software : Ver.1.01
Modify Date : 2011:05:16 05:25:39
Copyright : Copyright (C) 2011 Michael V. Przekop. All rights reserved
Exposure Time : 1/200
F Number : 14.0
Exposure Program : Manual
ISO : 400
Date/Time Original : 2011:05:01 07:20:54
Create Date : 2011:05:01 07:20:54
Shutter Speed Value : 1/200
Aperture Value : 14.0
Exposure Compensation : 0
Max Aperture Value : 4.4
Metering Mode : Multi-segment
Light Source : Unknown
Focal Length : 70.0 mm
Sensing Method : One-chip color area
Scene Type : Directly photographed
CFA Pattern : [Blue,Green][Green,Red]
XP Title : MVPrzekop_Impressions of Dawn at Berth 236_236.JPEG
XP Author : Michael V. Przekop
XP Subject : Yachts at Berth on Treasure Coast, FL
Custom Rendered : Normal
Exposure Mode : Manual
White Balance : Auto
Digital Zoom Ratio : 1
Focal Length In 35mm Format : 105 mm
Scene Capture Type : Standard
Gain Control : None
Contrast : Normal
Saturation : Normal
Sharpness : Normal
Subject Distance Range : Unknown
Profile Description : Adobe RGB (1998)
Date/Time Digitized : 2011:05:01 07:20:54.00-04:00
Creator Tool : Adobe Photoshop Lightroom
Rating : 5
Lens Info : 18-70mm f/3.5-4.5
Lens : 18.0-70.0 mm f/3.5-4.5
Image Number : 33075
Location : Treasure Coast, FL
Marked : True
Version : 1.0
Color Temperature : 4824
Tint : +34
Exposure : +2.12
Shadows : 13
Brightness : +69
Luminance Smoothing : 0
Color Noise Reduction : 25
Chromatic Aberration R : 0
Chromatic Aberration B : 0
Vignette Amount : 0
Shadow Tint : 0
Red Hue : 0
Red Saturation : 0
Green Hue : 0
Green Saturation : 0
Blue Hue : 0
Blue Saturation : 0
Fill Light : 0
Vibrance : +27
Highlight Recovery : 0
Clarity : 31
Defringe : 0
Hue Adjustment Red : 0
Hue Adjustment Orange : 0
Hue Adjustment Yellow : 0
Hue Adjustment Green : 0
Hue Adjustment Aqua : 0
Hue Adjustment Blue : 0
Hue Adjustment Purple : 0
Hue Adjustment Magenta : 0
Saturation Adjustment Red : 0
Saturation Adjustment Orange : 0
Saturation Adjustment Yellow : 0
Saturation Adjustment Green : 0
Saturation Adjustment Aqua : 0
Saturation Adjustment Blue : 0
Saturation Adjustment Purple : 0
Saturation Adjustment Magenta : 0
Luminance Adjustment Red : 0
Luminance Adjustment Orange : 0
Luminance Adjustment Yellow : 0
Luminance Adjustment Green : 0
Luminance Adjustment Aqua : 0
Luminance Adjustment Blue : 0
Luminance Adjustment Purple : 0
Luminance Adjustment Magenta : 0
Split Toning Shadow Hue : 0
Split Toning Shadow Saturation : 0
Split Toning Highlight Hue : 0
Split Toning Highlight Saturation : 0
Split Toning Balance : 0
Parametric Shadows : -27
Parametric Darks : -8
Parametric Lights : +46
Parametric Highlights : +95
Parametric Shadow Split : 25
Parametric Midtone Split : 50
Parametric Highlight Split : 75
Sharpen Radius : +1.0
Sharpen Detail : 25
Sharpen Edge Masking : 0
Convert To Grayscale : False
Tone Curve Name : Medium Contrast
Camera Profile : ACR 2.4
Has Settings : True
Has Crop : False
Already Applied : True
Flash Fired : False
Flash Return : No return detection
Flash Mode : Unknown
Flash Function : False
Flash Red Eye Mode : False
Creator : Michael V. Przekop, Michael.przekop@gmail.com, 925-872-1285 cell
Rights : Copyright © 2011 Michael V. Przekop. All rights reserved
Tone Curve : 0, 0, 32, 22, 64, 56, 128, 128, 192, 196, 255, 255
Image Width : 199
Image Height : 300
Bits Per Sample : 8
Color Components : 3
Aperture : 14.0
Image Size : 199x300
Megapixels : 0.060
Scale Factor To 35 mm Equivalent : 1.5
Shutter Speed : 1/200
Create Date : 2011:05:01 07:20:54.00
Date/Time Original : 2011:05:01 07:20:54.00
Flash : No Flash
Circle Of Confusion : 0.020 mm
Field Of View : 19.5 deg
Focal Length : 70.0 mm (35 mm equivalent: 105.0 mm)
Hyperfocal Distance : 17.47 m
Light Value : 13.3
Lens ID : 18.0-70.0mm f/3.5-4.5