Uber Exif Photo
Make : NIKON CORPORATION
Camera Model Name : NIKON D300
Orientation : Horizontal (normal)
Software : GIMP 2.6.11
Modify Date : 2011:05:23 12:16:29
Artist : Raffaele Manuel Cabras
Copyright : Copyright © 2008 Raffaele Manuel Cabras
Exposure Time : 30
F Number : 8.0
Exposure Program : Aperture-priority AE
ISO : 100
Date/Time Original : 2008:12:31 17:44:26
Create Date : 2008:12:31 17:44:26
Shutter Speed Value : 30
Aperture Value : 8.0
Exposure Compensation : +1
Max Aperture Value : 3.5
Metering Mode : Multi-segment
Light Source : Unknown
Focal Length : 18.0 mm
Color Space : sRGB
Exif Image Width : 664
Exif Image Height : 1000
Sensing Method : One-chip color area
Scene Type : Directly photographed
CFA Pattern : [Red,Green][Green,Blue]
Custom Rendered : Normal
Exposure Mode : Auto
White Balance : Auto
Digital Zoom Ratio : 1
Focal Length In 35mm Format : 27 mm
Scene Capture Type : Standard
Gain Control : None
Contrast : Normal
Saturation : High
Sharpness : Normal
Subject Distance Range : Unknown
Profile Description : sRGB IEC61966-2.1
Date/Time Digitized : 2008:12:31 17:44:26.43+01:00
Flash Fired : False
Flash Return : No return detection
Flash Mode : Unknown
Flash Function : False
Flash Red Eye Mode : False
Creator Tool : Adobe Photoshop CS3 Windows
Rating : 0
Lens Info : 18-70mm f/3.5-4.5
Lens : 18.0-70.0 mm f/3.5-4.5
Image Number : 2227
Sidecar For Extension : NEF
Format : application/vnd.adobe.photoshop
Creator : Raffaele Manuel Cabras
Rights : Copyright © 2008 Raffaele Manuel Cabras
Subject : alghero, mare, onde, pontile, tramonto
Creator Postal Code : 08040
Creator Region : (OG)
Creator Country : Italy
Creator City : Cardedu
Creator Work Email : mixyourmind@gmail.com
Creator Address : Via Buoncammino snc
Creator Work URL : http://mixyourshot.com
Marked : True
Usage Terms : No reproduction of any kind without prior written
Hierarchical Subject : alghero, mare, onde, pontile, tramonto
Raw File Name : 0812_Capodanno_Alghero_097 FINAL (denoised,sharpen medium final and high su pontile)-firmato.psd
Version : 6.0
Process Version : 5.7
Incremental Temperature : 0
Incremental Tint : 0
Exposure : 0.00
Shadows : 33
Brightness : 0
Luminance Smoothing : 0
Color Noise Reduction : 0
Chromatic Aberration R : 0
Chromatic Aberration B : 0
Vignette Amount : 0
Shadow Tint : 0
Red Hue : 0
Red Saturation : 0
Green Hue : 0
Green Saturation : 0
Blue Hue : 0
Blue Saturation : 0
Fill Light : 100
Vibrance : +100
Highlight Recovery : 100
Clarity : +100
Defringe : 0
Hue Adjustment Red : 0
Hue Adjustment Orange : 0
Hue Adjustment Yellow : 0
Hue Adjustment Green : 0
Hue Adjustment Aqua : 0
Hue Adjustment Blue : 0
Hue Adjustment Purple : 0
Hue Adjustment Magenta : 0
Saturation Adjustment Red : 0
Saturation Adjustment Orange : 0
Saturation Adjustment Yellow : 0
Saturation Adjustment Green : 0
Saturation Adjustment Aqua : 0
Saturation Adjustment Blue : 0
Saturation Adjustment Purple : 0
Saturation Adjustment Magenta : 0
Luminance Adjustment Red : 0
Luminance Adjustment Orange : 0
Luminance Adjustment Yellow : 0
Luminance Adjustment Green : 0
Luminance Adjustment Aqua : 0
Luminance Adjustment Blue : 0
Luminance Adjustment Purple : 0
Luminance Adjustment Magenta : 0
Split Toning Shadow Hue : 0
Split Toning Shadow Saturation : 0
Split Toning Highlight Hue : 0
Split Toning Highlight Saturation : 0
Split Toning Balance : 0
Parametric Shadows : 0
Parametric Darks : 0
Parametric Lights : 0
Parametric Highlights : 0
Parametric Shadow Split : 25
Parametric Midtone Split : 50
Parametric Highlight Split : 75
Sharpen Radius : +1.0
Sharpen Detail : 25
Sharpen Edge Masking : 0
Post Crop Vignette Amount : 0
Grain Amount : 0
Convert To Grayscale : False
Tone Curve Name : Linear
Tone Curve : 0, 0, 255, 255
Camera Profile : Embedded
Has Settings : True
Has Crop : False
Already Applied : False
Image Width : 199
Image Height : 300
Bits Per Sample : 8
Color Components : 3
Aperture : 8.0
Image Size : 199x300
Megapixels : 0.060
Scale Factor To 35 mm Equivalent : 1.5
Shutter Speed : 30
Create Date : 2008:12:31 17:44:26.43
Date/Time Original : 2008:12:31 17:44:26.43
Modify Date : 2011:05:23 12:16:29.43
Flash : No Flash
Circle Of Confusion : 0.020 mm
Field Of View : 67.4 deg
Focal Length : 18.0 mm (35 mm equivalent: 27.0 mm)
Hyperfocal Distance : 2.02 m
Light Value : 1.1
Lens ID : 18.0-70.0mm f/3.5-4.5