Uber Exif Photo
By-line : Finn Olesen
Copyright Notice : www.saycheeseto.me
Keywords : Model, Camilla Jensen
Caption-Abstract : Model Camilla Jensen
Image Description : Model Camilla Jensen
Make : NIKON CORPORATION
Software : Adobe Photoshop CS5 Windows
Modify Date : 2011:05:22 15:53:45
Artist : Finn Olesen
Copyright : www.saycheeseto.me
Exposure Time : 1/160
F Number : 6.3
Exposure Program : Manual
ISO : 100
Sensitivity Type : Unknown
Date/Time Original : 2011:05:11 19:43:21
Create Date : 2011:05:11 19:43:21
Shutter Speed Value : 1/160
Aperture Value : 6.3
Exposure Compensation : 0
Max Aperture Value : 2.8
Subject Distance : 3.98 m
Metering Mode : Multi-segment
Light Source : Unknown
Focal Length : 70.0 mm
Sensing Method : One-chip color area
Scene Type : Directly photographed
CFA Pattern : [Green,Blue][Red,Green]
Custom Rendered : Normal
Exposure Mode : Manual
White Balance : Auto
Digital Zoom Ratio : 1
Focal Length In 35mm Format : 105 mm
Scene Capture Type : Standard
Gain Control : None
Contrast : Normal
Saturation : Normal
Sharpness : Hard
Subject Distance Range : Unknown
Serial Number : 6157831
Lens Info : 70-200mm f/2.8
Lens Model : 70.0-200.0 mm f/2.8
XP Title : Model Camilla Jensen
XP Author : Finn Olesen
XP Keywords : Model;Camilla Jensen
Profile Description : Adobe RGB (1998)
Rating : 5
Label : Red
Creator Tool : Adobe Photoshop Lightroom 3.3
Image Number : 29227
Lens : 70.0-200.0 mm f/2.8
Approximate Focus Distance : 3.98
Format : application/vnd.adobe.photoshop
Date Created : 2011:05:11 19:43:21
Date/Time Digitized : 2011:05:11 19:43:21.00+02:00
Exif Image Width : 695
Exif Image Height : 1000
Version : 6.3
Process Version : 5.7
Incremental Temperature : 0
Incremental Tint : 0
Exposure : +1.52
Shadows : 53
Brightness : +78
Luminance Smoothing : 100
Color Noise Reduction : 100
Chromatic Aberration R : 0
Chromatic Aberration B : 0
Vignette Amount : -100
Vignette Midpoint : 52
Shadow Tint : 0
Red Hue : 0
Red Saturation : 0
Green Hue : 0
Green Saturation : 0
Blue Hue : 0
Blue Saturation : 0
Fill Light : 92
Vibrance : -38
Highlight Recovery : 95
Clarity : +22
Defringe : 0
Hue Adjustment Red : 0
Hue Adjustment Orange : 0
Hue Adjustment Yellow : 0
Hue Adjustment Green : 0
Hue Adjustment Aqua : 0
Hue Adjustment Blue : 0
Hue Adjustment Purple : 0
Hue Adjustment Magenta : 0
Saturation Adjustment Red : 0
Saturation Adjustment Orange : 0
Saturation Adjustment Yellow : 0
Saturation Adjustment Green : 0
Saturation Adjustment Aqua : 0
Saturation Adjustment Blue : 0
Saturation Adjustment Purple : 0
Saturation Adjustment Magenta : 0
Luminance Adjustment Red : 0
Luminance Adjustment Orange : 0
Luminance Adjustment Yellow : 0
Luminance Adjustment Green : 0
Luminance Adjustment Aqua : 0
Luminance Adjustment Blue : 0
Luminance Adjustment Purple : 0
Luminance Adjustment Magenta : 0
Split Toning Shadow Hue : 0
Split Toning Shadow Saturation : 0
Split Toning Highlight Hue : 0
Split Toning Highlight Saturation : 0
Split Toning Balance : 0
Parametric Shadows : 0
Parametric Darks : 0
Parametric Lights : 0
Parametric Highlights : 0
Parametric Shadow Split : 25
Parametric Midtone Split : 50
Parametric Highlight Split : 75
Sharpen Radius : +3.0
Sharpen Detail : 51
Sharpen Edge Masking : 100
Post Crop Vignette Amount : 0
Grain Amount : 0
Luminance Noise Reduction Detail : 50
Color Noise Reduction Detail : 50
Luminance Noise Reduction Contrast : 0
Lens Profile Enable : 0
Lens Manual Distortion Amount : 0
Perspective Vertical : 0
Perspective Horizontal : 0
Perspective Rotate : 0.0
Perspective Scale : 100
Convert To Grayscale : False
Tone Curve Name : Linear
Camera Profile : Embedded
Lens Profile Setup : LensDefaults
Has Settings : True
Has Crop : False
Already Applied : True
Flash Fired : True
Flash Return : Return not detected
Flash Mode : On
Flash Function : False
Flash Red Eye Mode : False
Tone Curve : 0, 0, 255, 255
Creator : Finn Olesen
Rights : www.saycheeseto.me
Subject : Model, Camilla Jensen
Title : Model Camilla Jensen
Description : Model Camilla Jensen
Last Keyword XMP : Model, Camilla Jensen
Last Keyword IPTC : Model, Camilla Jensen
Image Width : 209
Image Height : 300
Bits Per Sample : 8
Color Components : 3
Aperture : 6.3
Image Size : 209x300
Megapixels : 0.063
Scale Factor To 35 mm Equivalent : 1.5
Shutter Speed : 1/160
Create Date : 2011:05:11 19:43:21.00
Date/Time Original : 2011:05:11 19:43:21.00
Flash : On, Return not detected
Circle Of Confusion : 0.020 mm
Depth Of Field : 0.81 m (3.62 - 4.43 m)
Field Of View : 19.5 deg
Focal Length : 70.0 mm (35 mm equivalent: 105.0 mm)
Hyperfocal Distance : 38.83 m
Light Value : 12.6
Lens ID : AF-S Nikkor 70-200mm f/2.8G ED VR II