Uber Exif Photo
Make : NIKON CORPORATION
Camera Model Name : NIKON D5000
Software : Ver.1.00
Modify Date : 2011:05:26 02:11:34
Exposure Time : 1/30
F Number : 6.3
Exposure Program : Manual
ISO : 100
Date/Time Original : 2011:05:26 01:08:34
Create Date : 2011:05:26 01:08:34
Shutter Speed Value : 1/30
Aperture Value : 6.3
Exposure Compensation : 0
Max Aperture Value : 5.7
Subject Distance : 0.32 m
Metering Mode : Multi-segment
Light Source : Unknown
Focal Length : 55.0 mm
User Comment : Abdul Basit [abdulbasit17@gmail.com]
Sensing Method : One-chip color area
Scene Type : Directly photographed
CFA Pattern : [Green,Blue][Red,Green]
Custom Rendered : Normal
Exposure Mode : Manual
White Balance : Auto
Digital Zoom Ratio : 1
Focal Length In 35mm Format : 82 mm
Scene Capture Type : Standard
Gain Control : None
Contrast : Normal
Saturation : Normal
Sharpness : Hard
Subject Distance Range : Unknown
Profile Description : sRGB IEC61966-2.1
Date/Time Digitized : 2011:05:26 01:08:34.00+06:00
Exif Image Width : 1506
Exif Image Height : 1078
Creator Tool : Adobe Photoshop Lightroom
Serial Number : 2178359
Lens Info : 18-55mm f/3.5-5.6
Lens : 18.0-55.0 mm f/3.5-5.6
Image Number : 9880
Version : 6.1
Process Version : 5.7
Incremental Temperature : +6
Incremental Tint : 0
Exposure : +0.51
Shadows : 6
Brightness : 0
Luminance Smoothing : 0
Color Noise Reduction : 0
Chromatic Aberration R : 0
Chromatic Aberration B : 0
Vignette Amount : -69
Vignette Midpoint : 17
Shadow Tint : 0
Red Hue : +49
Red Saturation : 0
Green Hue : +46
Green Saturation : 0
Blue Hue : -44
Blue Saturation : +33
Fill Light : 0
Vibrance : +20
Highlight Recovery : 0
Clarity : +100
Defringe : 0
Hue Adjustment Red : 0
Hue Adjustment Orange : -2
Hue Adjustment Yellow : 0
Hue Adjustment Green : 0
Hue Adjustment Aqua : 0
Hue Adjustment Blue : 0
Hue Adjustment Purple : +5
Hue Adjustment Magenta : +9
Saturation Adjustment Red : -12
Saturation Adjustment Orange : -12
Saturation Adjustment Yellow : -13
Saturation Adjustment Green : -14
Saturation Adjustment Aqua : -14
Saturation Adjustment Blue : -14
Saturation Adjustment Purple : -14
Saturation Adjustment Magenta : -14
Luminance Adjustment Red : 0
Luminance Adjustment Orange : 0
Luminance Adjustment Yellow : 0
Luminance Adjustment Green : 0
Luminance Adjustment Aqua : 0
Luminance Adjustment Blue : 0
Luminance Adjustment Purple : 0
Luminance Adjustment Magenta : 0
Split Toning Shadow Hue : 236
Split Toning Shadow Saturation : 31
Split Toning Highlight Hue : 78
Split Toning Highlight Saturation : 28
Split Toning Balance : 0
Parametric Shadows : 0
Parametric Darks : +52
Parametric Lights : 0
Parametric Highlights : 0
Parametric Shadow Split : 10
Parametric Midtone Split : 59
Parametric Highlight Split : 90
Sharpen Radius : +1.0
Sharpen Detail : 25
Sharpen Edge Masking : 91
Post Crop Vignette Amount : -35
Post Crop Vignette Midpoint : 50
Post Crop Vignette Feather : 50
Post Crop Vignette Roundness : 0
Post Crop Vignette Style : Highlight Priority
Post Crop Vignette Highlight Contrast : 0
Grain Amount : 0
Lens Profile Enable : 0
Lens Manual Distortion Amount : 0
Perspective Vertical : 0
Perspective Horizontal : 0
Perspective Rotate : 0.0
Perspective Scale : 100
Convert To Grayscale : False
Tone Curve Name : Linear
Camera Profile : Embedded
Lens Profile Setup : LensDefaults
Has Settings : True
Crop Top : 0.219653
Crop Left : 0.255278
Crop Bottom : 0.598266
Crop Right : 0.606526
Crop Angle : 0
Crop Constrain To Warp : 0
Crop Width : 1506
Crop Height : 1078
Crop Unit : pixels
Has Crop : True
Already Applied : True
Flash Fired : False
Flash Return : No return detection
Flash Mode : Unknown
Flash Function : False
Flash Red Eye Mode : False
Tone Curve : 0, 0, 255, 255
Paint Correction What : Correction
Paint Correction Amount : 1.000000
Paint Correction Active : true
Paint Correction Exposure : 0.250000
Paint Correction Saturation : 0.000000
Paint Correction Contrast : 0.000000
Paint Correction Clarity : 0.000000
Paint Correction Sharpness : 0.000000
Paint Correction Brightness : 0.000000
Paint Correction Toning Hue : 0.000000
Paint Correction Toning Saturation : 0.000000
Paint Correction Mask What : Mask/Paint
Paint Correction Mask Value : 1.000000
Paint Correction Mask Radius : 0.038496
Paint Correction Mask Flow : 1.000000
Paint Correction Mask Center Weight : 0.000000
Image Width : 300
Image Height : 215
Bits Per Sample : 8
Color Components : 3
Aperture : 6.3
Image Size : 300x215
Megapixels : 0.065
Scale Factor To 35 mm Equivalent : 1.5
Shutter Speed : 1/30
Create Date : 2011:05:26 01:08:34.00
Date/Time Original : 2011:05:26 01:08:34.00
Flash : No Flash
Circle Of Confusion : 0.020 mm
Depth Of Field : 0.007 m (0.316 - 0.324 m)
Field Of View : 24.8 deg
Focal Length : 55.0 mm (35 mm equivalent: 82.0 mm)
Hyperfocal Distance : 23.83 m
Light Value : 10.2
Lens ID : AF-S DX VR Zoom-Nikkor 18-55mm f/3.5-5.6G