Uber Exif Photo
Keywords : AF-S NIKKOR 24-70mm f/2.8G ED (2.9x), Bee, Flowers, Nikon D3s, Switzerland, Weigela
By-line : DraculRO
Copyright Notice : Copyright 2011 Draculro
Make : NIKON CORPORATION
Camera Model Name : NIKON D3S
Software : Adobe Photoshop Lightroom 3.4
Modify Date : 2011:05:14 17:58:51
Artist : DraculRO
Copyright : Copyright 2011 Draculro
Exposure Time : 1/800
F Number : 5.0
Exposure Program : Aperture-priority AE
ISO : 200
Date/Time Original : 2011:05:10 18:12:05
Create Date : 2011:05:10 18:12:05
Shutter Speed Value : 1/800
Aperture Value : 5.0
Exposure Compensation : +2/3
Max Aperture Value : 2.8
Subject Distance : 0.5 m
Metering Mode : Multi-segment
Light Source : Unknown
Flash : No Flash
Focal Length : 70.0 mm
Sensing Method : One-chip color area
Scene Type : Directly photographed
CFA Pattern : [Red,Green][Green,Blue]
Custom Rendered : Normal
Exposure Mode : Auto
White Balance : Auto
Digital Zoom Ratio : 1
Focal Length In 35mm Format : 70 mm
Scene Capture Type : Standard
Gain Control : None
Contrast : Normal
Saturation : Normal
Sharpness : Hard
Subject Distance Range : Unknown
Serial Number : 2026054
Lens Info : 24-70mm f/2.8
Lens Model : 24.0-70.0 mm f/2.8
Profile Description : sRGB IEC61966-2.1
Creator Tool : Adobe Photoshop Lightroom 3.4
Lens : 24.0-70.0 mm f/2.8
Image Number : 11851
Approximate Focus Distance : 0.5
Date Created : 2011:05:10 18:12:05.41
Version : 6.4
Process Version : 5.7
Color Temperature : 4450
Tint : +6
Exposure : -0.14
Shadows : 5
Brightness : +50
Luminance Smoothing : 0
Color Noise Reduction : 25
Chromatic Aberration R : 0
Chromatic Aberration B : 0
Vignette Amount : 0
Shadow Tint : 0
Red Hue : 0
Red Saturation : 0
Green Hue : 0
Green Saturation : 0
Blue Hue : 0
Blue Saturation : 0
Fill Light : 0
Vibrance : 0
Highlight Recovery : 0
Clarity : +26
Defringe : 0
Hue Adjustment Red : 0
Hue Adjustment Orange : 0
Hue Adjustment Yellow : 0
Hue Adjustment Green : 0
Hue Adjustment Aqua : 0
Hue Adjustment Blue : 0
Hue Adjustment Purple : 0
Hue Adjustment Magenta : 0
Saturation Adjustment Red : 0
Saturation Adjustment Orange : 0
Saturation Adjustment Yellow : -18
Saturation Adjustment Green : 0
Saturation Adjustment Aqua : 0
Saturation Adjustment Blue : 0
Saturation Adjustment Purple : 0
Saturation Adjustment Magenta : 0
Luminance Adjustment Red : 0
Luminance Adjustment Orange : 0
Luminance Adjustment Yellow : -23
Luminance Adjustment Green : 0
Luminance Adjustment Aqua : 0
Luminance Adjustment Blue : 0
Luminance Adjustment Purple : 0
Luminance Adjustment Magenta : 0
Split Toning Shadow Hue : 0
Split Toning Shadow Saturation : 0
Split Toning Highlight Hue : 0
Split Toning Highlight Saturation : 0
Split Toning Balance : 0
Parametric Shadows : 0
Parametric Darks : 0
Parametric Lights : 0
Parametric Highlights : 0
Parametric Shadow Split : 25
Parametric Midtone Split : 50
Parametric Highlight Split : 75
Sharpen Radius : +1.0
Sharpen Detail : 25
Sharpen Edge Masking : 0
Post Crop Vignette Amount : 0
Grain Amount : 0
Color Noise Reduction Detail : 50
Lens Profile Enable : 0
Lens Manual Distortion Amount : 0
Perspective Vertical : 0
Perspective Horizontal : 0
Perspective Rotate : 0.0
Perspective Scale : 100
Convert To Grayscale : False
Tone Curve Name : Medium Contrast
Camera Profile : Adobe Standard
Lens Profile Setup : LensDefaults
Has Settings : True
Crop Top : 0.356115
Crop Left : 0.421388
Crop Bottom : 0.641487
Crop Right : 0.561053
Crop Angle : 0
Crop Constrain To Warp : 0
Crop Width : 441
Crop Height : 600
Crop Unit : pixels
Has Crop : True
Already Applied : True
Creator : DraculRO
Rights : Copyright 2011 Draculro
Subject : AF-S NIKKOR 24-70mm f/2.8G ED (2.9x), Bee, Flowers, Nikon D3s, Switzerland, Weigela
Hierarchical Subject : AF-S NIKKOR 24-70mm f/2.8G ED (2.9x), Bee, Flowers, Nikon D3s, Switzerland, Weigela
Tone Curve : 0, 0, 32, 22, 64, 56, 128, 128, 192, 196, 255, 255
Image Width : 221
Image Height : 300
Bits Per Sample : 8
Color Components : 3
Aperture : 5.0
Image Size : 221x300
Megapixels : 0.066
Scale Factor To 35 mm Equivalent : 1.0
Shutter Speed : 1/800
Create Date : 2011:05:10 18:12:05.41
Date/Time Original : 2011:05:10 18:12:05.41
Circle Of Confusion : 0.030 mm
Depth Of Field : 0.013 m (0.493 - 0.507 m)
Field Of View : 28.8 deg
Focal Length : 70.0 mm (35 mm equivalent: 70.0 mm)
Hyperfocal Distance : 32.62 m
Light Value : 13.3
Lens ID : AF-S Zoom-Nikkor 24-70mm f/2.8G ED