Uber Exif Photo
Make : NIKON CORPORATION
Camera Model Name : NIKON D3100
Software : Adobe Photoshop Lightroom 3.4.1
Modify Date : 2011:06:06 10:38:31
Exposure Time : 1/200
F Number : 6.0
Exposure Program : Shutter speed priority AE
ISO : 400
Date/Time Original : 2012:01:01 23:38:01
Create Date : 2012:01:01 23:38:01
Shutter Speed Value : 1/200
Aperture Value : 6.0
Exposure Compensation : -5/3
Max Aperture Value : 6.1
Subject Distance : 1.12 m
Metering Mode : Multi-segment
Light Source : Fine Weather
Flash : On, Return detected
Focal Length : 135.0 mm
Sensing Method : One-chip color area
Scene Type : Directly photographed
CFA Pattern : [Green,Blue][Red,Green]
Custom Rendered : Normal
Exposure Mode : Auto
White Balance : Manual
Digital Zoom Ratio : 1
Focal Length In 35mm Format : 202 mm
Scene Capture Type : Standard
Gain Control : Low gain up
Contrast : Normal
Saturation : Normal
Sharpness : Hard
Subject Distance Range : Unknown
Serial Number : 3046464
Lens Info : 18-250mm f/3.5-6.3
Lens Model : 18.0-250.0 mm f/3.5-6.3
Creator Tool : Adobe Photoshop Lightroom 3.4.1
Lens : 18.0-250.0 mm f/3.5-6.3
Image Number : 18189
Approximate Focus Distance : 1.12
Date Created : 2012:01:01 23:38:01.90
Version : 6.4.1
Process Version : 5.7
Incremental Temperature : +21
Incremental Tint : -1
Exposure : 0.00
Shadows : 47
Brightness : +50
Luminance Smoothing : 0
Color Noise Reduction : 25
Chromatic Aberration R : 0
Chromatic Aberration B : 0
Vignette Amount : 0
Shadow Tint : 0
Red Hue : 0
Red Saturation : 0
Green Hue : 0
Green Saturation : 0
Blue Hue : 0
Blue Saturation : 0
Fill Light : 30
Vibrance : +49
Highlight Recovery : 53
Clarity : +63
Defringe : 0
Hue Adjustment Red : 0
Hue Adjustment Orange : 0
Hue Adjustment Yellow : 0
Hue Adjustment Green : 0
Hue Adjustment Aqua : 0
Hue Adjustment Blue : 0
Hue Adjustment Purple : 0
Hue Adjustment Magenta : 0
Saturation Adjustment Red : 0
Saturation Adjustment Orange : 0
Saturation Adjustment Yellow : 0
Saturation Adjustment Green : 0
Saturation Adjustment Aqua : 0
Saturation Adjustment Blue : 0
Saturation Adjustment Purple : 0
Saturation Adjustment Magenta : 0
Luminance Adjustment Red : 0
Luminance Adjustment Orange : 0
Luminance Adjustment Yellow : 0
Luminance Adjustment Green : -4
Luminance Adjustment Aqua : 0
Luminance Adjustment Blue : +7
Luminance Adjustment Purple : 0
Luminance Adjustment Magenta : 0
Split Toning Shadow Hue : 0
Split Toning Shadow Saturation : 0
Split Toning Highlight Hue : 0
Split Toning Highlight Saturation : 0
Split Toning Balance : 0
Parametric Shadows : +19
Parametric Darks : -15
Parametric Lights : -65
Parametric Highlights : -10
Parametric Shadow Split : 25
Parametric Midtone Split : 50
Parametric Highlight Split : 75
Sharpen Radius : +1.0
Sharpen Detail : 25
Sharpen Edge Masking : 0
Post Crop Vignette Amount : 0
Grain Amount : 0
Color Noise Reduction Detail : 50
Lens Profile Enable : 0
Lens Manual Distortion Amount : 0
Perspective Vertical : 0
Perspective Horizontal : 0
Perspective Rotate : 0.0
Perspective Scale : 100
Convert To Grayscale : False
Tone Curve Name : Medium Contrast
Camera Profile : Embedded
Lens Profile Setup : LensDefaults
Has Settings : True
Has Crop : False
Already Applied : True
Tone Curve : 0, 0, 32, 22, 64, 56, 128, 128, 192, 196, 255, 255
Image Width : 300
Image Height : 200
Bits Per Sample : 8
Color Components : 1
Aperture : 6.0
Image Size : 300x200
Megapixels : 0.060
Scale Factor To 35 mm Equivalent : 1.5
Shutter Speed : 1/200
Create Date : 2012:01:01 23:38:01.90
Date/Time Original : 2012:01:01 23:38:01.90
Circle Of Confusion : 0.020 mm
Depth Of Field : 0.015 m (1.113 - 1.127 m)
Field Of View : 10.2 deg
Focal Length : 135.0 mm (35 mm equivalent: 202.0 mm)
Hyperfocal Distance : 151.27 m
Light Value : 10.8
Lens ID : Sigma 18-250mm F3.5-6.3 DC OS HSM