Uber Exif Photo
Keywords : Asia, B&W, Black & White, Japan, Kyoto, Nikkor 50 1.2, Nikon D200, people, street, urban, ストレート, 丹波橋, 京都, 日本
Make : NIKON CORPORATION
Camera Model Name : NIKON D200
Software : Adobe Photoshop Lightroom 3.4.1
Modify Date : 2011:06:07 20:16:38
Exposure Time : 1/250
F Number : 4.0
Exposure Program : Aperture-priority AE
ISO : 250
Date/Time Original : 2011:05:30 05:30:37
Create Date : 2011:05:30 05:30:37
Shutter Speed Value : 1/250
Aperture Value : 4.0
Exposure Compensation : +1/3
Max Aperture Value : 1.0
Metering Mode : Multi-segment
Light Source : Unknown
Flash : No Flash
Focal Length : 50.0 mm
Sensing Method : One-chip color area
Scene Type : Directly photographed
CFA Pattern : [Green,Red][Blue,Green]
Custom Rendered : Normal
Exposure Mode : Auto
White Balance : Auto
Digital Zoom Ratio : 1
Focal Length In 35mm Format : 75 mm
Scene Capture Type : Standard
Gain Control : None
Contrast : Normal
Saturation : Normal
Sharpness : Hard
Subject Distance Range : Unknown
Lens Info : 0mm f/0
Lens Model : 0.0 mm f/0.0
Creator Tool : Adobe Photoshop Lightroom 3.4.1
Lens : 0.0 mm f/0.0
Image Number : 59326
Date Created : 2011:05:30 05:30:37.08
Version : 6.4.1
Process Version : 5.7
Color Temperature : 6500
Tint : +10
Exposure : -0.68
Shadows : 41
Brightness : +85
Luminance Smoothing : 0
Color Noise Reduction : 25
Chromatic Aberration R : 0
Chromatic Aberration B : 0
Vignette Amount : 0
Shadow Tint : 0
Red Hue : 0
Red Saturation : 0
Green Hue : 0
Green Saturation : 0
Blue Hue : 0
Blue Saturation : 0
Fill Light : 31
Highlight Recovery : 10
Clarity : +7
Defringe : 0
Gray Mixer Red : 0
Gray Mixer Orange : -20
Gray Mixer Yellow : +35
Gray Mixer Green : -25
Gray Mixer Aqua : -17
Gray Mixer Blue : -8
Gray Mixer Purple : +8
Gray Mixer Magenta : -6
Split Toning Shadow Hue : 0
Split Toning Shadow Saturation : 0
Split Toning Highlight Hue : 0
Split Toning Highlight Saturation : 0
Split Toning Balance : 0
Parametric Shadows : 0
Parametric Darks : 0
Parametric Lights : 0
Parametric Highlights : 0
Parametric Shadow Split : 25
Parametric Midtone Split : 50
Parametric Highlight Split : 75
Sharpen Radius : +1.0
Sharpen Detail : 25
Sharpen Edge Masking : 0
Post Crop Vignette Amount : -16
Post Crop Vignette Midpoint : 50
Post Crop Vignette Feather : 50
Post Crop Vignette Roundness : 0
Post Crop Vignette Style : Highlight Priority
Post Crop Vignette Highlight Contrast : 7
Grain Amount : 0
Color Noise Reduction Detail : 50
Lens Profile Enable : 0
Lens Manual Distortion Amount : 0
Perspective Vertical : 0
Perspective Horizontal : 0
Perspective Rotate : 0.0
Perspective Scale : 100
Convert To Grayscale : True
Tone Curve Name : Medium Contrast
Camera Profile : Adobe Standard
Lens Profile Setup : Custom
Lens Profile Name : Adobe (Nikon COOLPIX P6000)
Lens Profile Filename : COOLPIX P6000 (Nikon 6-24mm f2.7-5.9) - RAW.lcp
Lens Profile Distortion Scale : 100
Lens Profile Chromatic Aberration Scale : 100
Lens Profile Vignetting Scale : 100
Has Settings : True
Has Crop : False
Already Applied : True
Subject : Asia, B&W, Black & White, Japan, Kyoto, Nikkor 50 1.2, Nikon D200, people, street, urban, ストレート, 丹波橋, 京都, 日本
Tone Curve : 0, 0, 32, 22, 64, 56, 128, 128, 192, 196, 255, 255
Image Width : 300
Image Height : 201
Bits Per Sample : 8
Color Components : 1
Aperture : 4.0
Image Size : 300x201
Megapixels : 0.060
Scale Factor To 35 mm Equivalent : 1.5
Shutter Speed : 1/250
Create Date : 2011:05:30 05:30:37.08
Date/Time Original : 2011:05:30 05:30:37.08
Circle Of Confusion : 0.020 mm
Field Of View : 27.0 deg
Focal Length : 50.0 mm (35 mm equivalent: 75.0 mm)
Hyperfocal Distance : 31.20 m
Light Value : 10.6
Lens ID : 0.0mm f/0.0